BEGIN:VCALENDAR
VERSION:2.0
PRODID:-//Wake County Democratic Party - ECPv6.15.20//NONSGML v1.0//EN
CALSCALE:GREGORIAN
METHOD:PUBLISH
X-WR-CALNAME:Wake County Democratic Party
X-ORIGINAL-URL:https://www.wakedems.org
X-WR-CALDESC:Events for Wake County Democratic Party
REFRESH-INTERVAL;VALUE=DURATION:PT1H
X-Robots-Tag:noindex
X-PUBLISHED-TTL:PT1H
BEGIN:VTIMEZONE
TZID:America/New_York
BEGIN:DAYLIGHT
TZOFFSETFROM:-0500
TZOFFSETTO:-0400
TZNAME:EDT
DTSTART:20230312T070000
END:DAYLIGHT
BEGIN:STANDARD
TZOFFSETFROM:-0400
TZOFFSETTO:-0500
TZNAME:EST
DTSTART:20231105T060000
END:STANDARD
BEGIN:DAYLIGHT
TZOFFSETFROM:-0500
TZOFFSETTO:-0400
TZNAME:EDT
DTSTART:20240310T070000
END:DAYLIGHT
BEGIN:STANDARD
TZOFFSETFROM:-0400
TZOFFSETTO:-0500
TZNAME:EST
DTSTART:20241103T060000
END:STANDARD
BEGIN:DAYLIGHT
TZOFFSETFROM:-0500
TZOFFSETTO:-0400
TZNAME:EDT
DTSTART:20250309T070000
END:DAYLIGHT
BEGIN:STANDARD
TZOFFSETFROM:-0400
TZOFFSETTO:-0500
TZNAME:EST
DTSTART:20251102T060000
END:STANDARD
BEGIN:DAYLIGHT
TZOFFSETFROM:-0500
TZOFFSETTO:-0400
TZNAME:EDT
DTSTART:20260308T070000
END:DAYLIGHT
BEGIN:STANDARD
TZOFFSETFROM:-0400
TZOFFSETTO:-0500
TZNAME:EST
DTSTART:20261101T060000
END:STANDARD
BEGIN:DAYLIGHT
TZOFFSETFROM:-0500
TZOFFSETTO:-0400
TZNAME:EDT
DTSTART:20270314T070000
END:DAYLIGHT
BEGIN:STANDARD
TZOFFSETFROM:-0400
TZOFFSETTO:-0500
TZNAME:EST
DTSTART:20271107T060000
END:STANDARD
END:VTIMEZONE
BEGIN:VEVENT
DTSTART;TZID=America/New_York:20260131T140000
DTEND;TZID=America/New_York:20260131T150000
DTSTAMP:20260422T045731
CREATED:20260127T005728Z
LAST-MODIFIED:20260127T212556Z
UID:10007935-1769868000-1769871600@www.wakedems.org
SUMMARY:Postcard Writing in Knightdale
DESCRIPTION:Join us for a fun postcard writing event! We will sip on coffee and write postcards to encourage new folks in our area to get involved in the Democratic Party! Everyone welcome to join us no matter where you live! Email ritarakestraw6@gmail.com or brandibrown.wcdp@gmail.com to RSVP
URL:https://www.wakedems.org/wcdp-event/postcard-writing-in-knightdale/
LOCATION:Cake Town Bakery\, 903 Smithfield Road\, Knightdale\, 27545
CATEGORIES:Affiliate Meetings & Events
ATTACH;FMTTYPE=image/jpeg:https://www.wakedems.org/wp-content/uploads/2023/08/PostcardWriting3.jpg
ORGANIZER;CN="Rita Rakestraw":MAILTO:ritarakestraw6@gmail.com
END:VEVENT
BEGIN:VEVENT
DTSTART;TZID=America/New_York:20250916T180000
DTEND;TZID=America/New_York:20250916T193000
DTSTAMP:20260422T045731
CREATED:20250815T164625Z
LAST-MODIFIED:20250815T164626Z
UID:10006517-1758045600-1758051000@www.wakedems.org
SUMMARY:Knightdale Democrats Social
DESCRIPTION:Meet with other Knightdale Democrats to get to know each other and schedule opportunities for voter outreach. We will be at an outdoor table with a blue tablecloth.
URL:https://www.wakedems.org/wcdp-event/knightdale-democrats-social-2/2025-09-16/
LOCATION:Location will be provided to registered attendees
CATEGORIES:Area Meetings & Events,Social Event
ATTACH;FMTTYPE=image/jpeg:https://www.wakedems.org/wp-content/uploads/2023/08/SocialEvent2.jpg
ORGANIZER;CN="Brandi Brown":MAILTO:brandibrown.wcdp@gmail.com
END:VEVENT
BEGIN:VEVENT
DTSTART;TZID=America/New_York:20250819T180000
DTEND;TZID=America/New_York:20250819T193000
DTSTAMP:20260422T045731
CREATED:20250815T164625Z
LAST-MODIFIED:20250815T164626Z
UID:10006516-1755626400-1755631800@www.wakedems.org
SUMMARY:Knightdale Democrats Social
DESCRIPTION:Meet with other Knightdale Democrats to get to know each other and schedule opportunities for voter outreach. We will be at an outdoor table with a blue tablecloth.
URL:https://www.wakedems.org/wcdp-event/knightdale-democrats-social-2/2025-08-19/
LOCATION:Location will be provided to registered attendees
CATEGORIES:Area Meetings & Events,Social Event
ATTACH;FMTTYPE=image/jpeg:https://www.wakedems.org/wp-content/uploads/2023/08/SocialEvent2.jpg
ORGANIZER;CN="Brandi Brown":MAILTO:brandibrown.wcdp@gmail.com
END:VEVENT
BEGIN:VEVENT
DTSTART;TZID=America/New_York:20250715T180000
DTEND;TZID=America/New_York:20250715T193000
DTSTAMP:20260422T045731
CREATED:20250517T173730Z
LAST-MODIFIED:20250517T184214Z
UID:10006515-1752602400-1752607800@www.wakedems.org
SUMMARY:Knightdale Democrats Social
DESCRIPTION:Meet with other Knightdale Democrats to get to know each other and schedule opportunities for voter outreach. We will be at an outdoor table with a blue tablecloth.
URL:https://www.wakedems.org/wcdp-event/knightdale-democrats-social/2025-07-15/
LOCATION:Location will be provided to registered attendees
CATEGORIES:Area Meetings & Events,Social Event
ATTACH;FMTTYPE=image/jpeg:https://www.wakedems.org/wp-content/uploads/2023/08/SocialEvent2.jpg
ORGANIZER;CN="Brandi Brown":MAILTO:brandibrown.wcdp@gmail.com
END:VEVENT
BEGIN:VEVENT
DTSTART;TZID=America/New_York:20250617T180000
DTEND;TZID=America/New_York:20250617T193000
DTSTAMP:20260422T045731
CREATED:20250517T173730Z
LAST-MODIFIED:20250517T184214Z
UID:10006514-1750183200-1750188600@www.wakedems.org
SUMMARY:Knightdale Democrats Social
DESCRIPTION:Meet with other Knightdale Democrats to get to know each other and schedule opportunities for voter outreach. We will be at an outdoor table with a blue tablecloth.
URL:https://www.wakedems.org/wcdp-event/knightdale-democrats-social/2025-06-17/
LOCATION:Location will be provided to registered attendees
CATEGORIES:Area Meetings & Events,Social Event
ATTACH;FMTTYPE=image/jpeg:https://www.wakedems.org/wp-content/uploads/2023/08/SocialEvent2.jpg
ORGANIZER;CN="Brandi Brown":MAILTO:brandibrown.wcdp@gmail.com
END:VEVENT
BEGIN:VEVENT
DTSTART;TZID=America/New_York:20250602T180000
DTEND;TZID=America/New_York:20250602T193000
DTSTAMP:20260422T045731
CREATED:20250527T195151Z
LAST-MODIFIED:20250527T195151Z
UID:10006525-1748887200-1748892600@www.wakedems.org
SUMMARY:LGBTQ+ Dems of Wake Board Meeting
DESCRIPTION:The LGBTQ+ Democrats of Wake County will be hosting its monthly board meeting. All registered Democrats are invited to attend. Agenda items include discussing policy issues and planning a summer event. A Zoom link will be sent to all who register on the morning of the meeting. Questions can be sent to admin@lgbtqdemsofwake.com.
URL:https://www.wakedems.org/wcdp-event/lgbtq-dems-of-wake-board-meeting/
LOCATION:Zoom
CATEGORIES:Affiliate Meetings & Events
ATTACH;FMTTYPE=image/png:https://www.wakedems.org/wp-content/uploads/2023/07/WK-copies-mockup.png
ORGANIZER;CN="Brandi Brown":MAILTO:brandibrown.wcdp@gmail.com
END:VEVENT
BEGIN:VEVENT
DTSTART;TZID=America/New_York:20250510T130000
DTEND;TZID=America/New_York:20250510T143000
DTSTAMP:20260422T045731
CREATED:20250413T165415Z
LAST-MODIFIED:20250413T165415Z
UID:10006334-1746882000-1746887400@www.wakedems.org
SUMMARY:Knightdale Area Dems Social & Planning
DESCRIPTION:Join the Knightdale area Democrats as we get to know each other and grow our number of active participants. Like-minded unaffiliated folks are always welcome! Light snacks will be provided. We will write postcards to new voters and plan for the 2nd half of the year. \n  \nThe entrance to the park is at the back corner of the East Regional Library. \n 
URL:https://www.wakedems.org/wcdp-event/knightdale-area-dems-social-planning/
LOCATION:Knightdale Environmental Park\, 1385 N. Smithfield Road\, Knightdale\, NC\, 27545\, United States
CATEGORIES:Area Meetings & Events
ATTACH;FMTTYPE=image/jpeg:https://www.wakedems.org/wp-content/uploads/2023/08/SocialEvent3.jpg
ORGANIZER;CN="Brandi Brown":MAILTO:brandibrown.wcdp@gmail.com
END:VEVENT
BEGIN:VEVENT
DTSTART;TZID=America/New_York:20250412T120000
DTEND;TZID=America/New_York:20250412T133000
DTSTAMP:20260422T045731
CREATED:20250327T115156Z
LAST-MODIFIED:20250327T125004Z
UID:10006267-1744459200-1744464600@www.wakedems.org
SUMMARY:Knightdale Democrats Meet & Greet
DESCRIPTION:Join Democrats in the Knightdale area for a casual meet and greet to get to know other like-minded people in our area. There will be a limited discussion of planning other events throughout the year\, but the primary purpose is as a social event. \nLocation information will be shared with registered attendees.
URL:https://www.wakedems.org/wcdp-event/knightdale-democrats-meet-greet/
LOCATION:Location will be provided to registered attendees
CATEGORIES:Area Meetings & Events
ATTACH;FMTTYPE=image/jpeg:https://www.wakedems.org/wp-content/uploads/2023/08/SocialEvent3.jpg
ORGANIZER;CN="Brandi Brown":MAILTO:brandibrown.wcdp@gmail.com
END:VEVENT
BEGIN:VEVENT
DTSTART;TZID=America/New_York:20240406T100000
DTEND;TZID=America/New_York:20240406T170000
DTSTAMP:20260422T045731
CREATED:20240315T155230Z
LAST-MODIFIED:20240315T155406Z
UID:10003278-1712397600-1712422800@www.wakedems.org
SUMMARY:Knightdale Canvassing for Precinct Building
DESCRIPTION:Knightdale area Democrats will be canvassing throughout April to help build our precincts. Join us at the picnic shelter at Harper Park at 10 AM to get instructions and literature. All doors knocked will be registered Democrats. \nIf you’d like to canvass or lit drop in April but can’t make it to the launch\, email knightdale.acs@wakedems.org to set up a literature pickup.
URL:https://www.wakedems.org/wcdp-event/knightdale-canvassing-for-precinct-building/
LOCATION:Harper Park\, 207 Main St.\, Knightdale\, 27545
CATEGORIES:Canvass,Lit Drop
ATTACH;FMTTYPE=image/jpeg:https://www.wakedems.org/wp-content/uploads/2023/08/Canvass2.jpg
ORGANIZER;CN="Brandi Brown":MAILTO:brandibrown.wcdp@gmail.com
END:VEVENT
BEGIN:VEVENT
DTSTART;TZID=America/New_York:20240323T113000
DTEND;TZID=America/New_York:20240323T123000
DTSTAMP:20260422T045731
CREATED:20240312T195402Z
LAST-MODIFIED:20240312T195402Z
UID:10003265-1711193400-1711197000@www.wakedems.org
SUMMARY:Postcard Writing Party
DESCRIPTION:Join Democrats from Knightdale as we write postcards to newly registered voters. Postcards\, labels\, and stamps will be provided (though donations of stamps are always welcome). Just plan to show up\, grab a coffee\, and start writing.
URL:https://www.wakedems.org/wcdp-event/postcard-writing-party-3/
LOCATION:Cake Town Bakery\, 903 Smithfield Road\, Knightdale\, 27545
CATEGORIES:Postcard Writing
ATTACH;FMTTYPE=image/jpeg:https://www.wakedems.org/wp-content/uploads/2023/08/PostcardWriting1.jpg
ORGANIZER;CN="Brandi Brown":MAILTO:brandibrown.wcdp@gmail.com
END:VEVENT
END:VCALENDAR