BEGIN:VCALENDAR
VERSION:2.0
PRODID:-//Wake County Democratic Party - ECPv6.15.20//NONSGML v1.0//EN
CALSCALE:GREGORIAN
METHOD:PUBLISH
X-WR-CALNAME:Wake County Democratic Party
X-ORIGINAL-URL:https://www.wakedems.org
X-WR-CALDESC:Events for Wake County Democratic Party
REFRESH-INTERVAL;VALUE=DURATION:PT1H
X-Robots-Tag:noindex
X-PUBLISHED-TTL:PT1H
BEGIN:VTIMEZONE
TZID:America/New_York
BEGIN:DAYLIGHT
TZOFFSETFROM:-0500
TZOFFSETTO:-0400
TZNAME:EDT
DTSTART:20230312T070000
END:DAYLIGHT
BEGIN:STANDARD
TZOFFSETFROM:-0400
TZOFFSETTO:-0500
TZNAME:EST
DTSTART:20231105T060000
END:STANDARD
BEGIN:DAYLIGHT
TZOFFSETFROM:-0500
TZOFFSETTO:-0400
TZNAME:EDT
DTSTART:20240310T070000
END:DAYLIGHT
BEGIN:STANDARD
TZOFFSETFROM:-0400
TZOFFSETTO:-0500
TZNAME:EST
DTSTART:20241103T060000
END:STANDARD
BEGIN:DAYLIGHT
TZOFFSETFROM:-0500
TZOFFSETTO:-0400
TZNAME:EDT
DTSTART:20250309T070000
END:DAYLIGHT
BEGIN:STANDARD
TZOFFSETFROM:-0400
TZOFFSETTO:-0500
TZNAME:EST
DTSTART:20251102T060000
END:STANDARD
BEGIN:DAYLIGHT
TZOFFSETFROM:-0500
TZOFFSETTO:-0400
TZNAME:EDT
DTSTART:20260308T070000
END:DAYLIGHT
BEGIN:STANDARD
TZOFFSETFROM:-0400
TZOFFSETTO:-0500
TZNAME:EST
DTSTART:20261101T060000
END:STANDARD
BEGIN:DAYLIGHT
TZOFFSETFROM:-0500
TZOFFSETTO:-0400
TZNAME:EDT
DTSTART:20270314T070000
END:DAYLIGHT
BEGIN:STANDARD
TZOFFSETFROM:-0400
TZOFFSETTO:-0500
TZNAME:EST
DTSTART:20271107T060000
END:STANDARD
END:VTIMEZONE
BEGIN:VEVENT
DTSTART;TZID=America/New_York:20260207T103000
DTEND;TZID=America/New_York:20260207T130000
DTSTAMP:20260421T112311
CREATED:20260126T221735Z
LAST-MODIFIED:20260126T221735Z
UID:10007933-1770460200-1770469200@www.wakedems.org
SUMMARY:Glenwood Area PAM Canvass
DESCRIPTION:Join Glenwood Area as we canvass some of our area precincts to invite our Democrat neighbors to join us for PAM meetings. Bring comfortable shoes\, water\, and dress appropriately for the weather! We will meet for a short training session before heading out to canvass.
URL:https://www.wakedems.org/wcdp-event/glenwood-area-pam-canvass/
LOCATION:Location will be provided to registered attendees
CATEGORIES:Canvass
ATTACH;FMTTYPE=image/jpeg:https://www.wakedems.org/wp-content/uploads/2023/08/Canvass1.jpg
ORGANIZER;CN="Glenwood Area Coordinators":MAILTO:glenwood.acs@wakedems.org
END:VEVENT
BEGIN:VEVENT
DTSTART;TZID=America/New_York:20260204T183000
DTEND;TZID=America/New_York:20260204T200000
DTSTAMP:20260421T112311
CREATED:20251221T164527Z
LAST-MODIFIED:20251221T164527Z
UID:10007630-1770229800-1770235200@www.wakedems.org
SUMMARY:Glenwood Area Bi-monthly Social
DESCRIPTION:Please join the Glenwood Area Democrats for a fun-filled evening of socializing and networking with fellow Democrats.  This month we will gear up for the primaries!  We are stronger together\, and better together. \nWhether you’re a long-time party member or new to the political scene\, this event is the perfect opportunity to connect with like-minded individuals\, share ideas\, and discuss important issues facing our community. \nNote: Location details will be e-mailed to those who sign up by the day before the event. Locale is convenient to N Raleigh\, and we encourage you to arrive at 6 to have more time to order and enjoy dinner if you’d like.
URL:https://www.wakedems.org/wcdp-event/glenwood-area-bi-monthly-social/
LOCATION:Will be shared with those who sign up
CATEGORIES:Area Meetings & Events,Social Event
ATTACH;FMTTYPE=image/jpeg:https://www.wakedems.org/wp-content/uploads/2023/08/SocialEvent3.jpg
ORGANIZER;CN="Glenwood Area Coordinators":MAILTO:glenwood.acs@wakedems.org
END:VEVENT
BEGIN:VEVENT
DTSTART;TZID=America/New_York:20260203T180000
DTEND;TZID=America/New_York:20260203T200000
DTSTAMP:20260421T112311
CREATED:20260126T215200Z
LAST-MODIFIED:20260126T215200Z
UID:10007932-1770141600-1770148800@www.wakedems.org
SUMMARY:GLENWOOD AREA Precinct Officers  CEC Watch/ PAM Lit Prep Party
DESCRIPTION:Glenwood Area Precinct Officers! Come join us for a CEC Watch/ PAM Lit prep party!! BYOD- Bring Your Own Device and Dinner. Have a snack or your dinner for yourself. We will be prepping PAM canvassing materials to increase attendance at your PAMs to keep our precincts organized\, and we will have the CEC meeting playing for all to hear\, but you must bring your own device to log in for voting for the CEC. RSVP for location details. Precinct Officers for Glenwood area only please. Contact the host with questions.
URL:https://www.wakedems.org/wcdp-event/glenwood-area-precinct-officers-cec-watch-pam-lit-prep-party/
LOCATION:Location will be provided to registered attendees
CATEGORIES:Area Meetings & Events
ATTACH;FMTTYPE=image/jpeg:https://www.wakedems.org/wp-content/uploads/2023/08/Meeting-Area.jpg
ORGANIZER;CN="Glenwood Area Coordinators":MAILTO:glenwood.acs@wakedems.org
END:VEVENT
BEGIN:VEVENT
DTSTART;TZID=America/New_York:20251202T183000
DTEND;TZID=America/New_York:20251202T200000
DTSTAMP:20260421T112311
CREATED:20251107T202757Z
LAST-MODIFIED:20251107T202757Z
UID:10007586-1764700200-1764705600@www.wakedems.org
SUMMARY:Glenwood Area Democrats- END OF YEAR SOCIAL
DESCRIPTION:Please join the Glenwood Area Democrats for a fun-filled evening of socializing and networking with fellow Democrats.  This month we will celebrate our resilience throughout the year as well as our amazing election victories! So let’s raise a glass\, have something to eat\, and enjoy some camaraderie as we finish out 2025. We are stronger together\, and better together. \nWhether you’re a long-time party member or new to the political scene\, this event is the perfect opportunity to connect with like-minded individuals\, share ideas\, and discuss important issues facing our community. \nSidenote: we are working on some special\, creative content for you\, so see you there! \n(Location details will be e-mailed to those who sign up prior to the event. Locale is convenient to N Raleigh but new to this group.  We encourage you to arrive at 6 to have more time to order and enjoy dinner if you’d like.)
URL:https://www.wakedems.org/wcdp-event/glenwood-area-democrats-end-of-year-social-2/
CATEGORIES:Area Meetings & Events
ATTACH;FMTTYPE=image/jpeg:https://www.wakedems.org/wp-content/uploads/2024/04/Community-Event-960x540-1.jpg
ORGANIZER;CN="Glenwood Area Coordinators":MAILTO:glenwood.acs@wakedems.org
END:VEVENT
BEGIN:VEVENT
DTSTART;TZID=America/New_York:20250626T173000
DTEND;TZID=America/New_York:20250626T200000
DTSTAMP:20260421T112311
CREATED:20250624T005447Z
LAST-MODIFIED:20250624T005447Z
UID:10006642-1750959000-1750968000@www.wakedems.org
SUMMARY:Glenwood Area Weeknight GOTO Canvass!
DESCRIPTION:We’ll be talking to Democrats and left leaning voters about the importance of being involved! There is much to respond to\, and building community is vital.   If you’re new to canvassing\, you’ll be paired with experienced\, friendly canvassers so this is a great way to try it out! There is no pressure\, and it feels great to connect with like minded folks in your area- see you there!
URL:https://www.wakedems.org/wcdp-event/glenwood-area-weeknight-goto-canvass/
LOCATION:Lake Lynn Community Center\, 7921 Ray Rd\, Raleigh\, 27613
CATEGORIES:Canvass
ATTACH;FMTTYPE=image/jpeg:https://www.wakedems.org/wp-content/uploads/2023/08/Canvass3.jpg
ORGANIZER;CN="Glenwood Area Coordinators":MAILTO:glenwood.acs@wakedems.org
END:VEVENT
BEGIN:VEVENT
DTSTART;TZID=America/New_York:20240727T093000
DTEND;TZID=America/New_York:20240727T120000
DTSTAMP:20260421T112311
CREATED:20240718T212040Z
LAST-MODIFIED:20240725T224331Z
UID:10004840-1722072600-1722081600@www.wakedems.org
SUMMARY:WCDP Canvass in Glenwood!
DESCRIPTION:📢 Attention all passionate Democrats! 📢 \nJoin Wake Dems for a ‘Get Out The Organization’ canvass launch! WCDP will be touring Wake County to host canvasses to grow our ranks and inform voters. \n🗓️ Date: Saturday\, July 27\n🕒 Time: 9:30\n📍 Location: Glenwood\n🏠 Address: Info provided in RSVP follow-up; will take place near Ray Rd. \nThis canvass will focus on connecting with base Democratic voters in under-organized areas of Wake County. We’ll recruit new volunteers and remind our voters about the importance of the 2024 election from the back of the ballot to the front. \nSo spread the word\, invite your friends\, and let’s show the power of democracy in action! \n🚨 Location information will be provided in RSVP follow-up 🚨 \nSee you there!
URL:https://www.wakedems.org/wcdp-event/wcdp-canvass-in-glenwood-2/
CATEGORIES:Canvass
ATTACH;FMTTYPE=image/png:https://www.wakedems.org/wp-content/uploads/revslider/static-card-live-12-00/FIELD.png
ORGANIZER;CN="Glenwood Area Coordinators":MAILTO:glenwood.acs@wakedems.org
END:VEVENT
BEGIN:VEVENT
DTSTART;TZID=America/New_York:20240110T190000
DTEND;TZID=America/New_York:20240110T210000
DTSTAMP:20260421T112311
CREATED:20231226T165608Z
LAST-MODIFIED:20260117T212934Z
UID:10007915-1704913200-1704920400@www.wakedems.org
SUMMARY:Glenwood Area Democrats Bi-Monthly Meet and Greet
DESCRIPTION:Come join us for a casual evening in the back room at the Chow Pizza Bar on Creedmoor Road in Raleigh! \nWhether you’re a long-time party member or new to the political scene\, this meet & greet is the perfect chance to network\, share ideas\, and discuss important issues. Get to know local political leaders\, activists\, and community advocates working hard to make a difference. \nEnjoy delicious food and drinks (on your own tab) while engaging in lively conversations about the topics that matter most to you. This is a casual gathering\, so feel free to bring friends and family along. ***We have invited all of the local candidates on the ballot for the upcoming primary election\, so come prepared to meet some of them!
URL:https://www.wakedems.org/wcdp-event/glenwood-area-democrats-bi-monthly-meet-and-greet-2/
LOCATION:Chow’s Pizza Bar-8311 Creedmoor Rd Raleigh NC 27613\, 8311 Creedmoor Rd\, Raleigh\, NC\, 27613\, United States
CATEGORIES:Area Meetings & Events,Candidate Event Recurring,Community Meetings & Events,Precinct Meetings & Events,Social Event
ATTACH;FMTTYPE=image/jpeg:https://www.wakedems.org/wp-content/uploads/2023/08/CandidateEvent3.jpg
ORGANIZER;CN="Glenwood Area Coordinators":MAILTO:glenwood.acs@wakedems.org
END:VEVENT
BEGIN:VEVENT
DTSTART;TZID=America/New_York:20240110T190000
DTEND;TZID=America/New_York:20240110T210000
DTSTAMP:20260421T112311
CREATED:20231226T165608Z
LAST-MODIFIED:20260117T213355Z
UID:10001999-1704913200-1704920400@www.wakedems.org
SUMMARY:Glenwood Area Democrats Bi-Monthly Meet and Greet
DESCRIPTION:Come join us for a casual evening in the back room at the Chow Pizza Bar on Creedmoor Road in Raleigh! \nWhether you’re a long-time party member or new to the political scene\, this meet & greet is the perfect chance to network\, share ideas\, and discuss important issues. Get to know local political leaders\, activists\, and community advocates working hard to make a difference. \nEnjoy delicious food and drinks (on your own tab) while engaging in lively conversations about the topics that matter most to you. This is a casual gathering\, so feel free to bring friends and family along. ***We have invited all of the local candidates on the ballot for the upcoming primary election\, so come prepared to meet some of them!
URL:https://www.wakedems.org/wcdp-event/glenwood-area-democrats-bi-monthly-meet-and-greet/
LOCATION:Chow’s Pizza Bar-8311 Creedmoor Rd Raleigh NC 27613\, 8311 Creedmoor Rd\, Raleigh\, NC\, 27613\, United States
CATEGORIES:Area Meetings & Events,Candidate Event Recurring,Community Meetings & Events,Precinct Meetings & Events,Social Event
ATTACH;FMTTYPE=image/jpeg:https://www.wakedems.org/wp-content/uploads/2023/08/CandidateEvent3.jpg
ORGANIZER;CN="Glenwood Area Coordinators":MAILTO:glenwood.acs@wakedems.org
END:VEVENT
END:VCALENDAR