BEGIN:VCALENDAR
VERSION:2.0
PRODID:-//Wake County Democratic Party - ECPv6.15.20//NONSGML v1.0//EN
CALSCALE:GREGORIAN
METHOD:PUBLISH
X-WR-CALNAME:Wake County Democratic Party
X-ORIGINAL-URL:https://www.wakedems.org
X-WR-CALDESC:Events for Wake County Democratic Party
REFRESH-INTERVAL;VALUE=DURATION:PT1H
X-Robots-Tag:noindex
X-PUBLISHED-TTL:PT1H
BEGIN:VTIMEZONE
TZID:America/New_York
BEGIN:DAYLIGHT
TZOFFSETFROM:-0500
TZOFFSETTO:-0400
TZNAME:EDT
DTSTART:20250309T070000
END:DAYLIGHT
BEGIN:STANDARD
TZOFFSETFROM:-0400
TZOFFSETTO:-0500
TZNAME:EST
DTSTART:20251102T060000
END:STANDARD
BEGIN:DAYLIGHT
TZOFFSETFROM:-0500
TZOFFSETTO:-0400
TZNAME:EDT
DTSTART:20260308T070000
END:DAYLIGHT
BEGIN:STANDARD
TZOFFSETFROM:-0400
TZOFFSETTO:-0500
TZNAME:EST
DTSTART:20261101T060000
END:STANDARD
BEGIN:DAYLIGHT
TZOFFSETFROM:-0500
TZOFFSETTO:-0400
TZNAME:EDT
DTSTART:20270314T070000
END:DAYLIGHT
BEGIN:STANDARD
TZOFFSETFROM:-0400
TZOFFSETTO:-0500
TZNAME:EST
DTSTART:20271107T060000
END:STANDARD
END:VTIMEZONE
BEGIN:VEVENT
DTSTART;TZID=America/New_York:20260422T183000
DTEND;TZID=America/New_York:20260422T200000
DTSTAMP:20260421T093149
CREATED:20260117T211540Z
LAST-MODIFIED:20260117T211540Z
UID:10007913-1776882600-1776888000@www.wakedems.org
SUMMARY:Glenwood Area Bi-monthly Social
DESCRIPTION:Come out and join the Glenwood Area Democrats for a fun-filled evening of socializing and networking with fellow Democrats!  This month we will use the momentum from the annual precinct meetings to further build and celebrate our coalition of volunteers- an absolute must have for the midterms! We are stronger together\, and better together. \nWhether you’re a long-time party member or new to the political scene\, this event is the perfect opportunity to connect with like-minded individuals\, share ideas\, hear from elected officials and candidates\, and discuss important issues facing our community. \nNote: Location details will be e-mailed to those who sign up by the day before the event. Locale is convenient to N Raleigh\, and we encourage you to arrive at 6 to have more time to order and enjoy dinner if you’d like.
URL:https://www.wakedems.org/wcdp-event/glenwood-area-bi-monthly-social-2/
LOCATION:Will be shared with those who sign up
CATEGORIES:Area Meetings & Events,Social Event
ATTACH;FMTTYPE=image/jpeg:https://www.wakedems.org/wp-content/uploads/2023/08/SocialEvent3.jpg
ORGANIZER;CN="Glenwood Area Coordinators":MAILTO:glenwood.acs@wakedems.org
END:VEVENT
BEGIN:VEVENT
DTSTART;TZID=America/New_York:20260610T183000
DTEND;TZID=America/New_York:20260610T200000
DTSTAMP:20260421T093149
CREATED:20260324T192309Z
LAST-MODIFIED:20260324T192309Z
UID:10008150-1781116200-1781121600@www.wakedems.org
SUMMARY:Glenwood Area Bi-monthly Social
DESCRIPTION:Please join the Glenwood Area Democrats for a fun-filled evening of socializing\, networking\, and much needed community time. This month we will kick off the summer by reporting on our latest area volunteer efforts\, shore ourselves up for more\, and hear from local candidates in this very important midterm election year.  We are stronger together\, and better together. \nWhether you’re a long-time party member or new to the political scene\, this event is the perfect opportunity to connect with like-minded individuals\, share ideas\, and discuss important issues facing our community.  You do not need to know anyone else attending to join us.  We are a friendly\, welcoming group that will make you feel right at home.   On top of that\, we have a great time. \nNote: Location details will be e-mailed to those who sign up by the day before the event. Locale is convenient to N Raleigh\, and we encourage you to arrive at 6 to have more time to order and enjoy dinner if you’d like.
URL:https://www.wakedems.org/wcdp-event/glenwood-area-bi-monthly-social-3/
LOCATION:Will be shared with those who sign up
CATEGORIES:Area Meetings & Events
ATTACH;FMTTYPE=image/jpeg:https://www.wakedems.org/wp-content/uploads/2023/08/SocialEvent3.jpg
ORGANIZER;CN="Glenwood Area Coordinators":MAILTO:glenwood.acs@wakedems.org
END:VEVENT
END:VCALENDAR