BEGIN:VCALENDAR
VERSION:2.0
PRODID:-//Wake County Democratic Party - ECPv6.15.20//NONSGML v1.0//EN
CALSCALE:GREGORIAN
METHOD:PUBLISH
X-ORIGINAL-URL:https://www.wakedems.org
X-WR-CALDESC:Events for Wake County Democratic Party
REFRESH-INTERVAL;VALUE=DURATION:PT1H
X-Robots-Tag:noindex
X-PUBLISHED-TTL:PT1H
BEGIN:VTIMEZONE
TZID:America/New_York
BEGIN:DAYLIGHT
TZOFFSETFROM:-0500
TZOFFSETTO:-0400
TZNAME:EDT
DTSTART:20240310T070000
END:DAYLIGHT
BEGIN:STANDARD
TZOFFSETFROM:-0400
TZOFFSETTO:-0500
TZNAME:EST
DTSTART:20241103T060000
END:STANDARD
BEGIN:DAYLIGHT
TZOFFSETFROM:-0500
TZOFFSETTO:-0400
TZNAME:EDT
DTSTART:20250309T070000
END:DAYLIGHT
BEGIN:STANDARD
TZOFFSETFROM:-0400
TZOFFSETTO:-0500
TZNAME:EST
DTSTART:20251102T060000
END:STANDARD
BEGIN:DAYLIGHT
TZOFFSETFROM:-0500
TZOFFSETTO:-0400
TZNAME:EDT
DTSTART:20260308T070000
END:DAYLIGHT
BEGIN:STANDARD
TZOFFSETFROM:-0400
TZOFFSETTO:-0500
TZNAME:EST
DTSTART:20261101T060000
END:STANDARD
END:VTIMEZONE
BEGIN:VEVENT
DTSTART;TZID=America/New_York:20251102T130000
DTEND;TZID=America/New_York:20251102T150000
DTSTAMP:20260422T000639
CREATED:20251006T225921Z
LAST-MODIFIED:20251006T225921Z
UID:10007541-1762088400-1762095600@www.wakedems.org
SUMMARY:Team Haseeb Canvass in Wake Forest
DESCRIPTION:Come out with Board of Commissioners Candidate Haseeb Fatmi to canvass in Wake Forest. \nWe’ll be knocking on Dem-friendly doors to make sure they come out to vote in the November 4th municipal election! \nWe’ll provide training.  All you have to do is sign up and show up. \nLocation will be provided to those who register in advance of the canvass date.
URL:https://www.wakedems.org/wcdp-event/team-haseeb-canvass-in-wake-forest/2025-11-02/
LOCATION:TBD
CATEGORIES:GOTV Canvass 2025
ATTACH;FMTTYPE=image/jpeg:https://www.wakedems.org/wp-content/uploads/2023/08/Canvass3.jpg
ORGANIZER;CN="Haseeb Fatmi":MAILTO:haseeb.fatmi@gmail.com
END:VEVENT
BEGIN:VEVENT
DTSTART;TZID=America/New_York:20251031T110000
DTEND;TZID=America/New_York:20251031T130000
DTSTAMP:20260422T000639
CREATED:20251006T225921Z
LAST-MODIFIED:20251006T225921Z
UID:10007540-1761908400-1761915600@www.wakedems.org
SUMMARY:Team Haseeb Canvass in Wake Forest
DESCRIPTION:Come out with Board of Commissioners Candidate Haseeb Fatmi to canvass in Wake Forest. \nWe’ll be knocking on Dem-friendly doors to make sure they come out to vote in the November 4th municipal election! \nWe’ll provide training.  All you have to do is sign up and show up. \nLocation will be provided to those who register in advance of the canvass date.
URL:https://www.wakedems.org/wcdp-event/team-haseeb-canvass-in-wake-forest/2025-10-31/
LOCATION:TBD
CATEGORIES:GOTV Canvass 2025
ATTACH;FMTTYPE=image/jpeg:https://www.wakedems.org/wp-content/uploads/2023/08/Canvass3.jpg
ORGANIZER;CN="Haseeb Fatmi":MAILTO:haseeb.fatmi@gmail.com
END:VEVENT
BEGIN:VEVENT
DTSTART;TZID=America/New_York:20251026T130000
DTEND;TZID=America/New_York:20251026T150000
DTSTAMP:20260422T000639
CREATED:20251006T225921Z
LAST-MODIFIED:20251006T225921Z
UID:10007539-1761483600-1761490800@www.wakedems.org
SUMMARY:Team Haseeb Canvass in Wake Forest
DESCRIPTION:Come out with Board of Commissioners Candidate Haseeb Fatmi to canvass in Wake Forest. \nWe’ll be knocking on Dem-friendly doors to make sure they come out to vote in the November 4th municipal election! \nWe’ll provide training.  All you have to do is sign up and show up. \nLocation will be provided to those who register in advance of the canvass date.
URL:https://www.wakedems.org/wcdp-event/team-haseeb-canvass-in-wake-forest/2025-10-26/
LOCATION:TBD
CATEGORIES:GOTV Canvass 2025
ATTACH;FMTTYPE=image/jpeg:https://www.wakedems.org/wp-content/uploads/2023/08/Canvass3.jpg
ORGANIZER;CN="Haseeb Fatmi":MAILTO:haseeb.fatmi@gmail.com
END:VEVENT
BEGIN:VEVENT
DTSTART;TZID=America/New_York:20251024T110000
DTEND;TZID=America/New_York:20251024T130000
DTSTAMP:20260422T000639
CREATED:20251006T225921Z
LAST-MODIFIED:20251006T225921Z
UID:10007538-1761303600-1761310800@www.wakedems.org
SUMMARY:Team Haseeb Canvass in Wake Forest
DESCRIPTION:Come out with Board of Commissioners Candidate Haseeb Fatmi to canvass in Wake Forest. \nWe’ll be knocking on Dem-friendly doors to make sure they come out to vote in the November 4th municipal election! \nWe’ll provide training.  All you have to do is sign up and show up. \nLocation will be provided to those who register in advance of the canvass date.
URL:https://www.wakedems.org/wcdp-event/team-haseeb-canvass-in-wake-forest/2025-10-24/
LOCATION:TBD
CATEGORIES:GOTV Canvass 2025
ATTACH;FMTTYPE=image/jpeg:https://www.wakedems.org/wp-content/uploads/2023/08/Canvass3.jpg
ORGANIZER;CN="Haseeb Fatmi":MAILTO:haseeb.fatmi@gmail.com
END:VEVENT
BEGIN:VEVENT
DTSTART;TZID=America/New_York:20251010T110000
DTEND;TZID=America/New_York:20251010T130000
DTSTAMP:20260422T000639
CREATED:20251006T225921Z
LAST-MODIFIED:20251006T225921Z
UID:10007537-1760094000-1760101200@www.wakedems.org
SUMMARY:Team Haseeb Canvass in Wake Forest
DESCRIPTION:Come out with Board of Commissioners Candidate Haseeb Fatmi to canvass in Wake Forest. \nWe’ll be knocking on Dem-friendly doors to make sure they come out to vote in the November 4th municipal election! \nWe’ll provide training.  All you have to do is sign up and show up. \nLocation will be provided to those who register in advance of the canvass date.
URL:https://www.wakedems.org/wcdp-event/team-haseeb-canvass-in-wake-forest/2025-10-10/
LOCATION:TBD
CATEGORIES:GOTV Canvass 2025
ATTACH;FMTTYPE=image/jpeg:https://www.wakedems.org/wp-content/uploads/2023/08/Canvass3.jpg
ORGANIZER;CN="Haseeb Fatmi":MAILTO:haseeb.fatmi@gmail.com
END:VEVENT
BEGIN:VEVENT
DTSTART;TZID=America/New_York:20251001T170000
DTEND;TZID=America/New_York:20251001T183000
DTSTAMP:20260422T000639
CREATED:20250917T201907Z
LAST-MODIFIED:20250917T201907Z
UID:10007293-1759338000-1759343400@www.wakedems.org
SUMMARY:Haseeb Fatmi for Wake Forest Commissioner - Meet and Greet
DESCRIPTION:Join us for a casual evening where you can mingle with friends and ask Haseeb anything. We’ll have snacks\, swag\, and special guests and speakers. \nAdditionally\, we also have our campaign yard signs! \nExact address will be provided to registered attendees closer to the event.
URL:https://www.wakedems.org/wcdp-event/haseeb-fatmi-for-wake-forest-commissioner-meet-and-greet/
LOCATION:Location will be emailed a few days in advance of event\, to those who have registered.
CATEGORIES:Candidate Event
ATTACH;FMTTYPE=image/jpeg:https://www.wakedems.org/wp-content/uploads/2023/08/CandidateEvent2.jpg
ORGANIZER;CN="Haseeb Fatmi":MAILTO:haseeb.fatmi@gmail.com
END:VEVENT
END:VCALENDAR