BEGIN:VCALENDAR
VERSION:2.0
PRODID:-//Wake County Democratic Party - ECPv6.15.20//NONSGML v1.0//EN
CALSCALE:GREGORIAN
METHOD:PUBLISH
X-ORIGINAL-URL:https://www.wakedems.org
X-WR-CALDESC:Events for Wake County Democratic Party
REFRESH-INTERVAL;VALUE=DURATION:PT1H
X-Robots-Tag:noindex
X-PUBLISHED-TTL:PT1H
BEGIN:VTIMEZONE
TZID:America/New_York
BEGIN:DAYLIGHT
TZOFFSETFROM:-0500
TZOFFSETTO:-0400
TZNAME:EDT
DTSTART:20240310T070000
END:DAYLIGHT
BEGIN:STANDARD
TZOFFSETFROM:-0400
TZOFFSETTO:-0500
TZNAME:EST
DTSTART:20241103T060000
END:STANDARD
BEGIN:DAYLIGHT
TZOFFSETFROM:-0500
TZOFFSETTO:-0400
TZNAME:EDT
DTSTART:20250309T070000
END:DAYLIGHT
BEGIN:STANDARD
TZOFFSETFROM:-0400
TZOFFSETTO:-0500
TZNAME:EST
DTSTART:20251102T060000
END:STANDARD
BEGIN:DAYLIGHT
TZOFFSETFROM:-0500
TZOFFSETTO:-0400
TZNAME:EDT
DTSTART:20260308T070000
END:DAYLIGHT
BEGIN:STANDARD
TZOFFSETFROM:-0400
TZOFFSETTO:-0500
TZNAME:EST
DTSTART:20261101T060000
END:STANDARD
END:VTIMEZONE
BEGIN:VEVENT
DTSTART;TZID=America/New_York:20251101T093000
DTEND;TZID=America/New_York:20251101T120000
DTSTAMP:20260421T184151
CREATED:20250929T191528Z
LAST-MODIFIED:20251002T222718Z
UID:10007413-1761989400-1761998400@www.wakedems.org
SUMMARY:Morrisville Canvassing with Team Jashi
DESCRIPTION:WakeDem endorsed candidate for Morrisville District 2\, Jashi Abhirajan will host this canvass. Meet at 9:30AM for quick snacks\, introductions\, training and canvass lit\, and partnering. Return around noon for debrief\, lit drop-off\, and refreshments.
URL:https://www.wakedems.org/wcdp-event/morrisville-canvassing-with-team-jashi/2025-11-01/
LOCATION:Will be shared with those who sign up
CATEGORIES:Canvass
ATTACH;FMTTYPE=image/jpeg:https://www.wakedems.org/wp-content/uploads/2023/08/Canvass1.jpg
ORGANIZER;CN="Jashi Abhirajan":MAILTO:jashiformorrisville@gmail.com
END:VEVENT
BEGIN:VEVENT
DTSTART;TZID=America/New_York:20251025T093000
DTEND;TZID=America/New_York:20251025T120000
DTSTAMP:20260421T184151
CREATED:20250929T191528Z
LAST-MODIFIED:20251002T222718Z
UID:10007411-1761384600-1761393600@www.wakedems.org
SUMMARY:Morrisville Canvassing with Team Jashi
DESCRIPTION:WakeDem endorsed candidate for Morrisville District 2\, Jashi Abhirajan will host this canvass. Meet at 9:30AM for quick snacks\, introductions\, training and canvass lit\, and partnering. Return around noon for debrief\, lit drop-off\, and refreshments.
URL:https://www.wakedems.org/wcdp-event/morrisville-canvassing-with-team-jashi/2025-10-25/
LOCATION:Will be shared with those who sign up
CATEGORIES:Canvass
ATTACH;FMTTYPE=image/jpeg:https://www.wakedems.org/wp-content/uploads/2023/08/Canvass1.jpg
ORGANIZER;CN="Jashi Abhirajan":MAILTO:jashiformorrisville@gmail.com
END:VEVENT
BEGIN:VEVENT
DTSTART;TZID=America/New_York:20251018T093000
DTEND;TZID=America/New_York:20251018T120000
DTSTAMP:20260421T184151
CREATED:20250929T191528Z
LAST-MODIFIED:20251002T222718Z
UID:10007409-1760779800-1760788800@www.wakedems.org
SUMMARY:Morrisville Canvassing with Team Jashi
DESCRIPTION:WakeDem endorsed candidate for Morrisville District 2\, Jashi Abhirajan will host this canvass. Meet at 9:30AM for quick snacks\, introductions\, training and canvass lit\, and partnering. Return around noon for debrief\, lit drop-off\, and refreshments.
URL:https://www.wakedems.org/wcdp-event/morrisville-canvassing-with-team-jashi/2025-10-18/
LOCATION:Will be shared with those who sign up
CATEGORIES:Canvass
ATTACH;FMTTYPE=image/jpeg:https://www.wakedems.org/wp-content/uploads/2023/08/Canvass1.jpg
ORGANIZER;CN="Jashi Abhirajan":MAILTO:jashiformorrisville@gmail.com
END:VEVENT
BEGIN:VEVENT
DTSTART;TZID=America/New_York:20251011T093000
DTEND;TZID=America/New_York:20251011T120000
DTSTAMP:20260421T184151
CREATED:20250929T191528Z
LAST-MODIFIED:20251002T222718Z
UID:10007407-1760175000-1760184000@www.wakedems.org
SUMMARY:Morrisville Canvassing with Team Jashi
DESCRIPTION:WakeDem endorsed candidate for Morrisville District 2\, Jashi Abhirajan will host this canvass. Meet at 9:30AM for quick snacks\, introductions\, training and canvass lit\, and partnering. Return around noon for debrief\, lit drop-off\, and refreshments.
URL:https://www.wakedems.org/wcdp-event/morrisville-canvassing-with-team-jashi/2025-10-11/
LOCATION:Will be shared with those who sign up
CATEGORIES:Canvass
ATTACH;FMTTYPE=image/jpeg:https://www.wakedems.org/wp-content/uploads/2023/08/Canvass1.jpg
ORGANIZER;CN="Jashi Abhirajan":MAILTO:jashiformorrisville@gmail.com
END:VEVENT
BEGIN:VEVENT
DTSTART;TZID=America/New_York:20251004T093000
DTEND;TZID=America/New_York:20251004T120000
DTSTAMP:20260421T184151
CREATED:20250929T191528Z
LAST-MODIFIED:20251002T222718Z
UID:10007405-1759570200-1759579200@www.wakedems.org
SUMMARY:Morrisville Canvassing with Team Jashi
DESCRIPTION:WakeDem endorsed candidate for Morrisville District 2\, Jashi Abhirajan will host this canvass. Meet at 9:30AM for quick snacks\, introductions\, training and canvass lit\, and partnering. Return around noon for debrief\, lit drop-off\, and refreshments.
URL:https://www.wakedems.org/wcdp-event/morrisville-canvassing-with-team-jashi/2025-10-04/
LOCATION:Will be shared with those who sign up
CATEGORIES:Canvass
ATTACH;FMTTYPE=image/jpeg:https://www.wakedems.org/wp-content/uploads/2023/08/Canvass1.jpg
ORGANIZER;CN="Jashi Abhirajan":MAILTO:jashiformorrisville@gmail.com
END:VEVENT
END:VCALENDAR