BEGIN:VCALENDAR
VERSION:2.0
PRODID:-//Wake County Democratic Party - ECPv6.15.20//NONSGML v1.0//EN
CALSCALE:GREGORIAN
METHOD:PUBLISH
X-ORIGINAL-URL:https://www.wakedems.org
X-WR-CALDESC:Events for Wake County Democratic Party
REFRESH-INTERVAL;VALUE=DURATION:PT1H
X-Robots-Tag:noindex
X-PUBLISHED-TTL:PT1H
BEGIN:VTIMEZONE
TZID:America/New_York
BEGIN:DAYLIGHT
TZOFFSETFROM:-0500
TZOFFSETTO:-0400
TZNAME:EDT
DTSTART:20250309T070000
END:DAYLIGHT
BEGIN:STANDARD
TZOFFSETFROM:-0400
TZOFFSETTO:-0500
TZNAME:EST
DTSTART:20251102T060000
END:STANDARD
BEGIN:DAYLIGHT
TZOFFSETFROM:-0500
TZOFFSETTO:-0400
TZNAME:EDT
DTSTART:20260308T070000
END:DAYLIGHT
BEGIN:STANDARD
TZOFFSETFROM:-0400
TZOFFSETTO:-0500
TZNAME:EST
DTSTART:20261101T060000
END:STANDARD
BEGIN:DAYLIGHT
TZOFFSETFROM:-0500
TZOFFSETTO:-0400
TZNAME:EDT
DTSTART:20270314T070000
END:DAYLIGHT
BEGIN:STANDARD
TZOFFSETFROM:-0400
TZOFFSETTO:-0500
TZNAME:EST
DTSTART:20271107T060000
END:STANDARD
END:VTIMEZONE
BEGIN:VEVENT
DTSTART;TZID=America/New_York:20260315T123000
DTEND;TZID=America/New_York:20260315T143000
DTSTAMP:20260425T235410
CREATED:20260311T003930Z
LAST-MODIFIED:20260311T003930Z
UID:10008073-1773577800-1773585000@www.wakedems.org
SUMMARY:Precinct 07-09 Social
DESCRIPTION:Join Precinct 07-09 for a Coffee & Chat! ☕ \nWe’ll be there from 12:30-2:30\, but there’s no need to stay the whole time — just drop in whenever works best for you. \nWe want to hear from YOU. Come ask all your questions\, meet fellow neighbors\, and learn how to get involved with Wake Dems. \nWhether you’re brand new or have been around for years\, there’s a place for you — and we’d love to connect!
URL:https://www.wakedems.org/wcdp-event/precinct-07-09-social/
LOCATION:Biggby Coffee\, 5424 Six Forks Rd\, Raleigh\, 27609
CATEGORIES:Precinct Meetings & Events
ATTACH;FMTTYPE=image/jpeg:https://www.wakedems.org/wp-content/uploads/2023/08/SocialEvent3.jpg
ORGANIZER;CN="John Geraghty":MAILTO:Precinct07-08@wakedems.org
END:VEVENT
END:VCALENDAR