BEGIN:VCALENDAR
VERSION:2.0
PRODID:-//Wake County Democratic Party - ECPv6.15.20//NONSGML v1.0//EN
CALSCALE:GREGORIAN
METHOD:PUBLISH
X-ORIGINAL-URL:https://www.wakedems.org
X-WR-CALDESC:Events for Wake County Democratic Party
REFRESH-INTERVAL;VALUE=DURATION:PT1H
X-Robots-Tag:noindex
X-PUBLISHED-TTL:PT1H
BEGIN:VTIMEZONE
TZID:America/New_York
BEGIN:DAYLIGHT
TZOFFSETFROM:-0500
TZOFFSETTO:-0400
TZNAME:EDT
DTSTART:20240310T070000
END:DAYLIGHT
BEGIN:STANDARD
TZOFFSETFROM:-0400
TZOFFSETTO:-0500
TZNAME:EST
DTSTART:20241103T060000
END:STANDARD
BEGIN:DAYLIGHT
TZOFFSETFROM:-0500
TZOFFSETTO:-0400
TZNAME:EDT
DTSTART:20250309T070000
END:DAYLIGHT
BEGIN:STANDARD
TZOFFSETFROM:-0400
TZOFFSETTO:-0500
TZNAME:EST
DTSTART:20251102T060000
END:STANDARD
BEGIN:DAYLIGHT
TZOFFSETFROM:-0500
TZOFFSETTO:-0400
TZNAME:EDT
DTSTART:20260308T070000
END:DAYLIGHT
BEGIN:STANDARD
TZOFFSETFROM:-0400
TZOFFSETTO:-0500
TZNAME:EST
DTSTART:20261101T060000
END:STANDARD
BEGIN:DAYLIGHT
TZOFFSETFROM:-0500
TZOFFSETTO:-0400
TZNAME:EDT
DTSTART:20270314T070000
END:DAYLIGHT
BEGIN:STANDARD
TZOFFSETFROM:-0400
TZOFFSETTO:-0500
TZNAME:EST
DTSTART:20271107T060000
END:STANDARD
END:VTIMEZONE
BEGIN:VEVENT
DTSTART;TZID=America/New_York:20260421T180000
DTEND;TZID=America/New_York:20260421T193000
DTSTAMP:20260422T032632
CREATED:20260326T210127Z
LAST-MODIFIED:20260326T210127Z
UID:10008146-1776794400-1776799800@www.wakedems.org
SUMMARY:Knightdale Dems Social
DESCRIPTION:We meet the 3rd Tuesday of the month. We get to know each other and have fun meeting new friends.
URL:https://www.wakedems.org/wcdp-event/knightdale-dems-social/2026-04-21/
LOCATION:Location will be provided to registered attendees
CATEGORIES:Area Meetings & Events,Social Event
ATTACH;FMTTYPE=image/jpeg:https://www.wakedems.org/wp-content/uploads/2023/08/SocialEvent2.jpg
ORGANIZER;CN="Knightdale Area Coordinators":MAILTO:knightdale.acs@wakedems.org
END:VEVENT
BEGIN:VEVENT
DTSTART;TZID=America/New_York:20260217T180000
DTEND;TZID=America/New_York:20260217T190000
DTSTAMP:20260422T032632
CREATED:20260127T213426Z
LAST-MODIFIED:20260127T213426Z
UID:10007936-1771351200-1771354800@www.wakedems.org
SUMMARY:Knightdale Democrats Social/Meeting
DESCRIPTION:We meet the 3rd Tuesday of the month. Join us at 6pm-7pm on Tuesday\, February 17.
URL:https://www.wakedems.org/wcdp-event/knightdale-democrats-social-meeting/
LOCATION:Location will be provided to registered attendees
CATEGORIES:Area Meetings & Events,Social Event
ATTACH;FMTTYPE=image/jpeg:https://www.wakedems.org/wp-content/uploads/2023/08/SocialEvent3.jpg
ORGANIZER;CN="Knightdale Area Coordinators":MAILTO:knightdale.acs@wakedems.org
END:VEVENT
BEGIN:VEVENT
DTSTART;TZID=America/New_York:20251101T100000
DTEND;TZID=America/New_York:20251101T110000
DTSTAMP:20260422T032632
CREATED:20250919T201118Z
LAST-MODIFIED:20250919T201118Z
UID:10007313-1761991200-1761994800@www.wakedems.org
SUMMARY:Knightdale GOTV Canvass
DESCRIPTION:Join us as we canvass to support Grady Bussey for Knightdale Town Council! We will meet to hand out literature\, help with the miniVAN app\, and head out in pairs to talk to our neighbors about the importance of getting Democrats elected to our municipal boards. Water\, snacks\, and support will be provided. \nCan’t make it at 10 AM but want to canvass? Email knightdaledems@gmail.com to get connected. \nAnyone who signs up to attended will be vetted and sent the exact location on the evening before the canvass.
URL:https://www.wakedems.org/wcdp-event/knightdale-gotv-canvass/2025-11-01/
LOCATION:Location will be provided to registered attendees
CATEGORIES:GOTV Canvass 2025
ATTACH;FMTTYPE=image/jpeg:https://www.wakedems.org/wp-content/uploads/2023/08/Canvass2.jpg
ORGANIZER;CN="Knightdale Area Coordinators":MAILTO:knightdale.acs@wakedems.org
END:VEVENT
BEGIN:VEVENT
DTSTART;TZID=America/New_York:20251025T100000
DTEND;TZID=America/New_York:20251025T110000
DTSTAMP:20260422T032632
CREATED:20250919T201118Z
LAST-MODIFIED:20250919T201118Z
UID:10007312-1761386400-1761390000@www.wakedems.org
SUMMARY:Knightdale GOTV Canvass
DESCRIPTION:Join us as we canvass to support Grady Bussey for Knightdale Town Council! We will meet to hand out literature\, help with the miniVAN app\, and head out in pairs to talk to our neighbors about the importance of getting Democrats elected to our municipal boards. Water\, snacks\, and support will be provided. \nCan’t make it at 10 AM but want to canvass? Email knightdaledems@gmail.com to get connected. \nAnyone who signs up to attended will be vetted and sent the exact location on the evening before the canvass.
URL:https://www.wakedems.org/wcdp-event/knightdale-gotv-canvass/2025-10-25/
LOCATION:Location will be provided to registered attendees
CATEGORIES:GOTV Canvass 2025
ATTACH;FMTTYPE=image/jpeg:https://www.wakedems.org/wp-content/uploads/2023/08/Canvass2.jpg
ORGANIZER;CN="Knightdale Area Coordinators":MAILTO:knightdale.acs@wakedems.org
END:VEVENT
BEGIN:VEVENT
DTSTART;TZID=America/New_York:20251021T180000
DTEND;TZID=America/New_York:20251021T193000
DTSTAMP:20260422T032632
CREATED:20250930T194828Z
LAST-MODIFIED:20250930T194828Z
UID:10007519-1761069600-1761075000@www.wakedems.org
SUMMARY:Knightdale Democrats Social
DESCRIPTION:Join the Knightdale area Democrats as we enjoy each other’s company and plan our final Get Out The Vote push for the November 4 municipal election.
URL:https://www.wakedems.org/wcdp-event/knightdale-democrats-social-3/
LOCATION:Location will be provided to registered attendees
CATEGORIES:Area Meetings & Events,Social Event
ATTACH;FMTTYPE=image/jpeg:https://www.wakedems.org/wp-content/uploads/2023/08/SocialEvent2.jpg
ORGANIZER;CN="Knightdale Area Coordinators":MAILTO:knightdale.acs@wakedems.org
END:VEVENT
BEGIN:VEVENT
DTSTART;TZID=America/New_York:20251018T100000
DTEND;TZID=America/New_York:20251018T110000
DTSTAMP:20260422T032632
CREATED:20250919T201118Z
LAST-MODIFIED:20250919T201118Z
UID:10007311-1760781600-1760785200@www.wakedems.org
SUMMARY:Knightdale GOTV Canvass
DESCRIPTION:Join us as we canvass to support Grady Bussey for Knightdale Town Council! We will meet to hand out literature\, help with the miniVAN app\, and head out in pairs to talk to our neighbors about the importance of getting Democrats elected to our municipal boards. Water\, snacks\, and support will be provided. \nCan’t make it at 10 AM but want to canvass? Email knightdaledems@gmail.com to get connected. \nAnyone who signs up to attended will be vetted and sent the exact location on the evening before the canvass.
URL:https://www.wakedems.org/wcdp-event/knightdale-gotv-canvass/2025-10-18/
LOCATION:Location will be provided to registered attendees
CATEGORIES:GOTV Canvass 2025
ATTACH;FMTTYPE=image/jpeg:https://www.wakedems.org/wp-content/uploads/2023/08/Canvass2.jpg
ORGANIZER;CN="Knightdale Area Coordinators":MAILTO:knightdale.acs@wakedems.org
END:VEVENT
BEGIN:VEVENT
DTSTART;TZID=America/New_York:20251015T183000
DTEND;TZID=America/New_York:20251015T200000
DTSTAMP:20260422T032632
CREATED:20251008T002750Z
LAST-MODIFIED:20251008T003613Z
UID:10007542-1760553000-1760558400@www.wakedems.org
SUMMARY:Knightdale Phone Bank - Hybrid
DESCRIPTION:Join candidate Grady Bussey as we make follow-up phone calls to voters the day before early voting begins. We will begin at 6:30 with a training and will have help available throughout the phone bank. Whether you’re experienced using a virtual phone bank or are completely new\, we hope you’ll join us! The Zoom link and location will be provided the day before the event.
URL:https://www.wakedems.org/wcdp-event/knightdale-phone-bank-hybrid/
CATEGORIES:Phone Bank
ATTACH;FMTTYPE=image/jpeg:https://www.wakedems.org/wp-content/uploads/2023/08/PhoneBank1.jpg
ORGANIZER;CN="Knightdale Area Coordinators":MAILTO:knightdale.acs@wakedems.org
END:VEVENT
BEGIN:VEVENT
DTSTART;TZID=America/New_York:20251011T100000
DTEND;TZID=America/New_York:20251011T110000
DTSTAMP:20260422T032632
CREATED:20250919T201118Z
LAST-MODIFIED:20250919T201118Z
UID:10007310-1760176800-1760180400@www.wakedems.org
SUMMARY:Knightdale GOTV Canvass
DESCRIPTION:Join us as we canvass to support Grady Bussey for Knightdale Town Council! We will meet to hand out literature\, help with the miniVAN app\, and head out in pairs to talk to our neighbors about the importance of getting Democrats elected to our municipal boards. Water\, snacks\, and support will be provided. \nCan’t make it at 10 AM but want to canvass? Email knightdaledems@gmail.com to get connected. \nAnyone who signs up to attended will be vetted and sent the exact location on the evening before the canvass.
URL:https://www.wakedems.org/wcdp-event/knightdale-gotv-canvass/2025-10-11/
LOCATION:Location will be provided to registered attendees
CATEGORIES:GOTV Canvass 2025
ATTACH;FMTTYPE=image/jpeg:https://www.wakedems.org/wp-content/uploads/2023/08/Canvass2.jpg
ORGANIZER;CN="Knightdale Area Coordinators":MAILTO:knightdale.acs@wakedems.org
END:VEVENT
BEGIN:VEVENT
DTSTART;TZID=America/New_York:20251004T100000
DTEND;TZID=America/New_York:20251004T110000
DTSTAMP:20260422T032632
CREATED:20250919T201118Z
LAST-MODIFIED:20250919T201118Z
UID:10007309-1759572000-1759575600@www.wakedems.org
SUMMARY:Knightdale GOTV Canvass
DESCRIPTION:Join us as we canvass to support Grady Bussey for Knightdale Town Council! We will meet to hand out literature\, help with the miniVAN app\, and head out in pairs to talk to our neighbors about the importance of getting Democrats elected to our municipal boards. Water\, snacks\, and support will be provided. \nCan’t make it at 10 AM but want to canvass? Email knightdaledems@gmail.com to get connected. \nAnyone who signs up to attended will be vetted and sent the exact location on the evening before the canvass.
URL:https://www.wakedems.org/wcdp-event/knightdale-gotv-canvass/2025-10-04/
LOCATION:Location will be provided to registered attendees
CATEGORIES:GOTV Canvass 2025
ATTACH;FMTTYPE=image/jpeg:https://www.wakedems.org/wp-content/uploads/2023/08/Canvass2.jpg
ORGANIZER;CN="Knightdale Area Coordinators":MAILTO:knightdale.acs@wakedems.org
END:VEVENT
BEGIN:VEVENT
DTSTART;TZID=America/New_York:20250927T100000
DTEND;TZID=America/New_York:20250927T110000
DTSTAMP:20260422T032632
CREATED:20250919T201118Z
LAST-MODIFIED:20250919T201118Z
UID:10007308-1758967200-1758970800@www.wakedems.org
SUMMARY:Knightdale GOTV Canvass
DESCRIPTION:Join us as we canvass to support Grady Bussey for Knightdale Town Council! We will meet to hand out literature\, help with the miniVAN app\, and head out in pairs to talk to our neighbors about the importance of getting Democrats elected to our municipal boards. Water\, snacks\, and support will be provided. \nCan’t make it at 10 AM but want to canvass? Email knightdaledems@gmail.com to get connected. \nAnyone who signs up to attended will be vetted and sent the exact location on the evening before the canvass.
URL:https://www.wakedems.org/wcdp-event/knightdale-gotv-canvass/2025-09-27/
LOCATION:Location will be provided to registered attendees
CATEGORIES:GOTV Canvass 2025
ATTACH;FMTTYPE=image/jpeg:https://www.wakedems.org/wp-content/uploads/2023/08/Canvass2.jpg
ORGANIZER;CN="Knightdale Area Coordinators":MAILTO:knightdale.acs@wakedems.org
END:VEVENT
END:VCALENDAR