BEGIN:VCALENDAR
VERSION:2.0
PRODID:-//Wake County Democratic Party - ECPv6.15.20//NONSGML v1.0//EN
CALSCALE:GREGORIAN
METHOD:PUBLISH
X-ORIGINAL-URL:https://www.wakedems.org
X-WR-CALDESC:Events for Wake County Democratic Party
REFRESH-INTERVAL;VALUE=DURATION:PT1H
X-Robots-Tag:noindex
X-PUBLISHED-TTL:PT1H
BEGIN:VTIMEZONE
TZID:America/New_York
BEGIN:DAYLIGHT
TZOFFSETFROM:-0500
TZOFFSETTO:-0400
TZNAME:EDT
DTSTART:20240310T070000
END:DAYLIGHT
BEGIN:STANDARD
TZOFFSETFROM:-0400
TZOFFSETTO:-0500
TZNAME:EST
DTSTART:20241103T060000
END:STANDARD
BEGIN:DAYLIGHT
TZOFFSETFROM:-0500
TZOFFSETTO:-0400
TZNAME:EDT
DTSTART:20250309T070000
END:DAYLIGHT
BEGIN:STANDARD
TZOFFSETFROM:-0400
TZOFFSETTO:-0500
TZNAME:EST
DTSTART:20251102T060000
END:STANDARD
BEGIN:DAYLIGHT
TZOFFSETFROM:-0500
TZOFFSETTO:-0400
TZNAME:EDT
DTSTART:20260308T070000
END:DAYLIGHT
BEGIN:STANDARD
TZOFFSETFROM:-0400
TZOFFSETTO:-0500
TZNAME:EST
DTSTART:20261101T060000
END:STANDARD
BEGIN:DAYLIGHT
TZOFFSETFROM:-0500
TZOFFSETTO:-0400
TZNAME:EDT
DTSTART:20270314T070000
END:DAYLIGHT
BEGIN:STANDARD
TZOFFSETFROM:-0400
TZOFFSETTO:-0500
TZNAME:EST
DTSTART:20271107T060000
END:STANDARD
END:VTIMEZONE
BEGIN:VEVENT
DTSTART;TZID=America/New_York:20260310T180000
DTEND;TZID=America/New_York:20260310T210000
DTSTAMP:20260421T114150
CREATED:20260103T185814Z
LAST-MODIFIED:20260103T185814Z
UID:10007694-1773165600-1773176400@www.wakedems.org
SUMMARY:Lakes Area Social - 2nd Tuesday of every odd number months
DESCRIPTION:Join Us as we meet\, listen to\, and ask questions to our N.C. State Senator Terence Everitt (Senate District 18) & learn about our local plans for 2026
URL:https://www.wakedems.org/wcdp-event/lakes-area-social-2nd-tuesday-of-every-odd-number-months-6/2026-03-10/
LOCATION:Location will be provided to registered attendees
CATEGORIES:Social Event
ATTACH;FMTTYPE=image/jpeg:https://www.wakedems.org/wp-content/uploads/2023/08/SocialEvent3.jpg
ORGANIZER;CN="Lakes Area Coordinator":MAILTO:lakes.acs@wakedems.org
END:VEVENT
BEGIN:VEVENT
DTSTART;TZID=America/New_York:20260113T180000
DTEND;TZID=America/New_York:20260113T210000
DTSTAMP:20260421T114150
CREATED:20260103T185814Z
LAST-MODIFIED:20260103T185814Z
UID:10007693-1768327200-1768338000@www.wakedems.org
SUMMARY:Lakes Area Social - 2nd Tuesday of every odd number months
DESCRIPTION:Join Us as we meet\, listen to\, and ask questions to our N.C. State Senator Terence Everitt (Senate District 18) & learn about our local plans for 2026
URL:https://www.wakedems.org/wcdp-event/lakes-area-social-2nd-tuesday-of-every-odd-number-months-6/2026-01-13/
LOCATION:Location will be provided to registered attendees
CATEGORIES:Social Event
ATTACH;FMTTYPE=image/jpeg:https://www.wakedems.org/wp-content/uploads/2023/08/SocialEvent3.jpg
ORGANIZER;CN="Lakes Area Coordinator":MAILTO:lakes.acs@wakedems.org
END:VEVENT
BEGIN:VEVENT
DTSTART;TZID=America/New_York:20251018T100000
DTEND;TZID=America/New_York:20251018T123000
DTSTAMP:20260421T114150
CREATED:20250913T175017Z
LAST-MODIFIED:20250913T175017Z
UID:10007206-1760781600-1760790600@www.wakedems.org
SUMMARY:Canvass for Zebulon
DESCRIPTION:We’ll be talking to Democrats and left-leaning voters that don’t vote consistently in midterms and municipal elections. The conversations we’ll have won’t just help us elect endorsed Democrats to the Zebulon Town Commission and the Mayor’s Office this fall — we’ll also be laying the groundwork to send Roy Cooper to the US Senate and re-elect Anita Earls in 2026! \nWe’ll provide training\, literature\, and a partner for you to go with. All you have to do is sign up and show up.
URL:https://www.wakedems.org/wcdp-event/canvass-for-zebulon-3/
LOCATION:Location will be provided to registered attendees
CATEGORIES:Canvass
ATTACH;FMTTYPE=image/jpeg:https://www.wakedems.org/wp-content/uploads/2023/08/Canvass3.jpg
ORGANIZER;CN="East Wake Area - AC":MAILTO:dgrgallagher@gmail.com
END:VEVENT
BEGIN:VEVENT
DTSTART;TZID=America/New_York:20251002T130000
DTEND;TZID=America/New_York:20251002T150000
DTSTAMP:20260421T114150
CREATED:20250907T151227Z
LAST-MODIFIED:20250907T151227Z
UID:10007050-1759410000-1759417200@www.wakedems.org
SUMMARY:Canvass for Wendell
DESCRIPTION:We’ll be talking to Democrats and left-leaning voters that don’t vote consistently in midterms and municipal elections. The conversations we’ll have won’t just help us elect all 3 endorsed Democrats to the Wendell Town Commission this fall — we’ll also be laying the groundwork to send Roy Cooper to the US Senate and re-elect Anita Earls in 2026! \nWe’ll provide training\, literature\, and a partner for you to go with. All you have to do is sign up and show up.
URL:https://www.wakedems.org/wcdp-event/canvass-for-wendell/
LOCATION:Location will be provided to registered attendees
CATEGORIES:Canvass
ATTACH;FMTTYPE=image/jpeg:https://www.wakedems.org/wp-content/uploads/2023/08/Canvass1.jpg
ORGANIZER;CN="East Wake Area":MAILTO:eastwake.acs@wakedems.org
END:VEVENT
BEGIN:VEVENT
DTSTART;TZID=America/New_York:20250927T100000
DTEND;TZID=America/New_York:20250927T123000
DTSTAMP:20260421T114150
CREATED:20250913T174523Z
LAST-MODIFIED:20250913T174523Z
UID:10007205-1758967200-1758976200@www.wakedems.org
SUMMARY:Canvass for Zebulon
DESCRIPTION:We’ll be talking to Democrats and left-leaning voters that don’t vote consistently in midterms and municipal elections. The conversations we’ll have won’t just help us elect endorsed Democrats to the Zebulon Town Commission and the Mayor’s Office this fall — we’ll also be laying the groundwork to send Roy Cooper to the US Senate and re-elect Anita Earls in 2026! \nWe’ll provide training\, literature\, and a partner for you to go with. All you have to do is sign up and show up.
URL:https://www.wakedems.org/wcdp-event/canvass-for-zebulon-2/
LOCATION:Location will be provided to registered attendees
CATEGORIES:Canvass
ATTACH;FMTTYPE=image/jpeg:https://www.wakedems.org/wp-content/uploads/2023/08/Canvass1.jpg
ORGANIZER;CN="East Wake Area - AC":MAILTO:dgrgallagher@gmail.com
END:VEVENT
BEGIN:VEVENT
DTSTART;TZID=America/New_York:20250918T130000
DTEND;TZID=America/New_York:20250918T153000
DTSTAMP:20260421T114150
CREATED:20250913T173713Z
LAST-MODIFIED:20250916T225040Z
UID:10007204-1758200400-1758209400@www.wakedems.org
SUMMARY:[CANCELED] Canvass for Zebulon
DESCRIPTION:We’ll be talking to Democrats and left-leaning voters that don’t vote consistently in midterms and municipal elections. The conversations we’ll have won’t just help us elect endorsed Democrats to the Zebulon Town Commission and the Mayor’s Office this fall — we’ll also be laying the groundwork to send Roy Cooper to the US Senate and re-elect Anita Earls in 2026! \nWe’ll provide training\, literature\, and a partner for you to go with. All you have to do is sign up and show up.
URL:https://www.wakedems.org/wcdp-event/canvass-for-zebulon/
LOCATION:Location will be provided to registered attendees
CATEGORIES:Canvass
ATTACH;FMTTYPE=image/jpeg:https://www.wakedems.org/wp-content/uploads/2023/08/Canvass2.jpg
ORGANIZER;CN="East Wake Area":MAILTO:eastwake.acs@wakedems.org
END:VEVENT
BEGIN:VEVENT
DTSTART;TZID=America/New_York:20250918T130000
DTEND;TZID=America/New_York:20250918T150000
DTSTAMP:20260421T114150
CREATED:20250907T154010Z
LAST-MODIFIED:20250916T224758Z
UID:10007049-1758200400-1758207600@www.wakedems.org
SUMMARY:[CANCELED] Canvass for Wendell
DESCRIPTION:We’ll be talking to Democrats and left-leaning voters that don’t vote consistently in midterms and municipal elections. The conversations we’ll have won’t just help us elect all 3 endorsed Democrats to the Wendell Town Commission this fall — we’ll also be laying the groundwork to send Roy Cooper to the US Senate and re-elect Anita Earls in 2026! \nWe’ll provide training\, literature\, and a partner for you to go with. All you have to do is sign up and show up.
URL:https://www.wakedems.org/wcdp-event/canvass-for-wendell-2/
LOCATION:Location will be provided to registered attendees
CATEGORIES:Canvass
ATTACH;FMTTYPE=image/jpeg:https://www.wakedems.org/wp-content/uploads/2023/08/Canvass2.jpg
ORGANIZER;CN="East Wake Area":MAILTO:eastwake.acs@wakedems.org
END:VEVENT
BEGIN:VEVENT
DTSTART;TZID=America/New_York:20250913T130000
DTEND;TZID=America/New_York:20250913T150000
DTSTAMP:20260421T114150
CREATED:20250903T200418Z
LAST-MODIFIED:20250910T005126Z
UID:10007034-1757768400-1757775600@www.wakedems.org
SUMMARY:CANCELLED - Canvass in Wendell
DESCRIPTION:*****THIS CANVASS HAS BEEN CANCELLED BY THE ORGANIZER***** \nJoin Wendell’s first GOTV Canvass launch of the year! \nWe’ll be talking to Democrats and left-leaning voters that don’t vote consistently in midterms and municipal elections. The conversations we’ll have won’t just help us elect all 3 endorsed Democrats to the Wendell Town Commission this fall — we’ll also be laying the groundwork to send Roy Cooper to the US Senate and re-elect Anita Earls in 2026! \nWe’ll provide training\, literature\, and a partner for you to go with. All you have to do is sign up and show up.
URL:https://www.wakedems.org/wcdp-event/canvass-in-wendell/
LOCATION:Location will be provided to registered attendees
CATEGORIES:GOTV Canvass
ATTACH;FMTTYPE=image/jpeg:https://www.wakedems.org/wp-content/uploads/2023/08/Canvass1.jpg
ORGANIZER;CN="East Wake Area":MAILTO:eastwake.acs@wakedems.org
END:VEVENT
BEGIN:VEVENT
DTSTART;TZID=America/New_York:20250907T190000
DTEND;TZID=America/New_York:20250907T200000
DTSTAMP:20260421T114150
CREATED:20250829T203818Z
LAST-MODIFIED:20250829T203818Z
UID:10007021-1757271600-1757275200@www.wakedems.org
SUMMARY:Meet the Candidates: Wendell & Zebulon
DESCRIPTION:Join us for a GOTV Kick-Off call to meet the WCDP-endorsed candidates for municipal races in Wendell and Zebulon this fall. They will explain the importance of their races and what we can do to help. This event is specifically for the Lakes area and Capital Forest area who will be partnering with East Wake (Wendell & Zebulon) to help canvass and phone bank this fall\, but other volunteers around the county are more than welcome to join as well. We would love for you to join us in the fight to help elect Democrats who share our values! \nGoogle Meet link will be sent to registered attendees prior to the session.
URL:https://www.wakedems.org/wcdp-event/meet-the-candidates-wendell-zebulon/
LOCATION:Virtual (Zoom or Google Meet)\, NC\, United States
CATEGORIES:Candidate Event
ATTACH;FMTTYPE=image/jpeg:https://www.wakedems.org/wp-content/uploads/2023/08/CandidateForum2.jpg
ORGANIZER;CN="Lakes Area Coordinator":MAILTO:lakes.acs@wakedems.org
END:VEVENT
BEGIN:VEVENT
DTSTART;TZID=America/New_York:20250830T100000
DTEND;TZID=America/New_York:20250830T120000
DTSTAMP:20260421T114150
CREATED:20250829T204341Z
LAST-MODIFIED:20250829T204343Z
UID:10006976-1756548000-1756555200@www.wakedems.org
SUMMARY:Knock Doors with Wake Dems-Lakes Area (NW Raleigh) + Special Guest:  Senator Terence Everitt (SD-18)
DESCRIPTION:We are not backing down. We win when we talk directly to voters. Together\, we’ll fight back against the GOP/MAGA anti-democracy agenda. \nCome canvass with us this weekend as we connect with fellow Democrats and hear from our own state senator Terence Everitt. (SD-18). He will be updating us on the issues that we will be talking with Democratic voters about.  \nJoin our team to help us flip HD-35 blue\, secure SD-18\, and build our Democratic Team!
URL:https://www.wakedems.org/wcdp-event/canvass-with-wake-dems-lakes-area-nw-raleigh-2/
LOCATION:Private Address
CATEGORIES:Canvass,Volunteer Events
ATTACH;FMTTYPE=image/jpeg:https://www.wakedems.org/wp-content/uploads/2023/08/Canvass3.jpg
ORGANIZER;CN="Lakes Area Coordinator":MAILTO:lakes.acs@wakedems.org
END:VEVENT
BEGIN:VEVENT
DTSTART;TZID=America/New_York:20250816T100000
DTEND;TZID=America/New_York:20250816T120000
DTSTAMP:20260421T114150
CREATED:20250814T000952Z
LAST-MODIFIED:20250815T170446Z
UID:10006975-1755338400-1755345600@www.wakedems.org
SUMMARY:Canvass with Wake Dems: Lakes Area! (NW Raleigh)
DESCRIPTION:We are not backing down. We win when we talk directly to voters. Together\, we’ll fight back against the GOP/MAGA anti-democracy agenda. \nCome canvass with us this weekend as we connect with fellow Democrats. Join our team to help us flip HD-35 blue\, secure SD-18\, and build our Democratic Team!
URL:https://www.wakedems.org/wcdp-event/canvass-with-wake-dems-lakes-area-nw-raleigh/
LOCATION:Private Address
CATEGORIES:Canvass,Volunteer Events
ATTACH;FMTTYPE=image/jpeg:https://www.wakedems.org/wp-content/uploads/2023/08/Canvass3.jpg
ORGANIZER;CN="Lakes Area Coordinator":MAILTO:lakes.acs@wakedems.org
END:VEVENT
END:VCALENDAR