BEGIN:VCALENDAR
VERSION:2.0
PRODID:-//Wake County Democratic Party - ECPv6.15.20//NONSGML v1.0//EN
CALSCALE:GREGORIAN
METHOD:PUBLISH
X-ORIGINAL-URL:https://www.wakedems.org
X-WR-CALDESC:Events for Wake County Democratic Party
REFRESH-INTERVAL;VALUE=DURATION:PT1H
X-Robots-Tag:noindex
X-PUBLISHED-TTL:PT1H
BEGIN:VTIMEZONE
TZID:America/New_York
BEGIN:DAYLIGHT
TZOFFSETFROM:-0500
TZOFFSETTO:-0400
TZNAME:EDT
DTSTART:20250309T070000
END:DAYLIGHT
BEGIN:STANDARD
TZOFFSETFROM:-0400
TZOFFSETTO:-0500
TZNAME:EST
DTSTART:20251102T060000
END:STANDARD
BEGIN:DAYLIGHT
TZOFFSETFROM:-0500
TZOFFSETTO:-0400
TZNAME:EDT
DTSTART:20260308T070000
END:DAYLIGHT
BEGIN:STANDARD
TZOFFSETFROM:-0400
TZOFFSETTO:-0500
TZNAME:EST
DTSTART:20261101T060000
END:STANDARD
BEGIN:DAYLIGHT
TZOFFSETFROM:-0500
TZOFFSETTO:-0400
TZNAME:EDT
DTSTART:20270314T070000
END:DAYLIGHT
BEGIN:STANDARD
TZOFFSETFROM:-0400
TZOFFSETTO:-0500
TZNAME:EST
DTSTART:20271107T060000
END:STANDARD
BEGIN:DAYLIGHT
TZOFFSETFROM:-0500
TZOFFSETTO:-0400
TZNAME:EDT
DTSTART:20280312T070000
END:DAYLIGHT
BEGIN:STANDARD
TZOFFSETFROM:-0400
TZOFFSETTO:-0500
TZNAME:EST
DTSTART:20281105T060000
END:STANDARD
BEGIN:DAYLIGHT
TZOFFSETFROM:-0500
TZOFFSETTO:-0400
TZNAME:EDT
DTSTART:20290311T070000
END:DAYLIGHT
BEGIN:STANDARD
TZOFFSETFROM:-0400
TZOFFSETTO:-0500
TZNAME:EST
DTSTART:20291104T060000
END:STANDARD
BEGIN:DAYLIGHT
TZOFFSETFROM:-0500
TZOFFSETTO:-0400
TZNAME:EDT
DTSTART:20300310T070000
END:DAYLIGHT
BEGIN:STANDARD
TZOFFSETFROM:-0400
TZOFFSETTO:-0500
TZNAME:EST
DTSTART:20301103T060000
END:STANDARD
BEGIN:DAYLIGHT
TZOFFSETFROM:-0500
TZOFFSETTO:-0400
TZNAME:EDT
DTSTART:20310309T070000
END:DAYLIGHT
BEGIN:STANDARD
TZOFFSETFROM:-0400
TZOFFSETTO:-0500
TZNAME:EST
DTSTART:20311102T060000
END:STANDARD
END:VTIMEZONE
BEGIN:VEVENT
DTSTART;TZID=America/New_York:20260512T180000
DTEND;TZID=America/New_York:20260512T210000
DTSTAMP:20260421T095412
CREATED:20260103T185814Z
LAST-MODIFIED:20260103T185814Z
UID:10007695-1778608800-1778619600@www.wakedems.org
SUMMARY:Lakes Area Social - 2nd Tuesday of every odd number months
DESCRIPTION:Join Us as we meet\, listen to\, and ask questions to our N.C. State Senator Terence Everitt (Senate District 18) & learn about our local plans for 2026
URL:https://www.wakedems.org/wcdp-event/lakes-area-social-2nd-tuesday-of-every-odd-number-months-6/2026-05-12/
LOCATION:Location will be provided to registered attendees
CATEGORIES:Social Event
ATTACH;FMTTYPE=image/jpeg:https://www.wakedems.org/wp-content/uploads/2023/08/SocialEvent3.jpg
ORGANIZER;CN="Lakes Area Coordinator":MAILTO:lakes.acs@wakedems.org
END:VEVENT
BEGIN:VEVENT
DTSTART;TZID=America/New_York:20260714T180000
DTEND;TZID=America/New_York:20260714T210000
DTSTAMP:20260421T095412
CREATED:20260103T185814Z
LAST-MODIFIED:20260103T185814Z
UID:10007696-1784052000-1784062800@www.wakedems.org
SUMMARY:Lakes Area Social - 2nd Tuesday of every odd number months
DESCRIPTION:Join Us as we meet\, listen to\, and ask questions to our N.C. State Senator Terence Everitt (Senate District 18) & learn about our local plans for 2026
URL:https://www.wakedems.org/wcdp-event/lakes-area-social-2nd-tuesday-of-every-odd-number-months-6/2026-07-14/
LOCATION:Location will be provided to registered attendees
CATEGORIES:Social Event
ATTACH;FMTTYPE=image/jpeg:https://www.wakedems.org/wp-content/uploads/2023/08/SocialEvent3.jpg
ORGANIZER;CN="Lakes Area Coordinator":MAILTO:lakes.acs@wakedems.org
END:VEVENT
BEGIN:VEVENT
DTSTART;TZID=America/New_York:20260908T180000
DTEND;TZID=America/New_York:20260908T210000
DTSTAMP:20260421T095412
CREATED:20260103T185814Z
LAST-MODIFIED:20260103T185814Z
UID:10007697-1788890400-1788901200@www.wakedems.org
SUMMARY:Lakes Area Social - 2nd Tuesday of every odd number months
DESCRIPTION:Join Us as we meet\, listen to\, and ask questions to our N.C. State Senator Terence Everitt (Senate District 18) & learn about our local plans for 2026
URL:https://www.wakedems.org/wcdp-event/lakes-area-social-2nd-tuesday-of-every-odd-number-months-6/2026-09-08/
LOCATION:Location will be provided to registered attendees
CATEGORIES:Social Event
ATTACH;FMTTYPE=image/jpeg:https://www.wakedems.org/wp-content/uploads/2023/08/SocialEvent3.jpg
ORGANIZER;CN="Lakes Area Coordinator":MAILTO:lakes.acs@wakedems.org
END:VEVENT
BEGIN:VEVENT
DTSTART;TZID=America/New_York:20261110T180000
DTEND;TZID=America/New_York:20261110T210000
DTSTAMP:20260421T095412
CREATED:20260103T185814Z
LAST-MODIFIED:20260103T185814Z
UID:10007698-1794333600-1794344400@www.wakedems.org
SUMMARY:Lakes Area Social - 2nd Tuesday of every odd number months
DESCRIPTION:Join Us as we meet\, listen to\, and ask questions to our N.C. State Senator Terence Everitt (Senate District 18) & learn about our local plans for 2026
URL:https://www.wakedems.org/wcdp-event/lakes-area-social-2nd-tuesday-of-every-odd-number-months-6/2026-11-10/
LOCATION:Location will be provided to registered attendees
CATEGORIES:Social Event
ATTACH;FMTTYPE=image/jpeg:https://www.wakedems.org/wp-content/uploads/2023/08/SocialEvent3.jpg
ORGANIZER;CN="Lakes Area Coordinator":MAILTO:lakes.acs@wakedems.org
END:VEVENT
BEGIN:VEVENT
DTSTART;TZID=America/New_York:20270112T180000
DTEND;TZID=America/New_York:20270112T210000
DTSTAMP:20260421T095412
CREATED:20260103T185814Z
LAST-MODIFIED:20260103T185814Z
UID:10007699-1799776800-1799787600@www.wakedems.org
SUMMARY:Lakes Area Social - 2nd Tuesday of every odd number months
DESCRIPTION:Join Us as we meet\, listen to\, and ask questions to our N.C. State Senator Terence Everitt (Senate District 18) & learn about our local plans for 2026
URL:https://www.wakedems.org/wcdp-event/lakes-area-social-2nd-tuesday-of-every-odd-number-months-6/2027-01-12/
LOCATION:Location will be provided to registered attendees
CATEGORIES:Social Event
ATTACH;FMTTYPE=image/jpeg:https://www.wakedems.org/wp-content/uploads/2023/08/SocialEvent3.jpg
ORGANIZER;CN="Lakes Area Coordinator":MAILTO:lakes.acs@wakedems.org
END:VEVENT
BEGIN:VEVENT
DTSTART;TZID=America/New_York:20270309T180000
DTEND;TZID=America/New_York:20270309T210000
DTSTAMP:20260421T095412
CREATED:20260103T185814Z
LAST-MODIFIED:20260103T185814Z
UID:10007700-1804615200-1804626000@www.wakedems.org
SUMMARY:Lakes Area Social - 2nd Tuesday of every odd number months
DESCRIPTION:Join Us as we meet\, listen to\, and ask questions to our N.C. State Senator Terence Everitt (Senate District 18) & learn about our local plans for 2026
URL:https://www.wakedems.org/wcdp-event/lakes-area-social-2nd-tuesday-of-every-odd-number-months-6/2027-03-09/
LOCATION:Location will be provided to registered attendees
CATEGORIES:Social Event
ATTACH;FMTTYPE=image/jpeg:https://www.wakedems.org/wp-content/uploads/2023/08/SocialEvent3.jpg
ORGANIZER;CN="Lakes Area Coordinator":MAILTO:lakes.acs@wakedems.org
END:VEVENT
BEGIN:VEVENT
DTSTART;TZID=America/New_York:20270511T180000
DTEND;TZID=America/New_York:20270511T210000
DTSTAMP:20260421T095412
CREATED:20260103T185814Z
LAST-MODIFIED:20260103T185814Z
UID:10007701-1810058400-1810069200@www.wakedems.org
SUMMARY:Lakes Area Social - 2nd Tuesday of every odd number months
DESCRIPTION:Join Us as we meet\, listen to\, and ask questions to our N.C. State Senator Terence Everitt (Senate District 18) & learn about our local plans for 2026
URL:https://www.wakedems.org/wcdp-event/lakes-area-social-2nd-tuesday-of-every-odd-number-months-6/2027-05-11/
LOCATION:Location will be provided to registered attendees
CATEGORIES:Social Event
ATTACH;FMTTYPE=image/jpeg:https://www.wakedems.org/wp-content/uploads/2023/08/SocialEvent3.jpg
ORGANIZER;CN="Lakes Area Coordinator":MAILTO:lakes.acs@wakedems.org
END:VEVENT
BEGIN:VEVENT
DTSTART;TZID=America/New_York:20270713T180000
DTEND;TZID=America/New_York:20270713T210000
DTSTAMP:20260421T095412
CREATED:20260103T185814Z
LAST-MODIFIED:20260103T185814Z
UID:10007702-1815501600-1815512400@www.wakedems.org
SUMMARY:Lakes Area Social - 2nd Tuesday of every odd number months
DESCRIPTION:Join Us as we meet\, listen to\, and ask questions to our N.C. State Senator Terence Everitt (Senate District 18) & learn about our local plans for 2026
URL:https://www.wakedems.org/wcdp-event/lakes-area-social-2nd-tuesday-of-every-odd-number-months-6/2027-07-13/
LOCATION:Location will be provided to registered attendees
CATEGORIES:Social Event
ATTACH;FMTTYPE=image/jpeg:https://www.wakedems.org/wp-content/uploads/2023/08/SocialEvent3.jpg
ORGANIZER;CN="Lakes Area Coordinator":MAILTO:lakes.acs@wakedems.org
END:VEVENT
BEGIN:VEVENT
DTSTART;TZID=America/New_York:20270914T180000
DTEND;TZID=America/New_York:20270914T210000
DTSTAMP:20260421T095412
CREATED:20260103T185814Z
LAST-MODIFIED:20260103T185814Z
UID:10007703-1820944800-1820955600@www.wakedems.org
SUMMARY:Lakes Area Social - 2nd Tuesday of every odd number months
DESCRIPTION:Join Us as we meet\, listen to\, and ask questions to our N.C. State Senator Terence Everitt (Senate District 18) & learn about our local plans for 2026
URL:https://www.wakedems.org/wcdp-event/lakes-area-social-2nd-tuesday-of-every-odd-number-months-6/2027-09-14/
LOCATION:Location will be provided to registered attendees
CATEGORIES:Social Event
ATTACH;FMTTYPE=image/jpeg:https://www.wakedems.org/wp-content/uploads/2023/08/SocialEvent3.jpg
ORGANIZER;CN="Lakes Area Coordinator":MAILTO:lakes.acs@wakedems.org
END:VEVENT
BEGIN:VEVENT
DTSTART;TZID=America/New_York:20271109T180000
DTEND;TZID=America/New_York:20271109T210000
DTSTAMP:20260421T095412
CREATED:20260103T185814Z
LAST-MODIFIED:20260103T185814Z
UID:10007704-1825783200-1825794000@www.wakedems.org
SUMMARY:Lakes Area Social - 2nd Tuesday of every odd number months
DESCRIPTION:Join Us as we meet\, listen to\, and ask questions to our N.C. State Senator Terence Everitt (Senate District 18) & learn about our local plans for 2026
URL:https://www.wakedems.org/wcdp-event/lakes-area-social-2nd-tuesday-of-every-odd-number-months-6/2027-11-09/
LOCATION:Location will be provided to registered attendees
CATEGORIES:Social Event
ATTACH;FMTTYPE=image/jpeg:https://www.wakedems.org/wp-content/uploads/2023/08/SocialEvent3.jpg
ORGANIZER;CN="Lakes Area Coordinator":MAILTO:lakes.acs@wakedems.org
END:VEVENT
BEGIN:VEVENT
DTSTART;TZID=America/New_York:20280111T180000
DTEND;TZID=America/New_York:20280111T210000
DTSTAMP:20260421T095412
CREATED:20260103T185814Z
LAST-MODIFIED:20260103T185814Z
UID:10007705-1831226400-1831237200@www.wakedems.org
SUMMARY:Lakes Area Social - 2nd Tuesday of every odd number months
DESCRIPTION:Join Us as we meet\, listen to\, and ask questions to our N.C. State Senator Terence Everitt (Senate District 18) & learn about our local plans for 2026
URL:https://www.wakedems.org/wcdp-event/lakes-area-social-2nd-tuesday-of-every-odd-number-months-6/2028-01-11/
LOCATION:Location will be provided to registered attendees
CATEGORIES:Social Event
ATTACH;FMTTYPE=image/jpeg:https://www.wakedems.org/wp-content/uploads/2023/08/SocialEvent3.jpg
ORGANIZER;CN="Lakes Area Coordinator":MAILTO:lakes.acs@wakedems.org
END:VEVENT
BEGIN:VEVENT
DTSTART;TZID=America/New_York:20280314T180000
DTEND;TZID=America/New_York:20280314T210000
DTSTAMP:20260421T095412
CREATED:20260103T185814Z
LAST-MODIFIED:20260103T185814Z
UID:10007706-1836669600-1836680400@www.wakedems.org
SUMMARY:Lakes Area Social - 2nd Tuesday of every odd number months
DESCRIPTION:Join Us as we meet\, listen to\, and ask questions to our N.C. State Senator Terence Everitt (Senate District 18) & learn about our local plans for 2026
URL:https://www.wakedems.org/wcdp-event/lakes-area-social-2nd-tuesday-of-every-odd-number-months-6/2028-03-14/
LOCATION:Location will be provided to registered attendees
CATEGORIES:Social Event
ATTACH;FMTTYPE=image/jpeg:https://www.wakedems.org/wp-content/uploads/2023/08/SocialEvent3.jpg
ORGANIZER;CN="Lakes Area Coordinator":MAILTO:lakes.acs@wakedems.org
END:VEVENT
BEGIN:VEVENT
DTSTART;TZID=America/New_York:20280509T180000
DTEND;TZID=America/New_York:20280509T210000
DTSTAMP:20260421T095412
CREATED:20260103T185814Z
LAST-MODIFIED:20260103T185814Z
UID:10007707-1841508000-1841518800@www.wakedems.org
SUMMARY:Lakes Area Social - 2nd Tuesday of every odd number months
DESCRIPTION:Join Us as we meet\, listen to\, and ask questions to our N.C. State Senator Terence Everitt (Senate District 18) & learn about our local plans for 2026
URL:https://www.wakedems.org/wcdp-event/lakes-area-social-2nd-tuesday-of-every-odd-number-months-6/2028-05-09/
LOCATION:Location will be provided to registered attendees
CATEGORIES:Social Event
ATTACH;FMTTYPE=image/jpeg:https://www.wakedems.org/wp-content/uploads/2023/08/SocialEvent3.jpg
ORGANIZER;CN="Lakes Area Coordinator":MAILTO:lakes.acs@wakedems.org
END:VEVENT
BEGIN:VEVENT
DTSTART;TZID=America/New_York:20280711T180000
DTEND;TZID=America/New_York:20280711T210000
DTSTAMP:20260421T095412
CREATED:20260103T185814Z
LAST-MODIFIED:20260103T185814Z
UID:10007708-1846951200-1846962000@www.wakedems.org
SUMMARY:Lakes Area Social - 2nd Tuesday of every odd number months
DESCRIPTION:Join Us as we meet\, listen to\, and ask questions to our N.C. State Senator Terence Everitt (Senate District 18) & learn about our local plans for 2026
URL:https://www.wakedems.org/wcdp-event/lakes-area-social-2nd-tuesday-of-every-odd-number-months-6/2028-07-11/
LOCATION:Location will be provided to registered attendees
CATEGORIES:Social Event
ATTACH;FMTTYPE=image/jpeg:https://www.wakedems.org/wp-content/uploads/2023/08/SocialEvent3.jpg
ORGANIZER;CN="Lakes Area Coordinator":MAILTO:lakes.acs@wakedems.org
END:VEVENT
BEGIN:VEVENT
DTSTART;TZID=America/New_York:20280912T180000
DTEND;TZID=America/New_York:20280912T210000
DTSTAMP:20260421T095412
CREATED:20260103T185814Z
LAST-MODIFIED:20260103T185814Z
UID:10007709-1852394400-1852405200@www.wakedems.org
SUMMARY:Lakes Area Social - 2nd Tuesday of every odd number months
DESCRIPTION:Join Us as we meet\, listen to\, and ask questions to our N.C. State Senator Terence Everitt (Senate District 18) & learn about our local plans for 2026
URL:https://www.wakedems.org/wcdp-event/lakes-area-social-2nd-tuesday-of-every-odd-number-months-6/2028-09-12/
LOCATION:Location will be provided to registered attendees
CATEGORIES:Social Event
ATTACH;FMTTYPE=image/jpeg:https://www.wakedems.org/wp-content/uploads/2023/08/SocialEvent3.jpg
ORGANIZER;CN="Lakes Area Coordinator":MAILTO:lakes.acs@wakedems.org
END:VEVENT
BEGIN:VEVENT
DTSTART;TZID=America/New_York:20281114T180000
DTEND;TZID=America/New_York:20281114T210000
DTSTAMP:20260421T095412
CREATED:20260103T185814Z
LAST-MODIFIED:20260103T185814Z
UID:10007710-1857837600-1857848400@www.wakedems.org
SUMMARY:Lakes Area Social - 2nd Tuesday of every odd number months
DESCRIPTION:Join Us as we meet\, listen to\, and ask questions to our N.C. State Senator Terence Everitt (Senate District 18) & learn about our local plans for 2026
URL:https://www.wakedems.org/wcdp-event/lakes-area-social-2nd-tuesday-of-every-odd-number-months-6/2028-11-14/
LOCATION:Location will be provided to registered attendees
CATEGORIES:Social Event
ATTACH;FMTTYPE=image/jpeg:https://www.wakedems.org/wp-content/uploads/2023/08/SocialEvent3.jpg
ORGANIZER;CN="Lakes Area Coordinator":MAILTO:lakes.acs@wakedems.org
END:VEVENT
BEGIN:VEVENT
DTSTART;TZID=America/New_York:20290109T180000
DTEND;TZID=America/New_York:20290109T210000
DTSTAMP:20260421T095412
CREATED:20260103T185814Z
LAST-MODIFIED:20260103T185814Z
UID:10007711-1862676000-1862686800@www.wakedems.org
SUMMARY:Lakes Area Social - 2nd Tuesday of every odd number months
DESCRIPTION:Join Us as we meet\, listen to\, and ask questions to our N.C. State Senator Terence Everitt (Senate District 18) & learn about our local plans for 2026
URL:https://www.wakedems.org/wcdp-event/lakes-area-social-2nd-tuesday-of-every-odd-number-months-6/2029-01-09/
LOCATION:Location will be provided to registered attendees
CATEGORIES:Social Event
ATTACH;FMTTYPE=image/jpeg:https://www.wakedems.org/wp-content/uploads/2023/08/SocialEvent3.jpg
ORGANIZER;CN="Lakes Area Coordinator":MAILTO:lakes.acs@wakedems.org
END:VEVENT
BEGIN:VEVENT
DTSTART;TZID=America/New_York:20290313T180000
DTEND;TZID=America/New_York:20290313T210000
DTSTAMP:20260421T095412
CREATED:20260103T185814Z
LAST-MODIFIED:20260103T185814Z
UID:10007712-1868119200-1868130000@www.wakedems.org
SUMMARY:Lakes Area Social - 2nd Tuesday of every odd number months
DESCRIPTION:Join Us as we meet\, listen to\, and ask questions to our N.C. State Senator Terence Everitt (Senate District 18) & learn about our local plans for 2026
URL:https://www.wakedems.org/wcdp-event/lakes-area-social-2nd-tuesday-of-every-odd-number-months-6/2029-03-13/
LOCATION:Location will be provided to registered attendees
CATEGORIES:Social Event
ATTACH;FMTTYPE=image/jpeg:https://www.wakedems.org/wp-content/uploads/2023/08/SocialEvent3.jpg
ORGANIZER;CN="Lakes Area Coordinator":MAILTO:lakes.acs@wakedems.org
END:VEVENT
BEGIN:VEVENT
DTSTART;TZID=America/New_York:20290508T180000
DTEND;TZID=America/New_York:20290508T210000
DTSTAMP:20260421T095412
CREATED:20260103T185814Z
LAST-MODIFIED:20260103T185814Z
UID:10007713-1872957600-1872968400@www.wakedems.org
SUMMARY:Lakes Area Social - 2nd Tuesday of every odd number months
DESCRIPTION:Join Us as we meet\, listen to\, and ask questions to our N.C. State Senator Terence Everitt (Senate District 18) & learn about our local plans for 2026
URL:https://www.wakedems.org/wcdp-event/lakes-area-social-2nd-tuesday-of-every-odd-number-months-6/2029-05-08/
LOCATION:Location will be provided to registered attendees
CATEGORIES:Social Event
ATTACH;FMTTYPE=image/jpeg:https://www.wakedems.org/wp-content/uploads/2023/08/SocialEvent3.jpg
ORGANIZER;CN="Lakes Area Coordinator":MAILTO:lakes.acs@wakedems.org
END:VEVENT
BEGIN:VEVENT
DTSTART;TZID=America/New_York:20290710T180000
DTEND;TZID=America/New_York:20290710T210000
DTSTAMP:20260421T095412
CREATED:20260103T185814Z
LAST-MODIFIED:20260103T185814Z
UID:10007714-1878400800-1878411600@www.wakedems.org
SUMMARY:Lakes Area Social - 2nd Tuesday of every odd number months
DESCRIPTION:Join Us as we meet\, listen to\, and ask questions to our N.C. State Senator Terence Everitt (Senate District 18) & learn about our local plans for 2026
URL:https://www.wakedems.org/wcdp-event/lakes-area-social-2nd-tuesday-of-every-odd-number-months-6/2029-07-10/
LOCATION:Location will be provided to registered attendees
CATEGORIES:Social Event
ATTACH;FMTTYPE=image/jpeg:https://www.wakedems.org/wp-content/uploads/2023/08/SocialEvent3.jpg
ORGANIZER;CN="Lakes Area Coordinator":MAILTO:lakes.acs@wakedems.org
END:VEVENT
BEGIN:VEVENT
DTSTART;TZID=America/New_York:20290911T180000
DTEND;TZID=America/New_York:20290911T210000
DTSTAMP:20260421T095412
CREATED:20260103T185814Z
LAST-MODIFIED:20260103T185814Z
UID:10007715-1883844000-1883854800@www.wakedems.org
SUMMARY:Lakes Area Social - 2nd Tuesday of every odd number months
DESCRIPTION:Join Us as we meet\, listen to\, and ask questions to our N.C. State Senator Terence Everitt (Senate District 18) & learn about our local plans for 2026
URL:https://www.wakedems.org/wcdp-event/lakes-area-social-2nd-tuesday-of-every-odd-number-months-6/2029-09-11/
LOCATION:Location will be provided to registered attendees
CATEGORIES:Social Event
ATTACH;FMTTYPE=image/jpeg:https://www.wakedems.org/wp-content/uploads/2023/08/SocialEvent3.jpg
ORGANIZER;CN="Lakes Area Coordinator":MAILTO:lakes.acs@wakedems.org
END:VEVENT
BEGIN:VEVENT
DTSTART;TZID=America/New_York:20291113T180000
DTEND;TZID=America/New_York:20291113T210000
DTSTAMP:20260421T095412
CREATED:20260103T185814Z
LAST-MODIFIED:20260103T185814Z
UID:10007716-1889287200-1889298000@www.wakedems.org
SUMMARY:Lakes Area Social - 2nd Tuesday of every odd number months
DESCRIPTION:Join Us as we meet\, listen to\, and ask questions to our N.C. State Senator Terence Everitt (Senate District 18) & learn about our local plans for 2026
URL:https://www.wakedems.org/wcdp-event/lakes-area-social-2nd-tuesday-of-every-odd-number-months-6/2029-11-13/
LOCATION:Location will be provided to registered attendees
CATEGORIES:Social Event
ATTACH;FMTTYPE=image/jpeg:https://www.wakedems.org/wp-content/uploads/2023/08/SocialEvent3.jpg
ORGANIZER;CN="Lakes Area Coordinator":MAILTO:lakes.acs@wakedems.org
END:VEVENT
BEGIN:VEVENT
DTSTART;TZID=America/New_York:20300108T180000
DTEND;TZID=America/New_York:20300108T210000
DTSTAMP:20260421T095412
CREATED:20260103T185814Z
LAST-MODIFIED:20260103T185814Z
UID:10007717-1894125600-1894136400@www.wakedems.org
SUMMARY:Lakes Area Social - 2nd Tuesday of every odd number months
DESCRIPTION:Join Us as we meet\, listen to\, and ask questions to our N.C. State Senator Terence Everitt (Senate District 18) & learn about our local plans for 2026
URL:https://www.wakedems.org/wcdp-event/lakes-area-social-2nd-tuesday-of-every-odd-number-months-6/2030-01-08/
LOCATION:Location will be provided to registered attendees
CATEGORIES:Social Event
ATTACH;FMTTYPE=image/jpeg:https://www.wakedems.org/wp-content/uploads/2023/08/SocialEvent3.jpg
ORGANIZER;CN="Lakes Area Coordinator":MAILTO:lakes.acs@wakedems.org
END:VEVENT
BEGIN:VEVENT
DTSTART;TZID=America/New_York:20300312T180000
DTEND;TZID=America/New_York:20300312T210000
DTSTAMP:20260421T095412
CREATED:20260103T185814Z
LAST-MODIFIED:20260103T185814Z
UID:10007718-1899568800-1899579600@www.wakedems.org
SUMMARY:Lakes Area Social - 2nd Tuesday of every odd number months
DESCRIPTION:Join Us as we meet\, listen to\, and ask questions to our N.C. State Senator Terence Everitt (Senate District 18) & learn about our local plans for 2026
URL:https://www.wakedems.org/wcdp-event/lakes-area-social-2nd-tuesday-of-every-odd-number-months-6/2030-03-12/
LOCATION:Location will be provided to registered attendees
CATEGORIES:Social Event
ATTACH;FMTTYPE=image/jpeg:https://www.wakedems.org/wp-content/uploads/2023/08/SocialEvent3.jpg
ORGANIZER;CN="Lakes Area Coordinator":MAILTO:lakes.acs@wakedems.org
END:VEVENT
BEGIN:VEVENT
DTSTART;TZID=America/New_York:20300514T180000
DTEND;TZID=America/New_York:20300514T210000
DTSTAMP:20260421T095412
CREATED:20260103T185814Z
LAST-MODIFIED:20260103T185814Z
UID:10007719-1905012000-1905022800@www.wakedems.org
SUMMARY:Lakes Area Social - 2nd Tuesday of every odd number months
DESCRIPTION:Join Us as we meet\, listen to\, and ask questions to our N.C. State Senator Terence Everitt (Senate District 18) & learn about our local plans for 2026
URL:https://www.wakedems.org/wcdp-event/lakes-area-social-2nd-tuesday-of-every-odd-number-months-6/2030-05-14/
LOCATION:Location will be provided to registered attendees
CATEGORIES:Social Event
ATTACH;FMTTYPE=image/jpeg:https://www.wakedems.org/wp-content/uploads/2023/08/SocialEvent3.jpg
ORGANIZER;CN="Lakes Area Coordinator":MAILTO:lakes.acs@wakedems.org
END:VEVENT
BEGIN:VEVENT
DTSTART;TZID=America/New_York:20300709T180000
DTEND;TZID=America/New_York:20300709T210000
DTSTAMP:20260421T095412
CREATED:20260103T185814Z
LAST-MODIFIED:20260103T185814Z
UID:10007720-1909850400-1909861200@www.wakedems.org
SUMMARY:Lakes Area Social - 2nd Tuesday of every odd number months
DESCRIPTION:Join Us as we meet\, listen to\, and ask questions to our N.C. State Senator Terence Everitt (Senate District 18) & learn about our local plans for 2026
URL:https://www.wakedems.org/wcdp-event/lakes-area-social-2nd-tuesday-of-every-odd-number-months-6/2030-07-09/
LOCATION:Location will be provided to registered attendees
CATEGORIES:Social Event
ATTACH;FMTTYPE=image/jpeg:https://www.wakedems.org/wp-content/uploads/2023/08/SocialEvent3.jpg
ORGANIZER;CN="Lakes Area Coordinator":MAILTO:lakes.acs@wakedems.org
END:VEVENT
BEGIN:VEVENT
DTSTART;TZID=America/New_York:20300910T180000
DTEND;TZID=America/New_York:20300910T210000
DTSTAMP:20260421T095412
CREATED:20260103T185814Z
LAST-MODIFIED:20260103T185814Z
UID:10007721-1915293600-1915304400@www.wakedems.org
SUMMARY:Lakes Area Social - 2nd Tuesday of every odd number months
DESCRIPTION:Join Us as we meet\, listen to\, and ask questions to our N.C. State Senator Terence Everitt (Senate District 18) & learn about our local plans for 2026
URL:https://www.wakedems.org/wcdp-event/lakes-area-social-2nd-tuesday-of-every-odd-number-months-6/2030-09-10/
LOCATION:Location will be provided to registered attendees
CATEGORIES:Social Event
ATTACH;FMTTYPE=image/jpeg:https://www.wakedems.org/wp-content/uploads/2023/08/SocialEvent3.jpg
ORGANIZER;CN="Lakes Area Coordinator":MAILTO:lakes.acs@wakedems.org
END:VEVENT
BEGIN:VEVENT
DTSTART;TZID=America/New_York:20301112T180000
DTEND;TZID=America/New_York:20301112T210000
DTSTAMP:20260421T095412
CREATED:20260103T185814Z
LAST-MODIFIED:20260103T185814Z
UID:10007722-1920736800-1920747600@www.wakedems.org
SUMMARY:Lakes Area Social - 2nd Tuesday of every odd number months
DESCRIPTION:Join Us as we meet\, listen to\, and ask questions to our N.C. State Senator Terence Everitt (Senate District 18) & learn about our local plans for 2026
URL:https://www.wakedems.org/wcdp-event/lakes-area-social-2nd-tuesday-of-every-odd-number-months-6/2030-11-12/
LOCATION:Location will be provided to registered attendees
CATEGORIES:Social Event
ATTACH;FMTTYPE=image/jpeg:https://www.wakedems.org/wp-content/uploads/2023/08/SocialEvent3.jpg
ORGANIZER;CN="Lakes Area Coordinator":MAILTO:lakes.acs@wakedems.org
END:VEVENT
END:VCALENDAR