BEGIN:VCALENDAR
VERSION:2.0
PRODID:-//Wake County Democratic Party - ECPv6.15.20//NONSGML v1.0//EN
CALSCALE:GREGORIAN
METHOD:PUBLISH
X-WR-CALNAME:Wake County Democratic Party
X-ORIGINAL-URL:https://www.wakedems.org
X-WR-CALDESC:Events for Wake County Democratic Party
REFRESH-INTERVAL;VALUE=DURATION:PT1H
X-Robots-Tag:noindex
X-PUBLISHED-TTL:PT1H
BEGIN:VTIMEZONE
TZID:America/New_York
BEGIN:DAYLIGHT
TZOFFSETFROM:-0500
TZOFFSETTO:-0400
TZNAME:EDT
DTSTART:20240310T070000
END:DAYLIGHT
BEGIN:STANDARD
TZOFFSETFROM:-0400
TZOFFSETTO:-0500
TZNAME:EST
DTSTART:20241103T060000
END:STANDARD
BEGIN:DAYLIGHT
TZOFFSETFROM:-0500
TZOFFSETTO:-0400
TZNAME:EDT
DTSTART:20250309T070000
END:DAYLIGHT
BEGIN:STANDARD
TZOFFSETFROM:-0400
TZOFFSETTO:-0500
TZNAME:EST
DTSTART:20251102T060000
END:STANDARD
BEGIN:DAYLIGHT
TZOFFSETFROM:-0500
TZOFFSETTO:-0400
TZNAME:EDT
DTSTART:20260308T070000
END:DAYLIGHT
BEGIN:STANDARD
TZOFFSETFROM:-0400
TZOFFSETTO:-0500
TZNAME:EST
DTSTART:20261101T060000
END:STANDARD
END:VTIMEZONE
BEGIN:VEVENT
DTSTART;TZID=America/New_York:20251014T180000
DTEND;TZID=America/New_York:20251014T190000
DTSTAMP:20260422T014730
CREATED:20251011T112154Z
LAST-MODIFIED:20251011T112154Z
UID:10007547-1760464800-1760468400@www.wakedems.org
SUMMARY:Phone Bank with Wake Dems - MORRISVILLE
DESCRIPTION:Come join us to make follow-up calls to voters that we missed while canvassing to reinforce our message to vote for our fantastic candidates in the upcoming Morrisville Municipal Races on November 4th! \nNew to virtual phone banking? (or experienced and want a refresher on the latest script?)\, we’ll provide all the training you need on our calling platform and the call script\, then make calls to voters for a period of time\, and then have a quick debrief to answer questions.  Our VPB trainer will be with you the entire time to provide support and answer questions as needed.  Then you are free to make phone calls on your own schedule! \nThe link for the virtual meeting will be e-mailed to registered attendees the day before the event.
URL:https://www.wakedems.org/wcdp-event/phone-bank-with-wake-dems-morrisville-2/
LOCATION:Virtual
CATEGORIES:Phone Bank
ATTACH;FMTTYPE=image/jpeg:https://www.wakedems.org/wp-content/uploads/2023/08/PhoneBank1.jpg
ORGANIZER;CN="Lori Mahl":MAILTO:glenwood.acs@wakedems.org
END:VEVENT
END:VCALENDAR