BEGIN:VCALENDAR
VERSION:2.0
PRODID:-//Wake County Democratic Party - ECPv6.15.20//NONSGML v1.0//EN
CALSCALE:GREGORIAN
METHOD:PUBLISH
X-ORIGINAL-URL:https://www.wakedems.org
X-WR-CALDESC:Events for Wake County Democratic Party
REFRESH-INTERVAL;VALUE=DURATION:PT1H
X-Robots-Tag:noindex
X-PUBLISHED-TTL:PT1H
BEGIN:VTIMEZONE
TZID:America/New_York
BEGIN:DAYLIGHT
TZOFFSETFROM:-0500
TZOFFSETTO:-0400
TZNAME:EDT
DTSTART:20250309T070000
END:DAYLIGHT
BEGIN:STANDARD
TZOFFSETFROM:-0400
TZOFFSETTO:-0500
TZNAME:EST
DTSTART:20251102T060000
END:STANDARD
BEGIN:DAYLIGHT
TZOFFSETFROM:-0500
TZOFFSETTO:-0400
TZNAME:EDT
DTSTART:20260308T070000
END:DAYLIGHT
BEGIN:STANDARD
TZOFFSETFROM:-0400
TZOFFSETTO:-0500
TZNAME:EST
DTSTART:20261101T060000
END:STANDARD
BEGIN:DAYLIGHT
TZOFFSETFROM:-0500
TZOFFSETTO:-0400
TZNAME:EDT
DTSTART:20270314T070000
END:DAYLIGHT
BEGIN:STANDARD
TZOFFSETFROM:-0400
TZOFFSETTO:-0500
TZNAME:EST
DTSTART:20271107T060000
END:STANDARD
BEGIN:DAYLIGHT
TZOFFSETFROM:-0500
TZOFFSETTO:-0400
TZNAME:EDT
DTSTART:20280312T070000
END:DAYLIGHT
BEGIN:STANDARD
TZOFFSETFROM:-0400
TZOFFSETTO:-0500
TZNAME:EST
DTSTART:20281105T060000
END:STANDARD
END:VTIMEZONE
BEGIN:VEVENT
DTSTART;TZID=America/New_York:20260427T180000
DTEND;TZID=America/New_York:20260427T190000
DTSTAMP:20260421T074433
CREATED:20251231T174243Z
LAST-MODIFIED:20251231T174243Z
UID:10007636-1777312800-1777316400@www.wakedems.org
SUMMARY:Precinct 01-02 Meeting
DESCRIPTION:A gathering of 01-02 volunteers to discuss local Wake County Dems issues and plan volunteer efforts.
URL:https://www.wakedems.org/wcdp-event/precinct-01-02-meeting-2/2026-04-27/
LOCATION:Location will be provided to registered attendees
CATEGORIES:Area Meetings & Events,Precinct Meetings & Events
ATTACH;FMTTYPE=image/jpeg:https://www.wakedems.org/wp-content/uploads/2023/08/PrecinctMeeting.jpg
ORGANIZER;CN="Precinct 01-02":MAILTO:precinct01-02@wakedems.org
END:VEVENT
BEGIN:VEVENT
DTSTART;TZID=America/New_York:20260427T180000
DTEND;TZID=America/New_York:20260427T193000
DTSTAMP:20260421T074433
CREATED:20240706T210059Z
LAST-MODIFIED:20250729T012405Z
UID:10006910-1777312800-1777318200@www.wakedems.org
SUMMARY:Precinct 01-02 Monthly Meeting
DESCRIPTION:Monthly meeting for Precinct 01-02. Location information will be provided after registering.
URL:https://www.wakedems.org/wcdp-event/precinct-01-02-monthly-meeting-2/2026-04-27/
LOCATION:Private Address
CATEGORIES:Official Precinct Meeting,Precinct Meetings & Events
ATTACH;FMTTYPE=image/jpeg:https://www.wakedems.org/wp-content/uploads/2023/08/PrecinctMeeting.jpg
ORGANIZER;CN="Precinct 01-02":MAILTO:precinct01-02@wakedems.org
END:VEVENT
BEGIN:VEVENT
DTSTART;TZID=America/New_York:20260525T180000
DTEND;TZID=America/New_York:20260525T190000
DTSTAMP:20260421T074433
CREATED:20251231T174243Z
LAST-MODIFIED:20251231T174243Z
UID:10007637-1779732000-1779735600@www.wakedems.org
SUMMARY:Precinct 01-02 Meeting
DESCRIPTION:A gathering of 01-02 volunteers to discuss local Wake County Dems issues and plan volunteer efforts.
URL:https://www.wakedems.org/wcdp-event/precinct-01-02-meeting-2/2026-05-25/
LOCATION:Location will be provided to registered attendees
CATEGORIES:Area Meetings & Events,Precinct Meetings & Events
ATTACH;FMTTYPE=image/jpeg:https://www.wakedems.org/wp-content/uploads/2023/08/PrecinctMeeting.jpg
ORGANIZER;CN="Precinct 01-02":MAILTO:precinct01-02@wakedems.org
END:VEVENT
BEGIN:VEVENT
DTSTART;TZID=America/New_York:20260622T180000
DTEND;TZID=America/New_York:20260622T190000
DTSTAMP:20260421T074433
CREATED:20251231T174243Z
LAST-MODIFIED:20251231T174243Z
UID:10007638-1782151200-1782154800@www.wakedems.org
SUMMARY:Precinct 01-02 Meeting
DESCRIPTION:A gathering of 01-02 volunteers to discuss local Wake County Dems issues and plan volunteer efforts.
URL:https://www.wakedems.org/wcdp-event/precinct-01-02-meeting-2/2026-06-22/
LOCATION:Location will be provided to registered attendees
CATEGORIES:Area Meetings & Events,Precinct Meetings & Events
ATTACH;FMTTYPE=image/jpeg:https://www.wakedems.org/wp-content/uploads/2023/08/PrecinctMeeting.jpg
ORGANIZER;CN="Precinct 01-02":MAILTO:precinct01-02@wakedems.org
END:VEVENT
BEGIN:VEVENT
DTSTART;TZID=America/New_York:20260622T180000
DTEND;TZID=America/New_York:20260622T193000
DTSTAMP:20260421T074433
CREATED:20240706T210059Z
LAST-MODIFIED:20250729T012405Z
UID:10006911-1782151200-1782156600@www.wakedems.org
SUMMARY:Precinct 01-02 Monthly Meeting
DESCRIPTION:Monthly meeting for Precinct 01-02. Location information will be provided after registering.
URL:https://www.wakedems.org/wcdp-event/precinct-01-02-monthly-meeting-2/2026-06-22/
LOCATION:Private Address
CATEGORIES:Official Precinct Meeting,Precinct Meetings & Events
ATTACH;FMTTYPE=image/jpeg:https://www.wakedems.org/wp-content/uploads/2023/08/PrecinctMeeting.jpg
ORGANIZER;CN="Precinct 01-02":MAILTO:precinct01-02@wakedems.org
END:VEVENT
BEGIN:VEVENT
DTSTART;TZID=America/New_York:20260727T180000
DTEND;TZID=America/New_York:20260727T190000
DTSTAMP:20260421T074433
CREATED:20251231T174243Z
LAST-MODIFIED:20251231T174243Z
UID:10007639-1785175200-1785178800@www.wakedems.org
SUMMARY:Precinct 01-02 Meeting
DESCRIPTION:A gathering of 01-02 volunteers to discuss local Wake County Dems issues and plan volunteer efforts.
URL:https://www.wakedems.org/wcdp-event/precinct-01-02-meeting-2/2026-07-27/
LOCATION:Location will be provided to registered attendees
CATEGORIES:Area Meetings & Events,Precinct Meetings & Events
ATTACH;FMTTYPE=image/jpeg:https://www.wakedems.org/wp-content/uploads/2023/08/PrecinctMeeting.jpg
ORGANIZER;CN="Precinct 01-02":MAILTO:precinct01-02@wakedems.org
END:VEVENT
BEGIN:VEVENT
DTSTART;TZID=America/New_York:20260824T180000
DTEND;TZID=America/New_York:20260824T190000
DTSTAMP:20260421T074433
CREATED:20251231T174243Z
LAST-MODIFIED:20251231T174243Z
UID:10007640-1787594400-1787598000@www.wakedems.org
SUMMARY:Precinct 01-02 Meeting
DESCRIPTION:A gathering of 01-02 volunteers to discuss local Wake County Dems issues and plan volunteer efforts.
URL:https://www.wakedems.org/wcdp-event/precinct-01-02-meeting-2/2026-08-24/
LOCATION:Location will be provided to registered attendees
CATEGORIES:Area Meetings & Events,Precinct Meetings & Events
ATTACH;FMTTYPE=image/jpeg:https://www.wakedems.org/wp-content/uploads/2023/08/PrecinctMeeting.jpg
ORGANIZER;CN="Precinct 01-02":MAILTO:precinct01-02@wakedems.org
END:VEVENT
BEGIN:VEVENT
DTSTART;TZID=America/New_York:20260824T180000
DTEND;TZID=America/New_York:20260824T193000
DTSTAMP:20260421T074433
CREATED:20240706T210059Z
LAST-MODIFIED:20250729T012405Z
UID:10006912-1787594400-1787599800@www.wakedems.org
SUMMARY:Precinct 01-02 Monthly Meeting
DESCRIPTION:Monthly meeting for Precinct 01-02. Location information will be provided after registering.
URL:https://www.wakedems.org/wcdp-event/precinct-01-02-monthly-meeting-2/2026-08-24/
LOCATION:Private Address
CATEGORIES:Official Precinct Meeting,Precinct Meetings & Events
ATTACH;FMTTYPE=image/jpeg:https://www.wakedems.org/wp-content/uploads/2023/08/PrecinctMeeting.jpg
ORGANIZER;CN="Precinct 01-02":MAILTO:precinct01-02@wakedems.org
END:VEVENT
BEGIN:VEVENT
DTSTART;TZID=America/New_York:20260928T180000
DTEND;TZID=America/New_York:20260928T190000
DTSTAMP:20260421T074434
CREATED:20251231T174243Z
LAST-MODIFIED:20251231T174243Z
UID:10007641-1790618400-1790622000@www.wakedems.org
SUMMARY:Precinct 01-02 Meeting
DESCRIPTION:A gathering of 01-02 volunteers to discuss local Wake County Dems issues and plan volunteer efforts.
URL:https://www.wakedems.org/wcdp-event/precinct-01-02-meeting-2/2026-09-28/
LOCATION:Location will be provided to registered attendees
CATEGORIES:Area Meetings & Events,Precinct Meetings & Events
ATTACH;FMTTYPE=image/jpeg:https://www.wakedems.org/wp-content/uploads/2023/08/PrecinctMeeting.jpg
ORGANIZER;CN="Precinct 01-02":MAILTO:precinct01-02@wakedems.org
END:VEVENT
BEGIN:VEVENT
DTSTART;TZID=America/New_York:20261026T180000
DTEND;TZID=America/New_York:20261026T190000
DTSTAMP:20260421T074434
CREATED:20251231T174243Z
LAST-MODIFIED:20251231T174243Z
UID:10007642-1793037600-1793041200@www.wakedems.org
SUMMARY:Precinct 01-02 Meeting
DESCRIPTION:A gathering of 01-02 volunteers to discuss local Wake County Dems issues and plan volunteer efforts.
URL:https://www.wakedems.org/wcdp-event/precinct-01-02-meeting-2/2026-10-26/
LOCATION:Location will be provided to registered attendees
CATEGORIES:Area Meetings & Events,Precinct Meetings & Events
ATTACH;FMTTYPE=image/jpeg:https://www.wakedems.org/wp-content/uploads/2023/08/PrecinctMeeting.jpg
ORGANIZER;CN="Precinct 01-02":MAILTO:precinct01-02@wakedems.org
END:VEVENT
BEGIN:VEVENT
DTSTART;TZID=America/New_York:20261026T180000
DTEND;TZID=America/New_York:20261026T193000
DTSTAMP:20260421T074434
CREATED:20240706T210059Z
LAST-MODIFIED:20250729T012405Z
UID:10006913-1793037600-1793043000@www.wakedems.org
SUMMARY:Precinct 01-02 Monthly Meeting
DESCRIPTION:Monthly meeting for Precinct 01-02. Location information will be provided after registering.
URL:https://www.wakedems.org/wcdp-event/precinct-01-02-monthly-meeting-2/2026-10-26/
LOCATION:Private Address
CATEGORIES:Official Precinct Meeting,Precinct Meetings & Events
ATTACH;FMTTYPE=image/jpeg:https://www.wakedems.org/wp-content/uploads/2023/08/PrecinctMeeting.jpg
ORGANIZER;CN="Precinct 01-02":MAILTO:precinct01-02@wakedems.org
END:VEVENT
BEGIN:VEVENT
DTSTART;TZID=America/New_York:20261123T180000
DTEND;TZID=America/New_York:20261123T190000
DTSTAMP:20260421T074434
CREATED:20251231T174243Z
LAST-MODIFIED:20251231T174243Z
UID:10007643-1795456800-1795460400@www.wakedems.org
SUMMARY:Precinct 01-02 Meeting
DESCRIPTION:A gathering of 01-02 volunteers to discuss local Wake County Dems issues and plan volunteer efforts.
URL:https://www.wakedems.org/wcdp-event/precinct-01-02-meeting-2/2026-11-23/
LOCATION:Location will be provided to registered attendees
CATEGORIES:Area Meetings & Events,Precinct Meetings & Events
ATTACH;FMTTYPE=image/jpeg:https://www.wakedems.org/wp-content/uploads/2023/08/PrecinctMeeting.jpg
ORGANIZER;CN="Precinct 01-02":MAILTO:precinct01-02@wakedems.org
END:VEVENT
BEGIN:VEVENT
DTSTART;TZID=America/New_York:20261228T180000
DTEND;TZID=America/New_York:20261228T190000
DTSTAMP:20260421T074434
CREATED:20251231T174243Z
LAST-MODIFIED:20251231T174243Z
UID:10007644-1798480800-1798484400@www.wakedems.org
SUMMARY:Precinct 01-02 Meeting
DESCRIPTION:A gathering of 01-02 volunteers to discuss local Wake County Dems issues and plan volunteer efforts.
URL:https://www.wakedems.org/wcdp-event/precinct-01-02-meeting-2/2026-12-28/
LOCATION:Location will be provided to registered attendees
CATEGORIES:Area Meetings & Events,Precinct Meetings & Events
ATTACH;FMTTYPE=image/jpeg:https://www.wakedems.org/wp-content/uploads/2023/08/PrecinctMeeting.jpg
ORGANIZER;CN="Precinct 01-02":MAILTO:precinct01-02@wakedems.org
END:VEVENT
BEGIN:VEVENT
DTSTART;TZID=America/New_York:20261228T180000
DTEND;TZID=America/New_York:20261228T193000
DTSTAMP:20260421T074434
CREATED:20240706T210059Z
LAST-MODIFIED:20250729T012405Z
UID:10006914-1798480800-1798486200@www.wakedems.org
SUMMARY:Precinct 01-02 Monthly Meeting
DESCRIPTION:Monthly meeting for Precinct 01-02. Location information will be provided after registering.
URL:https://www.wakedems.org/wcdp-event/precinct-01-02-monthly-meeting-2/2026-12-28/
LOCATION:Private Address
CATEGORIES:Official Precinct Meeting,Precinct Meetings & Events
ATTACH;FMTTYPE=image/jpeg:https://www.wakedems.org/wp-content/uploads/2023/08/PrecinctMeeting.jpg
ORGANIZER;CN="Precinct 01-02":MAILTO:precinct01-02@wakedems.org
END:VEVENT
BEGIN:VEVENT
DTSTART;TZID=America/New_York:20270125T180000
DTEND;TZID=America/New_York:20270125T190000
DTSTAMP:20260421T074434
CREATED:20251231T174243Z
LAST-MODIFIED:20251231T174243Z
UID:10007645-1800900000-1800903600@www.wakedems.org
SUMMARY:Precinct 01-02 Meeting
DESCRIPTION:A gathering of 01-02 volunteers to discuss local Wake County Dems issues and plan volunteer efforts.
URL:https://www.wakedems.org/wcdp-event/precinct-01-02-meeting-2/2027-01-25/
LOCATION:Location will be provided to registered attendees
CATEGORIES:Area Meetings & Events,Precinct Meetings & Events
ATTACH;FMTTYPE=image/jpeg:https://www.wakedems.org/wp-content/uploads/2023/08/PrecinctMeeting.jpg
ORGANIZER;CN="Precinct 01-02":MAILTO:precinct01-02@wakedems.org
END:VEVENT
BEGIN:VEVENT
DTSTART;TZID=America/New_York:20270222T180000
DTEND;TZID=America/New_York:20270222T190000
DTSTAMP:20260421T074434
CREATED:20251231T174243Z
LAST-MODIFIED:20251231T174243Z
UID:10007646-1803319200-1803322800@www.wakedems.org
SUMMARY:Precinct 01-02 Meeting
DESCRIPTION:A gathering of 01-02 volunteers to discuss local Wake County Dems issues and plan volunteer efforts.
URL:https://www.wakedems.org/wcdp-event/precinct-01-02-meeting-2/2027-02-22/
LOCATION:Location will be provided to registered attendees
CATEGORIES:Area Meetings & Events,Precinct Meetings & Events
ATTACH;FMTTYPE=image/jpeg:https://www.wakedems.org/wp-content/uploads/2023/08/PrecinctMeeting.jpg
ORGANIZER;CN="Precinct 01-02":MAILTO:precinct01-02@wakedems.org
END:VEVENT
BEGIN:VEVENT
DTSTART;TZID=America/New_York:20270222T180000
DTEND;TZID=America/New_York:20270222T193000
DTSTAMP:20260421T074434
CREATED:20240706T210059Z
LAST-MODIFIED:20250729T012405Z
UID:10006915-1803319200-1803324600@www.wakedems.org
SUMMARY:Precinct 01-02 Monthly Meeting
DESCRIPTION:Monthly meeting for Precinct 01-02. Location information will be provided after registering.
URL:https://www.wakedems.org/wcdp-event/precinct-01-02-monthly-meeting-2/2027-02-22/
LOCATION:Private Address
CATEGORIES:Official Precinct Meeting,Precinct Meetings & Events
ATTACH;FMTTYPE=image/jpeg:https://www.wakedems.org/wp-content/uploads/2023/08/PrecinctMeeting.jpg
ORGANIZER;CN="Precinct 01-02":MAILTO:precinct01-02@wakedems.org
END:VEVENT
BEGIN:VEVENT
DTSTART;TZID=America/New_York:20270322T180000
DTEND;TZID=America/New_York:20270322T190000
DTSTAMP:20260421T074434
CREATED:20251231T174243Z
LAST-MODIFIED:20251231T174243Z
UID:10007647-1805738400-1805742000@www.wakedems.org
SUMMARY:Precinct 01-02 Meeting
DESCRIPTION:A gathering of 01-02 volunteers to discuss local Wake County Dems issues and plan volunteer efforts.
URL:https://www.wakedems.org/wcdp-event/precinct-01-02-meeting-2/2027-03-22/
LOCATION:Location will be provided to registered attendees
CATEGORIES:Area Meetings & Events,Precinct Meetings & Events
ATTACH;FMTTYPE=image/jpeg:https://www.wakedems.org/wp-content/uploads/2023/08/PrecinctMeeting.jpg
ORGANIZER;CN="Precinct 01-02":MAILTO:precinct01-02@wakedems.org
END:VEVENT
BEGIN:VEVENT
DTSTART;TZID=America/New_York:20270426T180000
DTEND;TZID=America/New_York:20270426T190000
DTSTAMP:20260421T074434
CREATED:20251231T174243Z
LAST-MODIFIED:20251231T174243Z
UID:10007648-1808762400-1808766000@www.wakedems.org
SUMMARY:Precinct 01-02 Meeting
DESCRIPTION:A gathering of 01-02 volunteers to discuss local Wake County Dems issues and plan volunteer efforts.
URL:https://www.wakedems.org/wcdp-event/precinct-01-02-meeting-2/2027-04-26/
LOCATION:Location will be provided to registered attendees
CATEGORIES:Area Meetings & Events,Precinct Meetings & Events
ATTACH;FMTTYPE=image/jpeg:https://www.wakedems.org/wp-content/uploads/2023/08/PrecinctMeeting.jpg
ORGANIZER;CN="Precinct 01-02":MAILTO:precinct01-02@wakedems.org
END:VEVENT
BEGIN:VEVENT
DTSTART;TZID=America/New_York:20270426T180000
DTEND;TZID=America/New_York:20270426T193000
DTSTAMP:20260421T074434
CREATED:20240706T210059Z
LAST-MODIFIED:20250729T012405Z
UID:10006916-1808762400-1808767800@www.wakedems.org
SUMMARY:Precinct 01-02 Monthly Meeting
DESCRIPTION:Monthly meeting for Precinct 01-02. Location information will be provided after registering.
URL:https://www.wakedems.org/wcdp-event/precinct-01-02-monthly-meeting-2/2027-04-26/
LOCATION:Private Address
CATEGORIES:Official Precinct Meeting,Precinct Meetings & Events
ATTACH;FMTTYPE=image/jpeg:https://www.wakedems.org/wp-content/uploads/2023/08/PrecinctMeeting.jpg
ORGANIZER;CN="Precinct 01-02":MAILTO:precinct01-02@wakedems.org
END:VEVENT
BEGIN:VEVENT
DTSTART;TZID=America/New_York:20270524T180000
DTEND;TZID=America/New_York:20270524T190000
DTSTAMP:20260421T074434
CREATED:20251231T174243Z
LAST-MODIFIED:20251231T174243Z
UID:10007649-1811181600-1811185200@www.wakedems.org
SUMMARY:Precinct 01-02 Meeting
DESCRIPTION:A gathering of 01-02 volunteers to discuss local Wake County Dems issues and plan volunteer efforts.
URL:https://www.wakedems.org/wcdp-event/precinct-01-02-meeting-2/2027-05-24/
LOCATION:Location will be provided to registered attendees
CATEGORIES:Area Meetings & Events,Precinct Meetings & Events
ATTACH;FMTTYPE=image/jpeg:https://www.wakedems.org/wp-content/uploads/2023/08/PrecinctMeeting.jpg
ORGANIZER;CN="Precinct 01-02":MAILTO:precinct01-02@wakedems.org
END:VEVENT
BEGIN:VEVENT
DTSTART;TZID=America/New_York:20270628T180000
DTEND;TZID=America/New_York:20270628T190000
DTSTAMP:20260421T074434
CREATED:20251231T174243Z
LAST-MODIFIED:20251231T174243Z
UID:10007650-1814205600-1814209200@www.wakedems.org
SUMMARY:Precinct 01-02 Meeting
DESCRIPTION:A gathering of 01-02 volunteers to discuss local Wake County Dems issues and plan volunteer efforts.
URL:https://www.wakedems.org/wcdp-event/precinct-01-02-meeting-2/2027-06-28/
LOCATION:Location will be provided to registered attendees
CATEGORIES:Area Meetings & Events,Precinct Meetings & Events
ATTACH;FMTTYPE=image/jpeg:https://www.wakedems.org/wp-content/uploads/2023/08/PrecinctMeeting.jpg
ORGANIZER;CN="Precinct 01-02":MAILTO:precinct01-02@wakedems.org
END:VEVENT
BEGIN:VEVENT
DTSTART;TZID=America/New_York:20270628T180000
DTEND;TZID=America/New_York:20270628T193000
DTSTAMP:20260421T074434
CREATED:20240706T210059Z
LAST-MODIFIED:20250729T012405Z
UID:10006917-1814205600-1814211000@www.wakedems.org
SUMMARY:Precinct 01-02 Monthly Meeting
DESCRIPTION:Monthly meeting for Precinct 01-02. Location information will be provided after registering.
URL:https://www.wakedems.org/wcdp-event/precinct-01-02-monthly-meeting-2/2027-06-28/
LOCATION:Private Address
CATEGORIES:Official Precinct Meeting,Precinct Meetings & Events
ATTACH;FMTTYPE=image/jpeg:https://www.wakedems.org/wp-content/uploads/2023/08/PrecinctMeeting.jpg
ORGANIZER;CN="Precinct 01-02":MAILTO:precinct01-02@wakedems.org
END:VEVENT
BEGIN:VEVENT
DTSTART;TZID=America/New_York:20270726T180000
DTEND;TZID=America/New_York:20270726T190000
DTSTAMP:20260421T074434
CREATED:20251231T174243Z
LAST-MODIFIED:20251231T174243Z
UID:10007651-1816624800-1816628400@www.wakedems.org
SUMMARY:Precinct 01-02 Meeting
DESCRIPTION:A gathering of 01-02 volunteers to discuss local Wake County Dems issues and plan volunteer efforts.
URL:https://www.wakedems.org/wcdp-event/precinct-01-02-meeting-2/2027-07-26/
LOCATION:Location will be provided to registered attendees
CATEGORIES:Area Meetings & Events,Precinct Meetings & Events
ATTACH;FMTTYPE=image/jpeg:https://www.wakedems.org/wp-content/uploads/2023/08/PrecinctMeeting.jpg
ORGANIZER;CN="Precinct 01-02":MAILTO:precinct01-02@wakedems.org
END:VEVENT
BEGIN:VEVENT
DTSTART;TZID=America/New_York:20270823T180000
DTEND;TZID=America/New_York:20270823T190000
DTSTAMP:20260421T074434
CREATED:20251231T174243Z
LAST-MODIFIED:20251231T174243Z
UID:10007652-1819044000-1819047600@www.wakedems.org
SUMMARY:Precinct 01-02 Meeting
DESCRIPTION:A gathering of 01-02 volunteers to discuss local Wake County Dems issues and plan volunteer efforts.
URL:https://www.wakedems.org/wcdp-event/precinct-01-02-meeting-2/2027-08-23/
LOCATION:Location will be provided to registered attendees
CATEGORIES:Area Meetings & Events,Precinct Meetings & Events
ATTACH;FMTTYPE=image/jpeg:https://www.wakedems.org/wp-content/uploads/2023/08/PrecinctMeeting.jpg
ORGANIZER;CN="Precinct 01-02":MAILTO:precinct01-02@wakedems.org
END:VEVENT
BEGIN:VEVENT
DTSTART;TZID=America/New_York:20270823T180000
DTEND;TZID=America/New_York:20270823T193000
DTSTAMP:20260421T074434
CREATED:20240706T210059Z
LAST-MODIFIED:20250729T012405Z
UID:10006918-1819044000-1819049400@www.wakedems.org
SUMMARY:Precinct 01-02 Monthly Meeting
DESCRIPTION:Monthly meeting for Precinct 01-02. Location information will be provided after registering.
URL:https://www.wakedems.org/wcdp-event/precinct-01-02-monthly-meeting-2/2027-08-23/
LOCATION:Private Address
CATEGORIES:Official Precinct Meeting,Precinct Meetings & Events
ATTACH;FMTTYPE=image/jpeg:https://www.wakedems.org/wp-content/uploads/2023/08/PrecinctMeeting.jpg
ORGANIZER;CN="Precinct 01-02":MAILTO:precinct01-02@wakedems.org
END:VEVENT
BEGIN:VEVENT
DTSTART;TZID=America/New_York:20270927T180000
DTEND;TZID=America/New_York:20270927T190000
DTSTAMP:20260421T074434
CREATED:20251231T174243Z
LAST-MODIFIED:20251231T174243Z
UID:10007653-1822068000-1822071600@www.wakedems.org
SUMMARY:Precinct 01-02 Meeting
DESCRIPTION:A gathering of 01-02 volunteers to discuss local Wake County Dems issues and plan volunteer efforts.
URL:https://www.wakedems.org/wcdp-event/precinct-01-02-meeting-2/2027-09-27/
LOCATION:Location will be provided to registered attendees
CATEGORIES:Area Meetings & Events,Precinct Meetings & Events
ATTACH;FMTTYPE=image/jpeg:https://www.wakedems.org/wp-content/uploads/2023/08/PrecinctMeeting.jpg
ORGANIZER;CN="Precinct 01-02":MAILTO:precinct01-02@wakedems.org
END:VEVENT
BEGIN:VEVENT
DTSTART;TZID=America/New_York:20271025T180000
DTEND;TZID=America/New_York:20271025T190000
DTSTAMP:20260421T074434
CREATED:20251231T174243Z
LAST-MODIFIED:20251231T174243Z
UID:10007654-1824487200-1824490800@www.wakedems.org
SUMMARY:Precinct 01-02 Meeting
DESCRIPTION:A gathering of 01-02 volunteers to discuss local Wake County Dems issues and plan volunteer efforts.
URL:https://www.wakedems.org/wcdp-event/precinct-01-02-meeting-2/2027-10-25/
LOCATION:Location will be provided to registered attendees
CATEGORIES:Area Meetings & Events,Precinct Meetings & Events
ATTACH;FMTTYPE=image/jpeg:https://www.wakedems.org/wp-content/uploads/2023/08/PrecinctMeeting.jpg
ORGANIZER;CN="Precinct 01-02":MAILTO:precinct01-02@wakedems.org
END:VEVENT
BEGIN:VEVENT
DTSTART;TZID=America/New_York:20271025T180000
DTEND;TZID=America/New_York:20271025T193000
DTSTAMP:20260421T074434
CREATED:20240706T210059Z
LAST-MODIFIED:20250729T012405Z
UID:10006919-1824487200-1824492600@www.wakedems.org
SUMMARY:Precinct 01-02 Monthly Meeting
DESCRIPTION:Monthly meeting for Precinct 01-02. Location information will be provided after registering.
URL:https://www.wakedems.org/wcdp-event/precinct-01-02-monthly-meeting-2/2027-10-25/
LOCATION:Private Address
CATEGORIES:Official Precinct Meeting,Precinct Meetings & Events
ATTACH;FMTTYPE=image/jpeg:https://www.wakedems.org/wp-content/uploads/2023/08/PrecinctMeeting.jpg
ORGANIZER;CN="Precinct 01-02":MAILTO:precinct01-02@wakedems.org
END:VEVENT
BEGIN:VEVENT
DTSTART;TZID=America/New_York:20271122T180000
DTEND;TZID=America/New_York:20271122T190000
DTSTAMP:20260421T074434
CREATED:20251231T174243Z
LAST-MODIFIED:20251231T174243Z
UID:10007655-1826906400-1826910000@www.wakedems.org
SUMMARY:Precinct 01-02 Meeting
DESCRIPTION:A gathering of 01-02 volunteers to discuss local Wake County Dems issues and plan volunteer efforts.
URL:https://www.wakedems.org/wcdp-event/precinct-01-02-meeting-2/2027-11-22/
LOCATION:Location will be provided to registered attendees
CATEGORIES:Area Meetings & Events,Precinct Meetings & Events
ATTACH;FMTTYPE=image/jpeg:https://www.wakedems.org/wp-content/uploads/2023/08/PrecinctMeeting.jpg
ORGANIZER;CN="Precinct 01-02":MAILTO:precinct01-02@wakedems.org
END:VEVENT
END:VCALENDAR