BEGIN:VCALENDAR
VERSION:2.0
PRODID:-//Wake County Democratic Party - ECPv6.15.20//NONSGML v1.0//EN
CALSCALE:GREGORIAN
METHOD:PUBLISH
X-ORIGINAL-URL:https://www.wakedems.org
X-WR-CALDESC:Events for Wake County Democratic Party
REFRESH-INTERVAL;VALUE=DURATION:PT1H
X-Robots-Tag:noindex
X-PUBLISHED-TTL:PT1H
BEGIN:VTIMEZONE
TZID:America/New_York
BEGIN:DAYLIGHT
TZOFFSETFROM:-0500
TZOFFSETTO:-0400
TZNAME:EDT
DTSTART:20280312T070000
END:DAYLIGHT
BEGIN:STANDARD
TZOFFSETFROM:-0400
TZOFFSETTO:-0500
TZNAME:EST
DTSTART:20281105T060000
END:STANDARD
BEGIN:DAYLIGHT
TZOFFSETFROM:-0500
TZOFFSETTO:-0400
TZNAME:EDT
DTSTART:20290311T070000
END:DAYLIGHT
BEGIN:STANDARD
TZOFFSETFROM:-0400
TZOFFSETTO:-0500
TZNAME:EST
DTSTART:20291104T060000
END:STANDARD
BEGIN:DAYLIGHT
TZOFFSETFROM:-0500
TZOFFSETTO:-0400
TZNAME:EDT
DTSTART:20300310T070000
END:DAYLIGHT
BEGIN:STANDARD
TZOFFSETFROM:-0400
TZOFFSETTO:-0500
TZNAME:EST
DTSTART:20301103T060000
END:STANDARD
BEGIN:DAYLIGHT
TZOFFSETFROM:-0500
TZOFFSETTO:-0400
TZNAME:EDT
DTSTART:20310309T070000
END:DAYLIGHT
BEGIN:STANDARD
TZOFFSETFROM:-0400
TZOFFSETTO:-0500
TZNAME:EST
DTSTART:20311102T060000
END:STANDARD
END:VTIMEZONE
BEGIN:VEVENT
DTSTART;TZID=America/New_York:20290827T180000
DTEND;TZID=America/New_York:20290827T190000
DTSTAMP:20260421T144854
CREATED:20251231T174243Z
LAST-MODIFIED:20251231T174243Z
UID:10007676-1882548000-1882551600@www.wakedems.org
SUMMARY:Precinct 01-02 Meeting
DESCRIPTION:A gathering of 01-02 volunteers to discuss local Wake County Dems issues and plan volunteer efforts.
URL:https://www.wakedems.org/wcdp-event/precinct-01-02-meeting-2/2029-08-27/
LOCATION:Location will be provided to registered attendees
CATEGORIES:Area Meetings & Events,Precinct Meetings & Events
ATTACH;FMTTYPE=image/jpeg:https://www.wakedems.org/wp-content/uploads/2023/08/PrecinctMeeting.jpg
ORGANIZER;CN="Precinct 01-02":MAILTO:precinct01-02@wakedems.org
END:VEVENT
BEGIN:VEVENT
DTSTART;TZID=America/New_York:20290827T180000
DTEND;TZID=America/New_York:20290827T193000
DTSTAMP:20260421T144854
CREATED:20240706T210059Z
LAST-MODIFIED:20250729T012405Z
UID:10006930-1882548000-1882553400@www.wakedems.org
SUMMARY:Precinct 01-02 Monthly Meeting
DESCRIPTION:Monthly meeting for Precinct 01-02. Location information will be provided after registering.
URL:https://www.wakedems.org/wcdp-event/precinct-01-02-monthly-meeting-2/2029-08-27/
LOCATION:Private Address
CATEGORIES:Official Precinct Meeting,Precinct Meetings & Events
ATTACH;FMTTYPE=image/jpeg:https://www.wakedems.org/wp-content/uploads/2023/08/PrecinctMeeting.jpg
ORGANIZER;CN="Precinct 01-02":MAILTO:precinct01-02@wakedems.org
END:VEVENT
BEGIN:VEVENT
DTSTART;TZID=America/New_York:20290924T180000
DTEND;TZID=America/New_York:20290924T190000
DTSTAMP:20260421T144854
CREATED:20251231T174243Z
LAST-MODIFIED:20251231T174243Z
UID:10007677-1884967200-1884970800@www.wakedems.org
SUMMARY:Precinct 01-02 Meeting
DESCRIPTION:A gathering of 01-02 volunteers to discuss local Wake County Dems issues and plan volunteer efforts.
URL:https://www.wakedems.org/wcdp-event/precinct-01-02-meeting-2/2029-09-24/
LOCATION:Location will be provided to registered attendees
CATEGORIES:Area Meetings & Events,Precinct Meetings & Events
ATTACH;FMTTYPE=image/jpeg:https://www.wakedems.org/wp-content/uploads/2023/08/PrecinctMeeting.jpg
ORGANIZER;CN="Precinct 01-02":MAILTO:precinct01-02@wakedems.org
END:VEVENT
BEGIN:VEVENT
DTSTART;TZID=America/New_York:20291022T180000
DTEND;TZID=America/New_York:20291022T190000
DTSTAMP:20260421T144854
CREATED:20251231T174243Z
LAST-MODIFIED:20251231T174243Z
UID:10007678-1887386400-1887390000@www.wakedems.org
SUMMARY:Precinct 01-02 Meeting
DESCRIPTION:A gathering of 01-02 volunteers to discuss local Wake County Dems issues and plan volunteer efforts.
URL:https://www.wakedems.org/wcdp-event/precinct-01-02-meeting-2/2029-10-22/
LOCATION:Location will be provided to registered attendees
CATEGORIES:Area Meetings & Events,Precinct Meetings & Events
ATTACH;FMTTYPE=image/jpeg:https://www.wakedems.org/wp-content/uploads/2023/08/PrecinctMeeting.jpg
ORGANIZER;CN="Precinct 01-02":MAILTO:precinct01-02@wakedems.org
END:VEVENT
BEGIN:VEVENT
DTSTART;TZID=America/New_York:20291022T180000
DTEND;TZID=America/New_York:20291022T193000
DTSTAMP:20260421T144854
CREATED:20240706T210059Z
LAST-MODIFIED:20250729T012405Z
UID:10006931-1887386400-1887391800@www.wakedems.org
SUMMARY:Precinct 01-02 Monthly Meeting
DESCRIPTION:Monthly meeting for Precinct 01-02. Location information will be provided after registering.
URL:https://www.wakedems.org/wcdp-event/precinct-01-02-monthly-meeting-2/2029-10-22/
LOCATION:Private Address
CATEGORIES:Official Precinct Meeting,Precinct Meetings & Events
ATTACH;FMTTYPE=image/jpeg:https://www.wakedems.org/wp-content/uploads/2023/08/PrecinctMeeting.jpg
ORGANIZER;CN="Precinct 01-02":MAILTO:precinct01-02@wakedems.org
END:VEVENT
BEGIN:VEVENT
DTSTART;TZID=America/New_York:20291126T180000
DTEND;TZID=America/New_York:20291126T190000
DTSTAMP:20260421T144854
CREATED:20251231T174243Z
LAST-MODIFIED:20251231T174243Z
UID:10007679-1890410400-1890414000@www.wakedems.org
SUMMARY:Precinct 01-02 Meeting
DESCRIPTION:A gathering of 01-02 volunteers to discuss local Wake County Dems issues and plan volunteer efforts.
URL:https://www.wakedems.org/wcdp-event/precinct-01-02-meeting-2/2029-11-26/
LOCATION:Location will be provided to registered attendees
CATEGORIES:Area Meetings & Events,Precinct Meetings & Events
ATTACH;FMTTYPE=image/jpeg:https://www.wakedems.org/wp-content/uploads/2023/08/PrecinctMeeting.jpg
ORGANIZER;CN="Precinct 01-02":MAILTO:precinct01-02@wakedems.org
END:VEVENT
BEGIN:VEVENT
DTSTART;TZID=America/New_York:20291224T180000
DTEND;TZID=America/New_York:20291224T190000
DTSTAMP:20260421T144854
CREATED:20251231T174243Z
LAST-MODIFIED:20251231T174243Z
UID:10007680-1892829600-1892833200@www.wakedems.org
SUMMARY:Precinct 01-02 Meeting
DESCRIPTION:A gathering of 01-02 volunteers to discuss local Wake County Dems issues and plan volunteer efforts.
URL:https://www.wakedems.org/wcdp-event/precinct-01-02-meeting-2/2029-12-24/
LOCATION:Location will be provided to registered attendees
CATEGORIES:Area Meetings & Events,Precinct Meetings & Events
ATTACH;FMTTYPE=image/jpeg:https://www.wakedems.org/wp-content/uploads/2023/08/PrecinctMeeting.jpg
ORGANIZER;CN="Precinct 01-02":MAILTO:precinct01-02@wakedems.org
END:VEVENT
BEGIN:VEVENT
DTSTART;TZID=America/New_York:20291224T180000
DTEND;TZID=America/New_York:20291224T193000
DTSTAMP:20260421T144854
CREATED:20240706T210059Z
LAST-MODIFIED:20250729T012405Z
UID:10006932-1892829600-1892835000@www.wakedems.org
SUMMARY:Precinct 01-02 Monthly Meeting
DESCRIPTION:Monthly meeting for Precinct 01-02. Location information will be provided after registering.
URL:https://www.wakedems.org/wcdp-event/precinct-01-02-monthly-meeting-2/2029-12-24/
LOCATION:Private Address
CATEGORIES:Official Precinct Meeting,Precinct Meetings & Events
ATTACH;FMTTYPE=image/jpeg:https://www.wakedems.org/wp-content/uploads/2023/08/PrecinctMeeting.jpg
ORGANIZER;CN="Precinct 01-02":MAILTO:precinct01-02@wakedems.org
END:VEVENT
BEGIN:VEVENT
DTSTART;TZID=America/New_York:20300128T180000
DTEND;TZID=America/New_York:20300128T190000
DTSTAMP:20260421T144854
CREATED:20251231T174243Z
LAST-MODIFIED:20251231T174243Z
UID:10007681-1895853600-1895857200@www.wakedems.org
SUMMARY:Precinct 01-02 Meeting
DESCRIPTION:A gathering of 01-02 volunteers to discuss local Wake County Dems issues and plan volunteer efforts.
URL:https://www.wakedems.org/wcdp-event/precinct-01-02-meeting-2/2030-01-28/
LOCATION:Location will be provided to registered attendees
CATEGORIES:Area Meetings & Events,Precinct Meetings & Events
ATTACH;FMTTYPE=image/jpeg:https://www.wakedems.org/wp-content/uploads/2023/08/PrecinctMeeting.jpg
ORGANIZER;CN="Precinct 01-02":MAILTO:precinct01-02@wakedems.org
END:VEVENT
BEGIN:VEVENT
DTSTART;TZID=America/New_York:20300225T180000
DTEND;TZID=America/New_York:20300225T190000
DTSTAMP:20260421T144854
CREATED:20251231T174243Z
LAST-MODIFIED:20251231T174243Z
UID:10007682-1898272800-1898276400@www.wakedems.org
SUMMARY:Precinct 01-02 Meeting
DESCRIPTION:A gathering of 01-02 volunteers to discuss local Wake County Dems issues and plan volunteer efforts.
URL:https://www.wakedems.org/wcdp-event/precinct-01-02-meeting-2/2030-02-25/
LOCATION:Location will be provided to registered attendees
CATEGORIES:Area Meetings & Events,Precinct Meetings & Events
ATTACH;FMTTYPE=image/jpeg:https://www.wakedems.org/wp-content/uploads/2023/08/PrecinctMeeting.jpg
ORGANIZER;CN="Precinct 01-02":MAILTO:precinct01-02@wakedems.org
END:VEVENT
BEGIN:VEVENT
DTSTART;TZID=America/New_York:20300225T180000
DTEND;TZID=America/New_York:20300225T193000
DTSTAMP:20260421T144854
CREATED:20240706T210059Z
LAST-MODIFIED:20250729T012405Z
UID:10006933-1898272800-1898278200@www.wakedems.org
SUMMARY:Precinct 01-02 Monthly Meeting
DESCRIPTION:Monthly meeting for Precinct 01-02. Location information will be provided after registering.
URL:https://www.wakedems.org/wcdp-event/precinct-01-02-monthly-meeting-2/2030-02-25/
LOCATION:Private Address
CATEGORIES:Official Precinct Meeting,Precinct Meetings & Events
ATTACH;FMTTYPE=image/jpeg:https://www.wakedems.org/wp-content/uploads/2023/08/PrecinctMeeting.jpg
ORGANIZER;CN="Precinct 01-02":MAILTO:precinct01-02@wakedems.org
END:VEVENT
BEGIN:VEVENT
DTSTART;TZID=America/New_York:20300325T180000
DTEND;TZID=America/New_York:20300325T190000
DTSTAMP:20260421T144854
CREATED:20251231T174243Z
LAST-MODIFIED:20251231T174243Z
UID:10007683-1900692000-1900695600@www.wakedems.org
SUMMARY:Precinct 01-02 Meeting
DESCRIPTION:A gathering of 01-02 volunteers to discuss local Wake County Dems issues and plan volunteer efforts.
URL:https://www.wakedems.org/wcdp-event/precinct-01-02-meeting-2/2030-03-25/
LOCATION:Location will be provided to registered attendees
CATEGORIES:Area Meetings & Events,Precinct Meetings & Events
ATTACH;FMTTYPE=image/jpeg:https://www.wakedems.org/wp-content/uploads/2023/08/PrecinctMeeting.jpg
ORGANIZER;CN="Precinct 01-02":MAILTO:precinct01-02@wakedems.org
END:VEVENT
BEGIN:VEVENT
DTSTART;TZID=America/New_York:20300422T180000
DTEND;TZID=America/New_York:20300422T190000
DTSTAMP:20260421T144854
CREATED:20251231T174243Z
LAST-MODIFIED:20251231T174243Z
UID:10007684-1903111200-1903114800@www.wakedems.org
SUMMARY:Precinct 01-02 Meeting
DESCRIPTION:A gathering of 01-02 volunteers to discuss local Wake County Dems issues and plan volunteer efforts.
URL:https://www.wakedems.org/wcdp-event/precinct-01-02-meeting-2/2030-04-22/
LOCATION:Location will be provided to registered attendees
CATEGORIES:Area Meetings & Events,Precinct Meetings & Events
ATTACH;FMTTYPE=image/jpeg:https://www.wakedems.org/wp-content/uploads/2023/08/PrecinctMeeting.jpg
ORGANIZER;CN="Precinct 01-02":MAILTO:precinct01-02@wakedems.org
END:VEVENT
BEGIN:VEVENT
DTSTART;TZID=America/New_York:20300422T180000
DTEND;TZID=America/New_York:20300422T193000
DTSTAMP:20260421T144854
CREATED:20240706T210059Z
LAST-MODIFIED:20250729T012405Z
UID:10006934-1903111200-1903116600@www.wakedems.org
SUMMARY:Precinct 01-02 Monthly Meeting
DESCRIPTION:Monthly meeting for Precinct 01-02. Location information will be provided after registering.
URL:https://www.wakedems.org/wcdp-event/precinct-01-02-monthly-meeting-2/2030-04-22/
LOCATION:Private Address
CATEGORIES:Official Precinct Meeting,Precinct Meetings & Events
ATTACH;FMTTYPE=image/jpeg:https://www.wakedems.org/wp-content/uploads/2023/08/PrecinctMeeting.jpg
ORGANIZER;CN="Precinct 01-02":MAILTO:precinct01-02@wakedems.org
END:VEVENT
BEGIN:VEVENT
DTSTART;TZID=America/New_York:20300527T180000
DTEND;TZID=America/New_York:20300527T190000
DTSTAMP:20260421T144854
CREATED:20251231T174243Z
LAST-MODIFIED:20251231T174243Z
UID:10007685-1906135200-1906138800@www.wakedems.org
SUMMARY:Precinct 01-02 Meeting
DESCRIPTION:A gathering of 01-02 volunteers to discuss local Wake County Dems issues and plan volunteer efforts.
URL:https://www.wakedems.org/wcdp-event/precinct-01-02-meeting-2/2030-05-27/
LOCATION:Location will be provided to registered attendees
CATEGORIES:Area Meetings & Events,Precinct Meetings & Events
ATTACH;FMTTYPE=image/jpeg:https://www.wakedems.org/wp-content/uploads/2023/08/PrecinctMeeting.jpg
ORGANIZER;CN="Precinct 01-02":MAILTO:precinct01-02@wakedems.org
END:VEVENT
BEGIN:VEVENT
DTSTART;TZID=America/New_York:20300624T180000
DTEND;TZID=America/New_York:20300624T190000
DTSTAMP:20260421T144854
CREATED:20251231T174243Z
LAST-MODIFIED:20251231T174243Z
UID:10007686-1908554400-1908558000@www.wakedems.org
SUMMARY:Precinct 01-02 Meeting
DESCRIPTION:A gathering of 01-02 volunteers to discuss local Wake County Dems issues and plan volunteer efforts.
URL:https://www.wakedems.org/wcdp-event/precinct-01-02-meeting-2/2030-06-24/
LOCATION:Location will be provided to registered attendees
CATEGORIES:Area Meetings & Events,Precinct Meetings & Events
ATTACH;FMTTYPE=image/jpeg:https://www.wakedems.org/wp-content/uploads/2023/08/PrecinctMeeting.jpg
ORGANIZER;CN="Precinct 01-02":MAILTO:precinct01-02@wakedems.org
END:VEVENT
BEGIN:VEVENT
DTSTART;TZID=America/New_York:20300624T180000
DTEND;TZID=America/New_York:20300624T193000
DTSTAMP:20260421T144854
CREATED:20240706T210059Z
LAST-MODIFIED:20250729T012405Z
UID:10006935-1908554400-1908559800@www.wakedems.org
SUMMARY:Precinct 01-02 Monthly Meeting
DESCRIPTION:Monthly meeting for Precinct 01-02. Location information will be provided after registering.
URL:https://www.wakedems.org/wcdp-event/precinct-01-02-monthly-meeting-2/2030-06-24/
LOCATION:Private Address
CATEGORIES:Official Precinct Meeting,Precinct Meetings & Events
ATTACH;FMTTYPE=image/jpeg:https://www.wakedems.org/wp-content/uploads/2023/08/PrecinctMeeting.jpg
ORGANIZER;CN="Precinct 01-02":MAILTO:precinct01-02@wakedems.org
END:VEVENT
BEGIN:VEVENT
DTSTART;TZID=America/New_York:20300722T180000
DTEND;TZID=America/New_York:20300722T190000
DTSTAMP:20260421T144854
CREATED:20251231T174243Z
LAST-MODIFIED:20251231T174243Z
UID:10007687-1910973600-1910977200@www.wakedems.org
SUMMARY:Precinct 01-02 Meeting
DESCRIPTION:A gathering of 01-02 volunteers to discuss local Wake County Dems issues and plan volunteer efforts.
URL:https://www.wakedems.org/wcdp-event/precinct-01-02-meeting-2/2030-07-22/
LOCATION:Location will be provided to registered attendees
CATEGORIES:Area Meetings & Events,Precinct Meetings & Events
ATTACH;FMTTYPE=image/jpeg:https://www.wakedems.org/wp-content/uploads/2023/08/PrecinctMeeting.jpg
ORGANIZER;CN="Precinct 01-02":MAILTO:precinct01-02@wakedems.org
END:VEVENT
BEGIN:VEVENT
DTSTART;TZID=America/New_York:20300826T180000
DTEND;TZID=America/New_York:20300826T190000
DTSTAMP:20260421T144854
CREATED:20251231T174243Z
LAST-MODIFIED:20251231T174243Z
UID:10007688-1913997600-1914001200@www.wakedems.org
SUMMARY:Precinct 01-02 Meeting
DESCRIPTION:A gathering of 01-02 volunteers to discuss local Wake County Dems issues and plan volunteer efforts.
URL:https://www.wakedems.org/wcdp-event/precinct-01-02-meeting-2/2030-08-26/
LOCATION:Location will be provided to registered attendees
CATEGORIES:Area Meetings & Events,Precinct Meetings & Events
ATTACH;FMTTYPE=image/jpeg:https://www.wakedems.org/wp-content/uploads/2023/08/PrecinctMeeting.jpg
ORGANIZER;CN="Precinct 01-02":MAILTO:precinct01-02@wakedems.org
END:VEVENT
BEGIN:VEVENT
DTSTART;TZID=America/New_York:20300923T180000
DTEND;TZID=America/New_York:20300923T190000
DTSTAMP:20260421T144854
CREATED:20251231T174243Z
LAST-MODIFIED:20251231T174243Z
UID:10007689-1916416800-1916420400@www.wakedems.org
SUMMARY:Precinct 01-02 Meeting
DESCRIPTION:A gathering of 01-02 volunteers to discuss local Wake County Dems issues and plan volunteer efforts.
URL:https://www.wakedems.org/wcdp-event/precinct-01-02-meeting-2/2030-09-23/
LOCATION:Location will be provided to registered attendees
CATEGORIES:Area Meetings & Events,Precinct Meetings & Events
ATTACH;FMTTYPE=image/jpeg:https://www.wakedems.org/wp-content/uploads/2023/08/PrecinctMeeting.jpg
ORGANIZER;CN="Precinct 01-02":MAILTO:precinct01-02@wakedems.org
END:VEVENT
BEGIN:VEVENT
DTSTART;TZID=America/New_York:20301028T180000
DTEND;TZID=America/New_York:20301028T190000
DTSTAMP:20260421T144854
CREATED:20251231T174243Z
LAST-MODIFIED:20251231T174243Z
UID:10007690-1919440800-1919444400@www.wakedems.org
SUMMARY:Precinct 01-02 Meeting
DESCRIPTION:A gathering of 01-02 volunteers to discuss local Wake County Dems issues and plan volunteer efforts.
URL:https://www.wakedems.org/wcdp-event/precinct-01-02-meeting-2/2030-10-28/
LOCATION:Location will be provided to registered attendees
CATEGORIES:Area Meetings & Events,Precinct Meetings & Events
ATTACH;FMTTYPE=image/jpeg:https://www.wakedems.org/wp-content/uploads/2023/08/PrecinctMeeting.jpg
ORGANIZER;CN="Precinct 01-02":MAILTO:precinct01-02@wakedems.org
END:VEVENT
BEGIN:VEVENT
DTSTART;TZID=America/New_York:20301125T180000
DTEND;TZID=America/New_York:20301125T190000
DTSTAMP:20260421T144854
CREATED:20251231T174243Z
LAST-MODIFIED:20251231T174243Z
UID:10007691-1921860000-1921863600@www.wakedems.org
SUMMARY:Precinct 01-02 Meeting
DESCRIPTION:A gathering of 01-02 volunteers to discuss local Wake County Dems issues and plan volunteer efforts.
URL:https://www.wakedems.org/wcdp-event/precinct-01-02-meeting-2/2030-11-25/
LOCATION:Location will be provided to registered attendees
CATEGORIES:Area Meetings & Events,Precinct Meetings & Events
ATTACH;FMTTYPE=image/jpeg:https://www.wakedems.org/wp-content/uploads/2023/08/PrecinctMeeting.jpg
ORGANIZER;CN="Precinct 01-02":MAILTO:precinct01-02@wakedems.org
END:VEVENT
BEGIN:VEVENT
DTSTART;TZID=America/New_York:20301223T180000
DTEND;TZID=America/New_York:20301223T190000
DTSTAMP:20260421T144854
CREATED:20251231T174243Z
LAST-MODIFIED:20251231T174243Z
UID:10007692-1924279200-1924282800@www.wakedems.org
SUMMARY:Precinct 01-02 Meeting
DESCRIPTION:A gathering of 01-02 volunteers to discuss local Wake County Dems issues and plan volunteer efforts.
URL:https://www.wakedems.org/wcdp-event/precinct-01-02-meeting-2/2030-12-23/
LOCATION:Location will be provided to registered attendees
CATEGORIES:Area Meetings & Events,Precinct Meetings & Events
ATTACH;FMTTYPE=image/jpeg:https://www.wakedems.org/wp-content/uploads/2023/08/PrecinctMeeting.jpg
ORGANIZER;CN="Precinct 01-02":MAILTO:precinct01-02@wakedems.org
END:VEVENT
END:VCALENDAR