BEGIN:VCALENDAR
VERSION:2.0
PRODID:-//Wake County Democratic Party - ECPv6.15.20//NONSGML v1.0//EN
CALSCALE:GREGORIAN
METHOD:PUBLISH
X-ORIGINAL-URL:https://www.wakedems.org
X-WR-CALDESC:Events for Wake County Democratic Party
REFRESH-INTERVAL;VALUE=DURATION:PT1H
X-Robots-Tag:noindex
X-PUBLISHED-TTL:PT1H
BEGIN:VTIMEZONE
TZID:America/New_York
BEGIN:DAYLIGHT
TZOFFSETFROM:-0500
TZOFFSETTO:-0400
TZNAME:EDT
DTSTART:20240310T070000
END:DAYLIGHT
BEGIN:STANDARD
TZOFFSETFROM:-0400
TZOFFSETTO:-0500
TZNAME:EST
DTSTART:20241103T060000
END:STANDARD
BEGIN:DAYLIGHT
TZOFFSETFROM:-0500
TZOFFSETTO:-0400
TZNAME:EDT
DTSTART:20250309T070000
END:DAYLIGHT
BEGIN:STANDARD
TZOFFSETFROM:-0400
TZOFFSETTO:-0500
TZNAME:EST
DTSTART:20251102T060000
END:STANDARD
BEGIN:DAYLIGHT
TZOFFSETFROM:-0500
TZOFFSETTO:-0400
TZNAME:EDT
DTSTART:20260308T070000
END:DAYLIGHT
BEGIN:STANDARD
TZOFFSETFROM:-0400
TZOFFSETTO:-0500
TZNAME:EST
DTSTART:20261101T060000
END:STANDARD
END:VTIMEZONE
BEGIN:VEVENT
DTSTART;TZID=America/New_York:20251011T160000
DTEND;TZID=America/New_York:20251011T170000
DTSTAMP:20260422T032334
CREATED:20250913T175525Z
LAST-MODIFIED:20251002T155030Z
UID:10007207-1760198400-1760202000@www.wakedems.org
SUMMARY:[CANCELED: Rescheduled for 10/4] 01-04 Precinct Gathering
DESCRIPTION:Join us for an October gathering of like-minded folks in our area!
URL:https://www.wakedems.org/wcdp-event/01-04-precinct-gathering/
LOCATION:Location will be provided to registered attendees
CATEGORIES:Canceled Events,Precinct Meetings & Events
ATTACH;FMTTYPE=image/jpeg:https://www.wakedems.org/wp-content/uploads/2023/08/PrecinctMeeting.jpg
ORGANIZER;CN="Precinct 01-04":MAILTO:precinct01-04@wakedems.org
END:VEVENT
BEGIN:VEVENT
DTSTART;TZID=America/New_York:20251004T163000
DTEND;TZID=America/New_York:20251004T173000
DTSTAMP:20260422T032334
CREATED:20250920T145508Z
LAST-MODIFIED:20250920T145508Z
UID:10007330-1759595400-1759599000@www.wakedems.org
SUMMARY:01-04 Precinct Gathering
DESCRIPTION:Join us for an October gathering of like-minded folks in our area!
URL:https://www.wakedems.org/wcdp-event/01-04-precinct-gathering-2/
LOCATION:Location will be provided to registered attendees
CATEGORIES:Precinct Meetings & Events
ATTACH;FMTTYPE=image/jpeg:https://www.wakedems.org/wp-content/uploads/2023/08/PrecinctMeeting.jpg
ORGANIZER;CN="Precinct 01-04":MAILTO:precinct01-04@wakedems.org
END:VEVENT
END:VCALENDAR