BEGIN:VCALENDAR
VERSION:2.0
PRODID:-//Wake County Democratic Party - ECPv6.15.20//NONSGML v1.0//EN
CALSCALE:GREGORIAN
METHOD:PUBLISH
X-WR-CALNAME:Wake County Democratic Party
X-ORIGINAL-URL:https://www.wakedems.org
X-WR-CALDESC:Events for Wake County Democratic Party
REFRESH-INTERVAL;VALUE=DURATION:PT1H
X-Robots-Tag:noindex
X-PUBLISHED-TTL:PT1H
BEGIN:VTIMEZONE
TZID:America/New_York
BEGIN:DAYLIGHT
TZOFFSETFROM:-0500
TZOFFSETTO:-0400
TZNAME:EDT
DTSTART:20270314T070000
END:DAYLIGHT
BEGIN:STANDARD
TZOFFSETFROM:-0400
TZOFFSETTO:-0500
TZNAME:EST
DTSTART:20271107T060000
END:STANDARD
BEGIN:DAYLIGHT
TZOFFSETFROM:-0500
TZOFFSETTO:-0400
TZNAME:EDT
DTSTART:20280312T070000
END:DAYLIGHT
BEGIN:STANDARD
TZOFFSETFROM:-0400
TZOFFSETTO:-0500
TZNAME:EST
DTSTART:20281105T060000
END:STANDARD
BEGIN:DAYLIGHT
TZOFFSETFROM:-0500
TZOFFSETTO:-0400
TZNAME:EDT
DTSTART:20290311T070000
END:DAYLIGHT
BEGIN:STANDARD
TZOFFSETFROM:-0400
TZOFFSETTO:-0500
TZNAME:EST
DTSTART:20291104T060000
END:STANDARD
BEGIN:DAYLIGHT
TZOFFSETFROM:-0500
TZOFFSETTO:-0400
TZNAME:EDT
DTSTART:20300310T070000
END:DAYLIGHT
BEGIN:STANDARD
TZOFFSETFROM:-0400
TZOFFSETTO:-0500
TZNAME:EST
DTSTART:20301103T060000
END:STANDARD
BEGIN:DAYLIGHT
TZOFFSETFROM:-0500
TZOFFSETTO:-0400
TZNAME:EDT
DTSTART:20310309T070000
END:DAYLIGHT
BEGIN:STANDARD
TZOFFSETFROM:-0400
TZOFFSETTO:-0500
TZNAME:EST
DTSTART:20311102T060000
END:STANDARD
END:VTIMEZONE
BEGIN:VEVENT
DTSTART;TZID=America/New_York:20281104T093000
DTEND;TZID=America/New_York:20281104T110000
DTSTAMP:20260421T131016
CREATED:20250917T203219Z
LAST-MODIFIED:20250917T203219Z
UID:10007267-1856943000-1856948400@www.wakedems.org
SUMMARY:Precinct 01-23 Book Club
DESCRIPTION:Join southwest Raleigh Democrats reading edifying–and potentially subversive–literature.  In September\, we revisited George Orwell’s classic 1984.  We realized that reading books in 2025 constitutes an act of resistance to Big Brother’s intrusiveness.  That and it’s fun to discuss them with friends over a great cup of coffee in a newly reopened\, beloved neighborhood cafe near NCSU. \nIn October\, we’ll take on Abundance\, by Ezra Klein and Derek Thompson.  What favorite read do you recommend?
URL:https://www.wakedems.org/wcdp-event/precinct-01-23-book-club/2028-11-04/
LOCATION:Location will be provided to registered attendees
CATEGORIES:Precinct Meetings & Events
ATTACH;FMTTYPE=image/jpeg:https://www.wakedems.org/wp-content/uploads/2023/08/PrecinctMeeting.jpg
ORGANIZER;CN="Precinct 01-23":MAILTO:precinct01-23@wakedems.org
END:VEVENT
BEGIN:VEVENT
DTSTART;TZID=America/New_York:20281202T093000
DTEND;TZID=America/New_York:20281202T110000
DTSTAMP:20260421T131016
CREATED:20250917T203219Z
LAST-MODIFIED:20250917T203219Z
UID:10007268-1859362200-1859367600@www.wakedems.org
SUMMARY:Precinct 01-23 Book Club
DESCRIPTION:Join southwest Raleigh Democrats reading edifying–and potentially subversive–literature.  In September\, we revisited George Orwell’s classic 1984.  We realized that reading books in 2025 constitutes an act of resistance to Big Brother’s intrusiveness.  That and it’s fun to discuss them with friends over a great cup of coffee in a newly reopened\, beloved neighborhood cafe near NCSU. \nIn October\, we’ll take on Abundance\, by Ezra Klein and Derek Thompson.  What favorite read do you recommend?
URL:https://www.wakedems.org/wcdp-event/precinct-01-23-book-club/2028-12-02/
LOCATION:Location will be provided to registered attendees
CATEGORIES:Precinct Meetings & Events
ATTACH;FMTTYPE=image/jpeg:https://www.wakedems.org/wp-content/uploads/2023/08/PrecinctMeeting.jpg
ORGANIZER;CN="Precinct 01-23":MAILTO:precinct01-23@wakedems.org
END:VEVENT
BEGIN:VEVENT
DTSTART;TZID=America/New_York:20290106T093000
DTEND;TZID=America/New_York:20290106T110000
DTSTAMP:20260421T131016
CREATED:20250917T203219Z
LAST-MODIFIED:20250917T203219Z
UID:10007269-1862386200-1862391600@www.wakedems.org
SUMMARY:Precinct 01-23 Book Club
DESCRIPTION:Join southwest Raleigh Democrats reading edifying–and potentially subversive–literature.  In September\, we revisited George Orwell’s classic 1984.  We realized that reading books in 2025 constitutes an act of resistance to Big Brother’s intrusiveness.  That and it’s fun to discuss them with friends over a great cup of coffee in a newly reopened\, beloved neighborhood cafe near NCSU. \nIn October\, we’ll take on Abundance\, by Ezra Klein and Derek Thompson.  What favorite read do you recommend?
URL:https://www.wakedems.org/wcdp-event/precinct-01-23-book-club/2029-01-06/
LOCATION:Location will be provided to registered attendees
CATEGORIES:Precinct Meetings & Events
ATTACH;FMTTYPE=image/jpeg:https://www.wakedems.org/wp-content/uploads/2023/08/PrecinctMeeting.jpg
ORGANIZER;CN="Precinct 01-23":MAILTO:precinct01-23@wakedems.org
END:VEVENT
BEGIN:VEVENT
DTSTART;TZID=America/New_York:20290203T093000
DTEND;TZID=America/New_York:20290203T110000
DTSTAMP:20260421T131016
CREATED:20250917T203219Z
LAST-MODIFIED:20250917T203219Z
UID:10007270-1864805400-1864810800@www.wakedems.org
SUMMARY:Precinct 01-23 Book Club
DESCRIPTION:Join southwest Raleigh Democrats reading edifying–and potentially subversive–literature.  In September\, we revisited George Orwell’s classic 1984.  We realized that reading books in 2025 constitutes an act of resistance to Big Brother’s intrusiveness.  That and it’s fun to discuss them with friends over a great cup of coffee in a newly reopened\, beloved neighborhood cafe near NCSU. \nIn October\, we’ll take on Abundance\, by Ezra Klein and Derek Thompson.  What favorite read do you recommend?
URL:https://www.wakedems.org/wcdp-event/precinct-01-23-book-club/2029-02-03/
LOCATION:Location will be provided to registered attendees
CATEGORIES:Precinct Meetings & Events
ATTACH;FMTTYPE=image/jpeg:https://www.wakedems.org/wp-content/uploads/2023/08/PrecinctMeeting.jpg
ORGANIZER;CN="Precinct 01-23":MAILTO:precinct01-23@wakedems.org
END:VEVENT
BEGIN:VEVENT
DTSTART;TZID=America/New_York:20290303T093000
DTEND;TZID=America/New_York:20290303T110000
DTSTAMP:20260421T131016
CREATED:20250917T203219Z
LAST-MODIFIED:20250917T203219Z
UID:10007271-1867224600-1867230000@www.wakedems.org
SUMMARY:Precinct 01-23 Book Club
DESCRIPTION:Join southwest Raleigh Democrats reading edifying–and potentially subversive–literature.  In September\, we revisited George Orwell’s classic 1984.  We realized that reading books in 2025 constitutes an act of resistance to Big Brother’s intrusiveness.  That and it’s fun to discuss them with friends over a great cup of coffee in a newly reopened\, beloved neighborhood cafe near NCSU. \nIn October\, we’ll take on Abundance\, by Ezra Klein and Derek Thompson.  What favorite read do you recommend?
URL:https://www.wakedems.org/wcdp-event/precinct-01-23-book-club/2029-03-03/
LOCATION:Location will be provided to registered attendees
CATEGORIES:Precinct Meetings & Events
ATTACH;FMTTYPE=image/jpeg:https://www.wakedems.org/wp-content/uploads/2023/08/PrecinctMeeting.jpg
ORGANIZER;CN="Precinct 01-23":MAILTO:precinct01-23@wakedems.org
END:VEVENT
BEGIN:VEVENT
DTSTART;TZID=America/New_York:20290407T093000
DTEND;TZID=America/New_York:20290407T110000
DTSTAMP:20260421T131016
CREATED:20250917T203219Z
LAST-MODIFIED:20250917T203219Z
UID:10007272-1870248600-1870254000@www.wakedems.org
SUMMARY:Precinct 01-23 Book Club
DESCRIPTION:Join southwest Raleigh Democrats reading edifying–and potentially subversive–literature.  In September\, we revisited George Orwell’s classic 1984.  We realized that reading books in 2025 constitutes an act of resistance to Big Brother’s intrusiveness.  That and it’s fun to discuss them with friends over a great cup of coffee in a newly reopened\, beloved neighborhood cafe near NCSU. \nIn October\, we’ll take on Abundance\, by Ezra Klein and Derek Thompson.  What favorite read do you recommend?
URL:https://www.wakedems.org/wcdp-event/precinct-01-23-book-club/2029-04-07/
LOCATION:Location will be provided to registered attendees
CATEGORIES:Precinct Meetings & Events
ATTACH;FMTTYPE=image/jpeg:https://www.wakedems.org/wp-content/uploads/2023/08/PrecinctMeeting.jpg
ORGANIZER;CN="Precinct 01-23":MAILTO:precinct01-23@wakedems.org
END:VEVENT
BEGIN:VEVENT
DTSTART;TZID=America/New_York:20290505T093000
DTEND;TZID=America/New_York:20290505T110000
DTSTAMP:20260421T131016
CREATED:20250917T203219Z
LAST-MODIFIED:20250917T203219Z
UID:10007273-1872667800-1872673200@www.wakedems.org
SUMMARY:Precinct 01-23 Book Club
DESCRIPTION:Join southwest Raleigh Democrats reading edifying–and potentially subversive–literature.  In September\, we revisited George Orwell’s classic 1984.  We realized that reading books in 2025 constitutes an act of resistance to Big Brother’s intrusiveness.  That and it’s fun to discuss them with friends over a great cup of coffee in a newly reopened\, beloved neighborhood cafe near NCSU. \nIn October\, we’ll take on Abundance\, by Ezra Klein and Derek Thompson.  What favorite read do you recommend?
URL:https://www.wakedems.org/wcdp-event/precinct-01-23-book-club/2029-05-05/
LOCATION:Location will be provided to registered attendees
CATEGORIES:Precinct Meetings & Events
ATTACH;FMTTYPE=image/jpeg:https://www.wakedems.org/wp-content/uploads/2023/08/PrecinctMeeting.jpg
ORGANIZER;CN="Precinct 01-23":MAILTO:precinct01-23@wakedems.org
END:VEVENT
BEGIN:VEVENT
DTSTART;TZID=America/New_York:20290602T093000
DTEND;TZID=America/New_York:20290602T110000
DTSTAMP:20260421T131016
CREATED:20250917T203219Z
LAST-MODIFIED:20250917T203219Z
UID:10007274-1875087000-1875092400@www.wakedems.org
SUMMARY:Precinct 01-23 Book Club
DESCRIPTION:Join southwest Raleigh Democrats reading edifying–and potentially subversive–literature.  In September\, we revisited George Orwell’s classic 1984.  We realized that reading books in 2025 constitutes an act of resistance to Big Brother’s intrusiveness.  That and it’s fun to discuss them with friends over a great cup of coffee in a newly reopened\, beloved neighborhood cafe near NCSU. \nIn October\, we’ll take on Abundance\, by Ezra Klein and Derek Thompson.  What favorite read do you recommend?
URL:https://www.wakedems.org/wcdp-event/precinct-01-23-book-club/2029-06-02/
LOCATION:Location will be provided to registered attendees
CATEGORIES:Precinct Meetings & Events
ATTACH;FMTTYPE=image/jpeg:https://www.wakedems.org/wp-content/uploads/2023/08/PrecinctMeeting.jpg
ORGANIZER;CN="Precinct 01-23":MAILTO:precinct01-23@wakedems.org
END:VEVENT
BEGIN:VEVENT
DTSTART;TZID=America/New_York:20290707T093000
DTEND;TZID=America/New_York:20290707T110000
DTSTAMP:20260421T131016
CREATED:20250917T203219Z
LAST-MODIFIED:20250917T203219Z
UID:10007275-1878111000-1878116400@www.wakedems.org
SUMMARY:Precinct 01-23 Book Club
DESCRIPTION:Join southwest Raleigh Democrats reading edifying–and potentially subversive–literature.  In September\, we revisited George Orwell’s classic 1984.  We realized that reading books in 2025 constitutes an act of resistance to Big Brother’s intrusiveness.  That and it’s fun to discuss them with friends over a great cup of coffee in a newly reopened\, beloved neighborhood cafe near NCSU. \nIn October\, we’ll take on Abundance\, by Ezra Klein and Derek Thompson.  What favorite read do you recommend?
URL:https://www.wakedems.org/wcdp-event/precinct-01-23-book-club/2029-07-07/
LOCATION:Location will be provided to registered attendees
CATEGORIES:Precinct Meetings & Events
ATTACH;FMTTYPE=image/jpeg:https://www.wakedems.org/wp-content/uploads/2023/08/PrecinctMeeting.jpg
ORGANIZER;CN="Precinct 01-23":MAILTO:precinct01-23@wakedems.org
END:VEVENT
BEGIN:VEVENT
DTSTART;TZID=America/New_York:20290804T093000
DTEND;TZID=America/New_York:20290804T110000
DTSTAMP:20260421T131016
CREATED:20250917T203219Z
LAST-MODIFIED:20250917T203219Z
UID:10007276-1880530200-1880535600@www.wakedems.org
SUMMARY:Precinct 01-23 Book Club
DESCRIPTION:Join southwest Raleigh Democrats reading edifying–and potentially subversive–literature.  In September\, we revisited George Orwell’s classic 1984.  We realized that reading books in 2025 constitutes an act of resistance to Big Brother’s intrusiveness.  That and it’s fun to discuss them with friends over a great cup of coffee in a newly reopened\, beloved neighborhood cafe near NCSU. \nIn October\, we’ll take on Abundance\, by Ezra Klein and Derek Thompson.  What favorite read do you recommend?
URL:https://www.wakedems.org/wcdp-event/precinct-01-23-book-club/2029-08-04/
LOCATION:Location will be provided to registered attendees
CATEGORIES:Precinct Meetings & Events
ATTACH;FMTTYPE=image/jpeg:https://www.wakedems.org/wp-content/uploads/2023/08/PrecinctMeeting.jpg
ORGANIZER;CN="Precinct 01-23":MAILTO:precinct01-23@wakedems.org
END:VEVENT
BEGIN:VEVENT
DTSTART;TZID=America/New_York:20290901T093000
DTEND;TZID=America/New_York:20290901T110000
DTSTAMP:20260421T131016
CREATED:20250917T203219Z
LAST-MODIFIED:20250917T203219Z
UID:10007277-1882949400-1882954800@www.wakedems.org
SUMMARY:Precinct 01-23 Book Club
DESCRIPTION:Join southwest Raleigh Democrats reading edifying–and potentially subversive–literature.  In September\, we revisited George Orwell’s classic 1984.  We realized that reading books in 2025 constitutes an act of resistance to Big Brother’s intrusiveness.  That and it’s fun to discuss them with friends over a great cup of coffee in a newly reopened\, beloved neighborhood cafe near NCSU. \nIn October\, we’ll take on Abundance\, by Ezra Klein and Derek Thompson.  What favorite read do you recommend?
URL:https://www.wakedems.org/wcdp-event/precinct-01-23-book-club/2029-09-01/
LOCATION:Location will be provided to registered attendees
CATEGORIES:Precinct Meetings & Events
ATTACH;FMTTYPE=image/jpeg:https://www.wakedems.org/wp-content/uploads/2023/08/PrecinctMeeting.jpg
ORGANIZER;CN="Precinct 01-23":MAILTO:precinct01-23@wakedems.org
END:VEVENT
BEGIN:VEVENT
DTSTART;TZID=America/New_York:20291006T093000
DTEND;TZID=America/New_York:20291006T110000
DTSTAMP:20260421T131016
CREATED:20250917T203219Z
LAST-MODIFIED:20250917T203219Z
UID:10007278-1885973400-1885978800@www.wakedems.org
SUMMARY:Precinct 01-23 Book Club
DESCRIPTION:Join southwest Raleigh Democrats reading edifying–and potentially subversive–literature.  In September\, we revisited George Orwell’s classic 1984.  We realized that reading books in 2025 constitutes an act of resistance to Big Brother’s intrusiveness.  That and it’s fun to discuss them with friends over a great cup of coffee in a newly reopened\, beloved neighborhood cafe near NCSU. \nIn October\, we’ll take on Abundance\, by Ezra Klein and Derek Thompson.  What favorite read do you recommend?
URL:https://www.wakedems.org/wcdp-event/precinct-01-23-book-club/2029-10-06/
LOCATION:Location will be provided to registered attendees
CATEGORIES:Precinct Meetings & Events
ATTACH;FMTTYPE=image/jpeg:https://www.wakedems.org/wp-content/uploads/2023/08/PrecinctMeeting.jpg
ORGANIZER;CN="Precinct 01-23":MAILTO:precinct01-23@wakedems.org
END:VEVENT
BEGIN:VEVENT
DTSTART;TZID=America/New_York:20291103T093000
DTEND;TZID=America/New_York:20291103T110000
DTSTAMP:20260421T131016
CREATED:20250917T203219Z
LAST-MODIFIED:20250917T203219Z
UID:10007279-1888392600-1888398000@www.wakedems.org
SUMMARY:Precinct 01-23 Book Club
DESCRIPTION:Join southwest Raleigh Democrats reading edifying–and potentially subversive–literature.  In September\, we revisited George Orwell’s classic 1984.  We realized that reading books in 2025 constitutes an act of resistance to Big Brother’s intrusiveness.  That and it’s fun to discuss them with friends over a great cup of coffee in a newly reopened\, beloved neighborhood cafe near NCSU. \nIn October\, we’ll take on Abundance\, by Ezra Klein and Derek Thompson.  What favorite read do you recommend?
URL:https://www.wakedems.org/wcdp-event/precinct-01-23-book-club/2029-11-03/
LOCATION:Location will be provided to registered attendees
CATEGORIES:Precinct Meetings & Events
ATTACH;FMTTYPE=image/jpeg:https://www.wakedems.org/wp-content/uploads/2023/08/PrecinctMeeting.jpg
ORGANIZER;CN="Precinct 01-23":MAILTO:precinct01-23@wakedems.org
END:VEVENT
BEGIN:VEVENT
DTSTART;TZID=America/New_York:20291201T093000
DTEND;TZID=America/New_York:20291201T110000
DTSTAMP:20260421T131016
CREATED:20250917T203219Z
LAST-MODIFIED:20250917T203219Z
UID:10007280-1890811800-1890817200@www.wakedems.org
SUMMARY:Precinct 01-23 Book Club
DESCRIPTION:Join southwest Raleigh Democrats reading edifying–and potentially subversive–literature.  In September\, we revisited George Orwell’s classic 1984.  We realized that reading books in 2025 constitutes an act of resistance to Big Brother’s intrusiveness.  That and it’s fun to discuss them with friends over a great cup of coffee in a newly reopened\, beloved neighborhood cafe near NCSU. \nIn October\, we’ll take on Abundance\, by Ezra Klein and Derek Thompson.  What favorite read do you recommend?
URL:https://www.wakedems.org/wcdp-event/precinct-01-23-book-club/2029-12-01/
LOCATION:Location will be provided to registered attendees
CATEGORIES:Precinct Meetings & Events
ATTACH;FMTTYPE=image/jpeg:https://www.wakedems.org/wp-content/uploads/2023/08/PrecinctMeeting.jpg
ORGANIZER;CN="Precinct 01-23":MAILTO:precinct01-23@wakedems.org
END:VEVENT
BEGIN:VEVENT
DTSTART;TZID=America/New_York:20300105T093000
DTEND;TZID=America/New_York:20300105T110000
DTSTAMP:20260421T131016
CREATED:20250917T203219Z
LAST-MODIFIED:20250917T203219Z
UID:10007281-1893835800-1893841200@www.wakedems.org
SUMMARY:Precinct 01-23 Book Club
DESCRIPTION:Join southwest Raleigh Democrats reading edifying–and potentially subversive–literature.  In September\, we revisited George Orwell’s classic 1984.  We realized that reading books in 2025 constitutes an act of resistance to Big Brother’s intrusiveness.  That and it’s fun to discuss them with friends over a great cup of coffee in a newly reopened\, beloved neighborhood cafe near NCSU. \nIn October\, we’ll take on Abundance\, by Ezra Klein and Derek Thompson.  What favorite read do you recommend?
URL:https://www.wakedems.org/wcdp-event/precinct-01-23-book-club/2030-01-05/
LOCATION:Location will be provided to registered attendees
CATEGORIES:Precinct Meetings & Events
ATTACH;FMTTYPE=image/jpeg:https://www.wakedems.org/wp-content/uploads/2023/08/PrecinctMeeting.jpg
ORGANIZER;CN="Precinct 01-23":MAILTO:precinct01-23@wakedems.org
END:VEVENT
BEGIN:VEVENT
DTSTART;TZID=America/New_York:20300202T093000
DTEND;TZID=America/New_York:20300202T110000
DTSTAMP:20260421T131016
CREATED:20250917T203219Z
LAST-MODIFIED:20250917T203219Z
UID:10007282-1896255000-1896260400@www.wakedems.org
SUMMARY:Precinct 01-23 Book Club
DESCRIPTION:Join southwest Raleigh Democrats reading edifying–and potentially subversive–literature.  In September\, we revisited George Orwell’s classic 1984.  We realized that reading books in 2025 constitutes an act of resistance to Big Brother’s intrusiveness.  That and it’s fun to discuss them with friends over a great cup of coffee in a newly reopened\, beloved neighborhood cafe near NCSU. \nIn October\, we’ll take on Abundance\, by Ezra Klein and Derek Thompson.  What favorite read do you recommend?
URL:https://www.wakedems.org/wcdp-event/precinct-01-23-book-club/2030-02-02/
LOCATION:Location will be provided to registered attendees
CATEGORIES:Precinct Meetings & Events
ATTACH;FMTTYPE=image/jpeg:https://www.wakedems.org/wp-content/uploads/2023/08/PrecinctMeeting.jpg
ORGANIZER;CN="Precinct 01-23":MAILTO:precinct01-23@wakedems.org
END:VEVENT
BEGIN:VEVENT
DTSTART;TZID=America/New_York:20300302T093000
DTEND;TZID=America/New_York:20300302T110000
DTSTAMP:20260421T131016
CREATED:20250917T203219Z
LAST-MODIFIED:20250917T203219Z
UID:10007283-1898674200-1898679600@www.wakedems.org
SUMMARY:Precinct 01-23 Book Club
DESCRIPTION:Join southwest Raleigh Democrats reading edifying–and potentially subversive–literature.  In September\, we revisited George Orwell’s classic 1984.  We realized that reading books in 2025 constitutes an act of resistance to Big Brother’s intrusiveness.  That and it’s fun to discuss them with friends over a great cup of coffee in a newly reopened\, beloved neighborhood cafe near NCSU. \nIn October\, we’ll take on Abundance\, by Ezra Klein and Derek Thompson.  What favorite read do you recommend?
URL:https://www.wakedems.org/wcdp-event/precinct-01-23-book-club/2030-03-02/
LOCATION:Location will be provided to registered attendees
CATEGORIES:Precinct Meetings & Events
ATTACH;FMTTYPE=image/jpeg:https://www.wakedems.org/wp-content/uploads/2023/08/PrecinctMeeting.jpg
ORGANIZER;CN="Precinct 01-23":MAILTO:precinct01-23@wakedems.org
END:VEVENT
BEGIN:VEVENT
DTSTART;TZID=America/New_York:20300406T093000
DTEND;TZID=America/New_York:20300406T110000
DTSTAMP:20260421T131016
CREATED:20250917T203219Z
LAST-MODIFIED:20250917T203219Z
UID:10007284-1901698200-1901703600@www.wakedems.org
SUMMARY:Precinct 01-23 Book Club
DESCRIPTION:Join southwest Raleigh Democrats reading edifying–and potentially subversive–literature.  In September\, we revisited George Orwell’s classic 1984.  We realized that reading books in 2025 constitutes an act of resistance to Big Brother’s intrusiveness.  That and it’s fun to discuss them with friends over a great cup of coffee in a newly reopened\, beloved neighborhood cafe near NCSU. \nIn October\, we’ll take on Abundance\, by Ezra Klein and Derek Thompson.  What favorite read do you recommend?
URL:https://www.wakedems.org/wcdp-event/precinct-01-23-book-club/2030-04-06/
LOCATION:Location will be provided to registered attendees
CATEGORIES:Precinct Meetings & Events
ATTACH;FMTTYPE=image/jpeg:https://www.wakedems.org/wp-content/uploads/2023/08/PrecinctMeeting.jpg
ORGANIZER;CN="Precinct 01-23":MAILTO:precinct01-23@wakedems.org
END:VEVENT
BEGIN:VEVENT
DTSTART;TZID=America/New_York:20300504T093000
DTEND;TZID=America/New_York:20300504T110000
DTSTAMP:20260421T131016
CREATED:20250917T203219Z
LAST-MODIFIED:20250917T203219Z
UID:10007285-1904117400-1904122800@www.wakedems.org
SUMMARY:Precinct 01-23 Book Club
DESCRIPTION:Join southwest Raleigh Democrats reading edifying–and potentially subversive–literature.  In September\, we revisited George Orwell’s classic 1984.  We realized that reading books in 2025 constitutes an act of resistance to Big Brother’s intrusiveness.  That and it’s fun to discuss them with friends over a great cup of coffee in a newly reopened\, beloved neighborhood cafe near NCSU. \nIn October\, we’ll take on Abundance\, by Ezra Klein and Derek Thompson.  What favorite read do you recommend?
URL:https://www.wakedems.org/wcdp-event/precinct-01-23-book-club/2030-05-04/
LOCATION:Location will be provided to registered attendees
CATEGORIES:Precinct Meetings & Events
ATTACH;FMTTYPE=image/jpeg:https://www.wakedems.org/wp-content/uploads/2023/08/PrecinctMeeting.jpg
ORGANIZER;CN="Precinct 01-23":MAILTO:precinct01-23@wakedems.org
END:VEVENT
BEGIN:VEVENT
DTSTART;TZID=America/New_York:20300601T093000
DTEND;TZID=America/New_York:20300601T110000
DTSTAMP:20260421T131016
CREATED:20250917T203219Z
LAST-MODIFIED:20250917T203219Z
UID:10007286-1906536600-1906542000@www.wakedems.org
SUMMARY:Precinct 01-23 Book Club
DESCRIPTION:Join southwest Raleigh Democrats reading edifying–and potentially subversive–literature.  In September\, we revisited George Orwell’s classic 1984.  We realized that reading books in 2025 constitutes an act of resistance to Big Brother’s intrusiveness.  That and it’s fun to discuss them with friends over a great cup of coffee in a newly reopened\, beloved neighborhood cafe near NCSU. \nIn October\, we’ll take on Abundance\, by Ezra Klein and Derek Thompson.  What favorite read do you recommend?
URL:https://www.wakedems.org/wcdp-event/precinct-01-23-book-club/2030-06-01/
LOCATION:Location will be provided to registered attendees
CATEGORIES:Precinct Meetings & Events
ATTACH;FMTTYPE=image/jpeg:https://www.wakedems.org/wp-content/uploads/2023/08/PrecinctMeeting.jpg
ORGANIZER;CN="Precinct 01-23":MAILTO:precinct01-23@wakedems.org
END:VEVENT
BEGIN:VEVENT
DTSTART;TZID=America/New_York:20300706T093000
DTEND;TZID=America/New_York:20300706T110000
DTSTAMP:20260421T131016
CREATED:20250917T203219Z
LAST-MODIFIED:20250917T203219Z
UID:10007287-1909560600-1909566000@www.wakedems.org
SUMMARY:Precinct 01-23 Book Club
DESCRIPTION:Join southwest Raleigh Democrats reading edifying–and potentially subversive–literature.  In September\, we revisited George Orwell’s classic 1984.  We realized that reading books in 2025 constitutes an act of resistance to Big Brother’s intrusiveness.  That and it’s fun to discuss them with friends over a great cup of coffee in a newly reopened\, beloved neighborhood cafe near NCSU. \nIn October\, we’ll take on Abundance\, by Ezra Klein and Derek Thompson.  What favorite read do you recommend?
URL:https://www.wakedems.org/wcdp-event/precinct-01-23-book-club/2030-07-06/
LOCATION:Location will be provided to registered attendees
CATEGORIES:Precinct Meetings & Events
ATTACH;FMTTYPE=image/jpeg:https://www.wakedems.org/wp-content/uploads/2023/08/PrecinctMeeting.jpg
ORGANIZER;CN="Precinct 01-23":MAILTO:precinct01-23@wakedems.org
END:VEVENT
BEGIN:VEVENT
DTSTART;TZID=America/New_York:20300803T093000
DTEND;TZID=America/New_York:20300803T110000
DTSTAMP:20260421T131016
CREATED:20250917T203219Z
LAST-MODIFIED:20250917T203219Z
UID:10007288-1911979800-1911985200@www.wakedems.org
SUMMARY:Precinct 01-23 Book Club
DESCRIPTION:Join southwest Raleigh Democrats reading edifying–and potentially subversive–literature.  In September\, we revisited George Orwell’s classic 1984.  We realized that reading books in 2025 constitutes an act of resistance to Big Brother’s intrusiveness.  That and it’s fun to discuss them with friends over a great cup of coffee in a newly reopened\, beloved neighborhood cafe near NCSU. \nIn October\, we’ll take on Abundance\, by Ezra Klein and Derek Thompson.  What favorite read do you recommend?
URL:https://www.wakedems.org/wcdp-event/precinct-01-23-book-club/2030-08-03/
LOCATION:Location will be provided to registered attendees
CATEGORIES:Precinct Meetings & Events
ATTACH;FMTTYPE=image/jpeg:https://www.wakedems.org/wp-content/uploads/2023/08/PrecinctMeeting.jpg
ORGANIZER;CN="Precinct 01-23":MAILTO:precinct01-23@wakedems.org
END:VEVENT
BEGIN:VEVENT
DTSTART;TZID=America/New_York:20300907T093000
DTEND;TZID=America/New_York:20300907T110000
DTSTAMP:20260421T131016
CREATED:20250917T203219Z
LAST-MODIFIED:20250917T203219Z
UID:10007289-1915003800-1915009200@www.wakedems.org
SUMMARY:Precinct 01-23 Book Club
DESCRIPTION:Join southwest Raleigh Democrats reading edifying–and potentially subversive–literature.  In September\, we revisited George Orwell’s classic 1984.  We realized that reading books in 2025 constitutes an act of resistance to Big Brother’s intrusiveness.  That and it’s fun to discuss them with friends over a great cup of coffee in a newly reopened\, beloved neighborhood cafe near NCSU. \nIn October\, we’ll take on Abundance\, by Ezra Klein and Derek Thompson.  What favorite read do you recommend?
URL:https://www.wakedems.org/wcdp-event/precinct-01-23-book-club/2030-09-07/
LOCATION:Location will be provided to registered attendees
CATEGORIES:Precinct Meetings & Events
ATTACH;FMTTYPE=image/jpeg:https://www.wakedems.org/wp-content/uploads/2023/08/PrecinctMeeting.jpg
ORGANIZER;CN="Precinct 01-23":MAILTO:precinct01-23@wakedems.org
END:VEVENT
END:VCALENDAR