BEGIN:VCALENDAR
VERSION:2.0
PRODID:-//Wake County Democratic Party - ECPv6.15.20//NONSGML v1.0//EN
CALSCALE:GREGORIAN
METHOD:PUBLISH
X-ORIGINAL-URL:https://www.wakedems.org
X-WR-CALDESC:Events for Wake County Democratic Party
REFRESH-INTERVAL;VALUE=DURATION:PT1H
X-Robots-Tag:noindex
X-PUBLISHED-TTL:PT1H
BEGIN:VTIMEZONE
TZID:America/New_York
BEGIN:DAYLIGHT
TZOFFSETFROM:-0500
TZOFFSETTO:-0400
TZNAME:EDT
DTSTART:20250309T070000
END:DAYLIGHT
BEGIN:STANDARD
TZOFFSETFROM:-0400
TZOFFSETTO:-0500
TZNAME:EST
DTSTART:20251102T060000
END:STANDARD
BEGIN:DAYLIGHT
TZOFFSETFROM:-0500
TZOFFSETTO:-0400
TZNAME:EDT
DTSTART:20260308T070000
END:DAYLIGHT
BEGIN:STANDARD
TZOFFSETFROM:-0400
TZOFFSETTO:-0500
TZNAME:EST
DTSTART:20261101T060000
END:STANDARD
BEGIN:DAYLIGHT
TZOFFSETFROM:-0500
TZOFFSETTO:-0400
TZNAME:EDT
DTSTART:20270314T070000
END:DAYLIGHT
BEGIN:STANDARD
TZOFFSETFROM:-0400
TZOFFSETTO:-0500
TZNAME:EST
DTSTART:20271107T060000
END:STANDARD
END:VTIMEZONE
BEGIN:VEVENT
DTSTART;TZID=America/New_York:20260614T150000
DTEND;TZID=America/New_York:20260614T180000
DTSTAMP:20260424T084213
CREATED:20260412T141158Z
LAST-MODIFIED:20260412T141158Z
UID:10008427-1781449200-1781460000@www.wakedems.org
SUMMARY:01-27 Precinct picnic
DESCRIPTION:Join the 01-27 members for an afternoon social! We will be gathering for this potluck event to ramp up the energy for Novembers midterms. We will be joined by some special guest speakers so be sure to be on the look out! \nBoth alcoholic and non-alcoholic will be provided and as such\, we are respectfully requesting you RSVP for this event so we can ensure we have enough for everyone.
URL:https://www.wakedems.org/wcdp-event/01-27-precinct-picnic/
LOCATION:Location will be provided to registered attendees
CATEGORIES:Precinct Meetings & Events,Social Event
ATTACH;FMTTYPE=image/jpeg:https://www.wakedems.org/wp-content/uploads/2023/08/SocialEvent3.jpg
ORGANIZER;CN="Precinct 01-27":MAILTO:precinct01-27@wakedems.org
END:VEVENT
END:VCALENDAR