BEGIN:VCALENDAR
VERSION:2.0
PRODID:-//Wake County Democratic Party - ECPv6.15.20//NONSGML v1.0//EN
CALSCALE:GREGORIAN
METHOD:PUBLISH
X-ORIGINAL-URL:https://www.wakedems.org
X-WR-CALDESC:Events for Wake County Democratic Party
REFRESH-INTERVAL;VALUE=DURATION:PT1H
X-Robots-Tag:noindex
X-PUBLISHED-TTL:PT1H
BEGIN:VTIMEZONE
TZID:America/New_York
BEGIN:DAYLIGHT
TZOFFSETFROM:-0500
TZOFFSETTO:-0400
TZNAME:EDT
DTSTART:20250309T070000
END:DAYLIGHT
BEGIN:STANDARD
TZOFFSETFROM:-0400
TZOFFSETTO:-0500
TZNAME:EST
DTSTART:20251102T060000
END:STANDARD
BEGIN:DAYLIGHT
TZOFFSETFROM:-0500
TZOFFSETTO:-0400
TZNAME:EDT
DTSTART:20260308T070000
END:DAYLIGHT
BEGIN:STANDARD
TZOFFSETFROM:-0400
TZOFFSETTO:-0500
TZNAME:EST
DTSTART:20261101T060000
END:STANDARD
BEGIN:DAYLIGHT
TZOFFSETFROM:-0500
TZOFFSETTO:-0400
TZNAME:EDT
DTSTART:20270314T070000
END:DAYLIGHT
BEGIN:STANDARD
TZOFFSETFROM:-0400
TZOFFSETTO:-0500
TZNAME:EST
DTSTART:20271107T060000
END:STANDARD
END:VTIMEZONE
BEGIN:VEVENT
DTSTART;TZID=America/New_York:20260411T190000
DTEND;TZID=America/New_York:20260411T203000
DTSTAMP:20260424T050146
CREATED:20260315T163735Z
LAST-MODIFIED:20260315T163735Z
UID:10008081-1775934000-1775939400@www.wakedems.org
SUMMARY:Precinct 01-32: Monthly Meet-up
DESCRIPTION:Precinct 01-32 meets on the second Saturday of every month from 7 to 8:30pm at a local pub/beer garden. We’ll be outdoors\, weather permitting (indoor space is available in case of rain). \nHave a drink and/or snacks\, get to know your fellow precinct members\, and have some informal planning/discussion time. We’ll share information\, brainstorm\, and clarify priorities (focus: voter registration protection/voter education/planning for midterms!) Anita Earls swag available (go Justice Earls!). \nKids welcome (there is some outdoor/open space to play).
URL:https://www.wakedems.org/wcdp-event/precinct-01-32-monthly-meet-up/2026-04-11/
LOCATION:Location will be provided to registered attendees
CATEGORIES:Precinct Meetings & Events
ATTACH;FMTTYPE=image/jpeg:https://www.wakedems.org/wp-content/uploads/2023/08/PrecinctMeeting.jpg
ORGANIZER;CN="Precinct 01-32":MAILTO:precinct01-32@wakedems.org
END:VEVENT
BEGIN:VEVENT
DTSTART;TZID=America/New_York:20260314T190000
DTEND;TZID=America/New_York:20260314T203000
DTSTAMP:20260424T050146
CREATED:20260306T201640Z
LAST-MODIFIED:20260306T201640Z
UID:10008063-1773514800-1773520200@www.wakedems.org
SUMMARY:01-32 Monthly Precinct Meeting
DESCRIPTION:We will meet to discuss the primaries\, plan for the future\, and share a drink and snacks. I’ll have some Anita Earls swag. Kids welcome.
URL:https://www.wakedems.org/wcdp-event/01-32-monthly-precinct-meeting/
LOCATION:Location will be provided to registered attendees
CATEGORIES:Precinct Meetings & Events
ATTACH;FMTTYPE=image/jpeg:https://www.wakedems.org/wp-content/uploads/2023/08/PrecinctMeeting.jpg
ORGANIZER;CN="Precinct 01-32":MAILTO:precinct01-32@wakedems.org
END:VEVENT
END:VCALENDAR