BEGIN:VCALENDAR
VERSION:2.0
PRODID:-//Wake County Democratic Party - ECPv6.15.20//NONSGML v1.0//EN
CALSCALE:GREGORIAN
METHOD:PUBLISH
X-ORIGINAL-URL:https://www.wakedems.org
X-WR-CALDESC:Events for Wake County Democratic Party
REFRESH-INTERVAL;VALUE=DURATION:PT1H
X-Robots-Tag:noindex
X-PUBLISHED-TTL:PT1H
BEGIN:VTIMEZONE
TZID:America/New_York
BEGIN:DAYLIGHT
TZOFFSETFROM:-0500
TZOFFSETTO:-0400
TZNAME:EDT
DTSTART:20230312T070000
END:DAYLIGHT
BEGIN:STANDARD
TZOFFSETFROM:-0400
TZOFFSETTO:-0500
TZNAME:EST
DTSTART:20231105T060000
END:STANDARD
BEGIN:DAYLIGHT
TZOFFSETFROM:-0500
TZOFFSETTO:-0400
TZNAME:EDT
DTSTART:20240310T070000
END:DAYLIGHT
BEGIN:STANDARD
TZOFFSETFROM:-0400
TZOFFSETTO:-0500
TZNAME:EST
DTSTART:20241103T060000
END:STANDARD
BEGIN:DAYLIGHT
TZOFFSETFROM:-0500
TZOFFSETTO:-0400
TZNAME:EDT
DTSTART:20250309T070000
END:DAYLIGHT
BEGIN:STANDARD
TZOFFSETFROM:-0400
TZOFFSETTO:-0500
TZNAME:EST
DTSTART:20251102T060000
END:STANDARD
BEGIN:DAYLIGHT
TZOFFSETFROM:-0500
TZOFFSETTO:-0400
TZNAME:EDT
DTSTART:20260308T070000
END:DAYLIGHT
BEGIN:STANDARD
TZOFFSETFROM:-0400
TZOFFSETTO:-0500
TZNAME:EST
DTSTART:20261101T060000
END:STANDARD
END:VTIMEZONE
BEGIN:VEVENT
DTSTART;TZID=America/New_York:20251025T100000
DTEND;TZID=America/New_York:20251025T120000
DTSTAMP:20260422T032452
CREATED:20250920T151246Z
LAST-MODIFIED:20250920T151246Z
UID:10007329-1761386400-1761393600@www.wakedems.org
SUMMARY:Canvass with Precinct 04-12 in South Cary!
DESCRIPTION:Come help knock doors in South Cary Precinct 04-12 where we have two competitive elections for Cary Town Council!
URL:https://www.wakedems.org/wcdp-event/canvass-with-precinct-04-12-in-south-cary/
LOCATION:Location will be provided to registered attendees
CATEGORIES:GOTV Canvass 2025
ATTACH;FMTTYPE=image/jpeg:https://www.wakedems.org/wp-content/uploads/2023/08/Canvass1.jpg
ORGANIZER;CN="Precinct 04-12":MAILTO:precinct04-12@wakedems.org
END:VEVENT
BEGIN:VEVENT
DTSTART;TZID=America/New_York:20251023T180000
DTEND;TZID=America/New_York:20251023T200000
DTSTAMP:20260422T032452
CREATED:20250923T205104Z
LAST-MODIFIED:20250923T205104Z
UID:10007328-1761242400-1761249600@www.wakedems.org
SUMMARY:Voter Phone Banking with Precinct 04-12 in South Cary!
DESCRIPTION:Help connect with voters in Precinct 04-12 in South Cary\, where we have two competitive elections for Cary Town Council!
URL:https://www.wakedems.org/wcdp-event/voter-phone-banking-with-precinct-04-12-in-south-cary-2/
LOCATION:Virtual
CATEGORIES:Phone Bank
ATTACH;FMTTYPE=image/jpeg:https://www.wakedems.org/wp-content/uploads/2023/08/PhoneBank3.jpg
ORGANIZER;CN="Precinct 04-12":MAILTO:precinct04-12@wakedems.org
END:VEVENT
BEGIN:VEVENT
DTSTART;TZID=America/New_York:20251009T180000
DTEND;TZID=America/New_York:20251009T200000
DTSTAMP:20260422T032452
CREATED:20250923T204040Z
LAST-MODIFIED:20250923T204040Z
UID:10007327-1760032800-1760040000@www.wakedems.org
SUMMARY:Voter Phone Banking with Precinct 04-12 in South Cary!
DESCRIPTION:Help connect with voters in Precinct 04-12 where we have two competitive races for the Cary Town Council!
URL:https://www.wakedems.org/wcdp-event/voter-phone-banking-with-precinct-04-12-in-south-cary/
LOCATION:Virtual
CATEGORIES:Phone Bank
ATTACH;FMTTYPE=image/jpeg:https://www.wakedems.org/wp-content/uploads/2023/08/PhoneBank1.jpg
ORGANIZER;CN="Precinct 04-12":MAILTO:precinct04-12@wakedems.org
END:VEVENT
BEGIN:VEVENT
DTSTART;TZID=America/New_York:20250823T170000
DTEND;TZID=America/New_York:20250823T190000
DTSTAMP:20260422T032452
CREATED:20250820T001757Z
LAST-MODIFIED:20250823T181835Z
UID:10006995-1755968400-1755975600@www.wakedems.org
SUMMARY:Canvass with Wake Dems: Precinct 04-12 in South Cary
DESCRIPTION:Help us knock doors in the South Cary area to encourage other Democrats and left leaning Unaffiliated voters to join us! We’ll be canvassing Precinct 04-12 with the goals of inviting fellow members of our community to join us at our monthly South Cary Happy Hour and ask them to come volunteer with us! We’re building our community of grassroots volunteers to help win municipal elections this fall and the many important races in the 2026 midterms! Come join us!
URL:https://www.wakedems.org/wcdp-event/canvass-with-wake-dems-precinct-04-12-in-south-cary/
CATEGORIES:Canvass
ATTACH;FMTTYPE=image/jpeg:https://www.wakedems.org/wp-content/uploads/2023/08/Canvass2.jpg
ORGANIZER;CN="Precinct 04-12":MAILTO:precinct04-12@wakedems.org
END:VEVENT
BEGIN:VEVENT
DTSTART;TZID=America/New_York:20240805T183000
DTEND;TZID=America/New_York:20240805T190000
DTSTAMP:20260422T032452
CREATED:20240709T214049Z
LAST-MODIFIED:20240709T214049Z
UID:10004811-1722882600-1722884400@www.wakedems.org
SUMMARY:Precinct 04-12 monthly meeting (virtual)
DESCRIPTION:Monthly meeting to cover precinct business and onboard new volunteers. Email precinct04-12@wakedems.org for a link.
URL:https://www.wakedems.org/wcdp-event/precinct-04-12-monthly-meeting-virtual/
LOCATION:Virtual
CATEGORIES:Official Precinct Meeting,Precinct Meetings & Events
ATTACH;FMTTYPE=image/jpeg:https://www.wakedems.org/wp-content/uploads/2023/08/PrecinctMeeting.jpg
ORGANIZER;CN="Precinct 04-12":MAILTO:precinct04-12@wakedems.org
END:VEVENT
BEGIN:VEVENT
DTSTART;TZID=America/New_York:20240727T100000
DTEND;TZID=America/New_York:20240727T120000
DTSTAMP:20260422T032452
CREATED:20240721T175243Z
LAST-MODIFIED:20240721T175243Z
UID:10004846-1722074400-1722081600@www.wakedems.org
SUMMARY:Swarm Turf 2
DESCRIPTION:Let’s get together and knock doors in Precinct 04-12 Turf 2! Let’s meet at Walnut St. Park\, and decide how to fan out from there
URL:https://www.wakedems.org/wcdp-event/swarm-turf-2/
ATTACH;FMTTYPE=image/jpeg:https://www.wakedems.org/wp-content/uploads/2023/08/Canvass2.jpg
ORGANIZER;CN="Precinct 04-12":MAILTO:precinct04-12@wakedems.org
END:VEVENT
BEGIN:VEVENT
DTSTART;TZID=America/New_York:20240720T100000
DTEND;TZID=America/New_York:20240720T120000
DTSTAMP:20260422T032452
CREATED:20240713T164743Z
LAST-MODIFIED:20240713T164743Z
UID:10004837-1721469600-1721476800@www.wakedems.org
SUMMARY:Swarm Turf 9
DESCRIPTION:We’re going to swarm on Turf 9 on Saturday 7/20\, from 10-12. Come join if you can! We can then celebrate with a beer at WELD later that afternoon.\n\n\nWe’ll meet at the intersection of Forest Park Way and Duncan Ct\, there’s plenty of street parking there. (Folks might recognize this is the apartment complex\, so should be nice and dense)
URL:https://www.wakedems.org/wcdp-event/swarm-turf-9/
CATEGORIES:Canvass
ATTACH;FMTTYPE=image/jpeg:https://www.wakedems.org/wp-content/uploads/2023/08/Canvass1.jpg
ORGANIZER;CN="Precinct 04-12":MAILTO:precinct04-12@wakedems.org
END:VEVENT
BEGIN:VEVENT
DTSTART;TZID=America/New_York:20240708T180000
DTEND;TZID=America/New_York:20240708T190000
DTSTAMP:20260422T032452
CREATED:20240606T212248Z
LAST-MODIFIED:20240606T212248Z
UID:10004247-1720461600-1720465200@www.wakedems.org
SUMMARY:Precinct 04-12 meeting (virtual)
DESCRIPTION:Monthly meeting for Precinct 04-12 business. Please contact precinct04-12@wakedems.org for the meetup link
URL:https://www.wakedems.org/wcdp-event/precinct-04-12-meeting-virtual-3/
LOCATION:Virtual
CATEGORIES:Official Precinct Meeting
ATTACH;FMTTYPE=image/jpeg:https://www.wakedems.org/wp-content/uploads/2023/08/PrecinctMeeting.jpg
ORGANIZER;CN="Precinct 04-12":MAILTO:precinct04-12@wakedems.org
END:VEVENT
BEGIN:VEVENT
DTSTART;TZID=America/New_York:20240603T180000
DTEND;TZID=America/New_York:20240603T190000
DTSTAMP:20260422T032452
CREATED:20240504T142935Z
LAST-MODIFIED:20240504T142935Z
UID:10003753-1717437600-1717441200@www.wakedems.org
SUMMARY:Precinct 04-12 meeting (virtual)
DESCRIPTION:Monthly meeting for Precinct 04-12 business. Please contact precinct04-12@wakedems.org for the meetup link
URL:https://www.wakedems.org/wcdp-event/precinct-04-12-meeting-virtual-2/
LOCATION:Virtual
CATEGORIES:Official Precinct Meeting
ATTACH;FMTTYPE=image/jpeg:https://www.wakedems.org/wp-content/uploads/2023/08/PrecinctMeeting.jpg
ORGANIZER;CN="Precinct 04-12":MAILTO:precinct04-12@wakedems.org
END:VEVENT
BEGIN:VEVENT
DTSTART;TZID=America/New_York:20240519T140000
DTEND;TZID=America/New_York:20240519T160000
DTSTAMP:20260422T032452
CREATED:20240504T142338Z
LAST-MODIFIED:20240504T142338Z
UID:10003752-1716127200-1716134400@www.wakedems.org
SUMMARY:Precinct 04-12- Precinct Building Canvassing
DESCRIPTION:Join us for an afternoon of canvassing to build our newly-organized precinct. Email precinct04-12@wakedems.org for details \n 
URL:https://www.wakedems.org/wcdp-event/precinct-04-12-precinct-building-canvassing/
CATEGORIES:Canvass,Lit Drop
ATTACH;FMTTYPE=image/jpeg:https://www.wakedems.org/wp-content/uploads/2023/08/Canvass2.jpg
ORGANIZER;CN="Precinct 04-12":MAILTO:precinct04-12@wakedems.org
END:VEVENT
BEGIN:VEVENT
DTSTART;TZID=America/New_York:20240501T180000
DTEND;TZID=America/New_York:20240501T190000
DTSTAMP:20260422T032452
CREATED:20240401T145507Z
LAST-MODIFIED:20240401T145507Z
UID:10003323-1714586400-1714590000@www.wakedems.org
SUMMARY:Precinct 04-12 meeting (virtual)
DESCRIPTION:Bi-monthly business meeting for precinct 04-12. Email precinct04-12@wakedems.org for the meeting link.
URL:https://www.wakedems.org/wcdp-event/precinct-04-12-meeting-virtual/
LOCATION:Virtual
CATEGORIES:Precinct Meetings & Events
ATTACH;FMTTYPE=image/jpeg:https://www.wakedems.org/wp-content/uploads/2023/08/PrecinctMeeting.jpg
ORGANIZER;CN="Precinct 04-12":MAILTO:precinct04-12@wakedems.org
END:VEVENT
BEGIN:VEVENT
DTSTART;TZID=America/New_York:20240414T120000
DTEND;TZID=America/New_York:20240414T160000
DTSTAMP:20260422T032452
CREATED:20240406T144739Z
LAST-MODIFIED:20240406T144739Z
UID:10003334-1713096000-1713110400@www.wakedems.org
SUMMARY:Precinct 04-12 precinct building virtual phone banking
DESCRIPTION:Virtual phone bank to build our volunteer base. Come whenever you can! Every bit helps. Email precinct04-12@wakedems.org for details.
URL:https://www.wakedems.org/wcdp-event/precinct-04-12-precinct-building-virtual-phone-banking/
LOCATION:Virtual
CATEGORIES:Phone Bank
ATTACH;FMTTYPE=image/jpeg:https://www.wakedems.org/wp-content/uploads/2023/08/PhoneBank1.jpg
ORGANIZER;CN="Precinct 04-12":MAILTO:precinct04-12@wakedems.org
END:VEVENT
END:VCALENDAR