BEGIN:VCALENDAR
VERSION:2.0
PRODID:-//Wake County Democratic Party - ECPv6.15.20//NONSGML v1.0//EN
CALSCALE:GREGORIAN
METHOD:PUBLISH
X-ORIGINAL-URL:https://www.wakedems.org
X-WR-CALDESC:Events for Wake County Democratic Party
REFRESH-INTERVAL;VALUE=DURATION:PT1H
X-Robots-Tag:noindex
X-PUBLISHED-TTL:PT1H
BEGIN:VTIMEZONE
TZID:America/New_York
BEGIN:DAYLIGHT
TZOFFSETFROM:-0500
TZOFFSETTO:-0400
TZNAME:EDT
DTSTART:20240310T070000
END:DAYLIGHT
BEGIN:STANDARD
TZOFFSETFROM:-0400
TZOFFSETTO:-0500
TZNAME:EST
DTSTART:20241103T060000
END:STANDARD
BEGIN:DAYLIGHT
TZOFFSETFROM:-0500
TZOFFSETTO:-0400
TZNAME:EDT
DTSTART:20250309T070000
END:DAYLIGHT
BEGIN:STANDARD
TZOFFSETFROM:-0400
TZOFFSETTO:-0500
TZNAME:EST
DTSTART:20251102T060000
END:STANDARD
BEGIN:DAYLIGHT
TZOFFSETFROM:-0500
TZOFFSETTO:-0400
TZNAME:EDT
DTSTART:20260308T070000
END:DAYLIGHT
BEGIN:STANDARD
TZOFFSETFROM:-0400
TZOFFSETTO:-0500
TZNAME:EST
DTSTART:20261101T060000
END:STANDARD
END:VTIMEZONE
BEGIN:VEVENT
DTSTART;TZID=America/New_York:20250927T110000
DTEND;TZID=America/New_York:20250927T150000
DTSTAMP:20260421T201625
CREATED:20250910T014659Z
LAST-MODIFIED:20250923T213624Z
UID:10007123-1758970800-1758985200@www.wakedems.org
SUMMARY:[CANCELED] Morrisville 05-01 GOTV Canvass
DESCRIPTION:Come join your fellow Morrisville Democrats as we help to get out the vote in our local precinct. We’ll be talking to likely voters and handing out literature for our endorsed candidates (and perhaps even be joined by some of them!). We have a lot of important municipal elections this year\, so come on out and help make sure we get Democrats elected. \nWe hope to see you there! \nNote: We will notify of any weather-related cancellation or reschedule 24 hours in advance.
URL:https://www.wakedems.org/wcdp-event/morrisville-05-01-gotv-canvass/
LOCATION:Morrisville Community Park 1520 Morrisvile Parkway Morrisville NC 27560
CATEGORIES:GOTV Canvass
ATTACH;FMTTYPE=image/jpeg:https://www.wakedems.org/wp-content/uploads/2023/08/Canvass3.jpg
ORGANIZER;CN="Precinct 05-01":MAILTO:precinct05-01@wakedems.org
END:VEVENT
BEGIN:VEVENT
DTSTART;TZID=America/New_York:20250907T113000
DTEND;TZID=America/New_York:20250907T133000
DTSTAMP:20260421T201625
CREATED:20250805T190448Z
LAST-MODIFIED:20250807T172650Z
UID:10006962-1757244600-1757251800@www.wakedems.org
SUMMARY:Morrisville Democrats Social Meet and Greet
DESCRIPTION:Join your fellow Morrisville Democrats for some coffee\, snacks\, and conversation about the issues that matter most to you\, where you want to see our local party go\, or anything that crosses your mind. \nHosted by Precinct 05-01
URL:https://www.wakedems.org/wcdp-event/morrisville-democrats-social-meet-and-greet/
LOCATION:Location will be provided to registered attendees
CATEGORIES:Social Event
ATTACH;FMTTYPE=image/jpeg:https://www.wakedems.org/wp-content/uploads/2023/08/SocialEvent3.jpg
ORGANIZER;CN="Precinct 05-01":MAILTO:precinct05-01@wakedems.org
END:VEVENT
BEGIN:VEVENT
DTSTART;TZID=America/New_York:20250817T083000
DTEND;TZID=America/New_York:20250817T103000
DTSTAMP:20260421T201625
CREATED:20250803T191319Z
LAST-MODIFIED:20250805T041809Z
UID:10006952-1755419400-1755426600@www.wakedems.org
SUMMARY:Morrisville Precinct 05-01 GOTO Canvass
DESCRIPTION:Looking to get out there\, meet your Democratic neighbors\, and find out what’s important to people in your community? Join us for a Get Out The Organization Canvas! We’ll be knocking on doors of Democratic-friendly households in the 05-01 precinct to see what issues matter most to those in our community\, and hopefully recruit a few more volunteers. \nNew canvassers will be paired with an experienced team member\, and additional training will be provided on-site. You don’t have to live in the precinct to canvass there either\, so feel free to join us regardless of where you live! We aim to start organizing at 8:30am\, so we can get all of our door knocking done before the heat of the day. \nLocation will be provided to registered attendees
URL:https://www.wakedems.org/wcdp-event/morrisville-precinct-05-01-goto-canvass/
LOCATION:Location will be provided to registered attendees
CATEGORIES:Canvass
ATTACH;FMTTYPE=image/jpeg:https://www.wakedems.org/wp-content/uploads/2023/08/Canvass3.jpg
ORGANIZER;CN="Precinct 05-01":MAILTO:precinct05-01@wakedems.org
END:VEVENT
BEGIN:VEVENT
DTSTART;TZID=America/New_York:20250710T183000
DTEND;TZID=America/New_York:20250710T200000
DTSTAMP:20260421T201625
CREATED:20250616T233431Z
LAST-MODIFIED:20250616T233431Z
UID:10006607-1752172200-1752177600@www.wakedems.org
SUMMARY:Morrisville Dems Meetup
DESCRIPTION:Join your fellow Morrisville Democrats (and bring your Cary friends)\, for a social meetup in Morrisville. Sponsored by 05-01\, all fellow Democrats are welcome! \n6:30pm on Thursday\, July 10
URL:https://www.wakedems.org/wcdp-event/morrisville-dems-meetup/
LOCATION:Location will be provided to registered attendees
CATEGORIES:Area Meetings & Events,Social Event
ATTACH;FMTTYPE=image/jpeg:https://www.wakedems.org/wp-content/uploads/2023/08/SocialEvent3.jpg
ORGANIZER;CN="Precinct 05-01":MAILTO:precinct05-01@wakedems.org
END:VEVENT
BEGIN:VEVENT
DTSTART;TZID=America/New_York:20250517T140000
DTEND;TZID=America/New_York:20250517T160000
DTSTAMP:20260421T201625
CREATED:20250512T193635Z
LAST-MODIFIED:20250512T193635Z
UID:10006440-1747490400-1747497600@www.wakedems.org
SUMMARY:Precinct 05-01 Meetup
DESCRIPTION:This is a casual meet-and-greet for precinct 05-01 members and volunteers\, current or prospective\, and anyone else who wants to come! \nWe have new precinct officers for this cycle\, so come out and meet everyone!
URL:https://www.wakedems.org/wcdp-event/precinct-05-01-meetup/
LOCATION:Location will be provided to registered attendees
CATEGORIES:Precinct Meetings & Events,Social Event
ATTACH;FMTTYPE=image/jpeg:https://www.wakedems.org/wp-content/uploads/2023/08/PrecinctMeeting.jpg
ORGANIZER;CN="Precinct 05-01":MAILTO:precinct05-01@wakedems.org
END:VEVENT
END:VCALENDAR