BEGIN:VCALENDAR
VERSION:2.0
PRODID:-//Wake County Democratic Party - ECPv6.15.20//NONSGML v1.0//EN
CALSCALE:GREGORIAN
METHOD:PUBLISH
X-ORIGINAL-URL:https://www.wakedems.org
X-WR-CALDESC:Events for Wake County Democratic Party
REFRESH-INTERVAL;VALUE=DURATION:PT1H
X-Robots-Tag:noindex
X-PUBLISHED-TTL:PT1H
BEGIN:VTIMEZONE
TZID:America/New_York
BEGIN:DAYLIGHT
TZOFFSETFROM:-0500
TZOFFSETTO:-0400
TZNAME:EDT
DTSTART:20240310T070000
END:DAYLIGHT
BEGIN:STANDARD
TZOFFSETFROM:-0400
TZOFFSETTO:-0500
TZNAME:EST
DTSTART:20241103T060000
END:STANDARD
BEGIN:DAYLIGHT
TZOFFSETFROM:-0500
TZOFFSETTO:-0400
TZNAME:EDT
DTSTART:20250309T070000
END:DAYLIGHT
BEGIN:STANDARD
TZOFFSETFROM:-0400
TZOFFSETTO:-0500
TZNAME:EST
DTSTART:20251102T060000
END:STANDARD
BEGIN:DAYLIGHT
TZOFFSETFROM:-0500
TZOFFSETTO:-0400
TZNAME:EDT
DTSTART:20260308T070000
END:DAYLIGHT
BEGIN:STANDARD
TZOFFSETFROM:-0400
TZOFFSETTO:-0500
TZNAME:EST
DTSTART:20261101T060000
END:STANDARD
BEGIN:DAYLIGHT
TZOFFSETFROM:-0500
TZOFFSETTO:-0400
TZNAME:EDT
DTSTART:20270314T070000
END:DAYLIGHT
BEGIN:STANDARD
TZOFFSETFROM:-0400
TZOFFSETTO:-0500
TZNAME:EST
DTSTART:20271107T060000
END:STANDARD
END:VTIMEZONE
BEGIN:VEVENT
DTSTART;TZID=America/New_York:20260419T110000
DTEND;TZID=America/New_York:20260419T120000
DTSTAMP:20260421T201605
CREATED:20260209T032059Z
LAST-MODIFIED:20260209T032816Z
UID:10007617-1776596400-1776600000@www.wakedems.org
SUMMARY:Morrisville Coffee Chat
DESCRIPTION:Precinct 05-08 hosts a monthly coffee. Grab a coffee or pastry and hang out and chat. We are usually outside\, depending on weather. NO REGISTRATION REQUIRED. JUST DROP IN.
URL:https://www.wakedems.org/wcdp-event/morrisville-coffee-chat-4-2/2026-04-19/
LOCATION:La Farm – West Cary\, 5055 Arco St\,\, 5055 Arco St\, Cary\, 27519
CATEGORIES:Area Meetings & Events,Social Event
ATTACH;FMTTYPE=image/jpeg:https://www.wakedems.org/wp-content/uploads/2023/08/SocialEvent3.jpg
ORGANIZER;CN="Precinct 05-08":MAILTO:precinct05-08@wakedems.org
END:VEVENT
BEGIN:VEVENT
DTSTART;TZID=America/New_York:20260415T180000
DTEND;TZID=America/New_York:20260415T193000
DTSTAMP:20260421T201605
CREATED:20260403T003910Z
LAST-MODIFIED:20260403T003910Z
UID:10008393-1776276000-1776281400@www.wakedems.org
SUMMARY:Have a drink with a Dem night
DESCRIPTION:Precinct 05-08 is hosting this event for all Morrisville precincts. Have some beer or wine and hang out and chat. NO REGISTRATION REQUIRED. JUST DROP IN. https://hoppy-house.com/
URL:https://www.wakedems.org/wcdp-event/have-a-drink-with-a-dem-night/
LOCATION:10966 Chapel Hill Rd #148\,\, 10966 Chapel Hill Rd #148\,\, Morrisville\, NC\, 27560\, United States
CATEGORIES:Area Meetings & Events,Social Event
ATTACH;FMTTYPE=image/jpeg:https://www.wakedems.org/wp-content/uploads/2024/01/SocialEvent1.jpg
ORGANIZER;CN="Precinct 05-08":MAILTO:precinct05-08@wakedems.org
END:VEVENT
BEGIN:VEVENT
DTSTART;TZID=America/New_York:20260315T110000
DTEND;TZID=America/New_York:20260315T120000
DTSTAMP:20260421T201605
CREATED:20260209T032059Z
LAST-MODIFIED:20260209T032816Z
UID:10007616-1773572400-1773576000@www.wakedems.org
SUMMARY:Morrisville Coffee Chat
DESCRIPTION:Precinct 05-08 hosts a monthly coffee. Grab a coffee or pastry and hang out and chat. We are usually outside\, depending on weather. NO REGISTRATION REQUIRED. JUST DROP IN.
URL:https://www.wakedems.org/wcdp-event/morrisville-coffee-chat-4-2/2026-03-15/
LOCATION:La Farm – West Cary\, 5055 Arco St\,\, 5055 Arco St\, Cary\, 27519
CATEGORIES:Area Meetings & Events,Social Event
ATTACH;FMTTYPE=image/jpeg:https://www.wakedems.org/wp-content/uploads/2023/08/SocialEvent3.jpg
ORGANIZER;CN="Precinct 05-08":MAILTO:precinct05-08@wakedems.org
END:VEVENT
BEGIN:VEVENT
DTSTART;TZID=America/New_York:20260215T110000
DTEND;TZID=America/New_York:20260215T120000
DTSTAMP:20260421T201605
CREATED:20260209T032059Z
LAST-MODIFIED:20260209T032816Z
UID:10007615-1771153200-1771156800@www.wakedems.org
SUMMARY:Morrisville Coffee Chat
DESCRIPTION:Precinct 05-08 hosts a monthly coffee. Grab a coffee or pastry and hang out and chat. We are usually outside\, depending on weather. NO REGISTRATION REQUIRED. JUST DROP IN.
URL:https://www.wakedems.org/wcdp-event/morrisville-coffee-chat-4-2/2026-02-15/
LOCATION:La Farm – West Cary\, 5055 Arco St\,\, 5055 Arco St\, Cary\, 27519
CATEGORIES:Area Meetings & Events,Social Event
ATTACH;FMTTYPE=image/jpeg:https://www.wakedems.org/wp-content/uploads/2023/08/SocialEvent3.jpg
ORGANIZER;CN="Precinct 05-08":MAILTO:precinct05-08@wakedems.org
END:VEVENT
BEGIN:VEVENT
DTSTART;TZID=America/New_York:20260118T110000
DTEND;TZID=America/New_York:20260118T120000
DTSTAMP:20260421T201605
CREATED:20251217T223103Z
LAST-MODIFIED:20251227T203131Z
UID:10007614-1768734000-1768737600@www.wakedems.org
SUMMARY:Morrisville Coffee Chat
DESCRIPTION:Precinct 05-08 hosts a monthly coffee.  Grab a coffee or pastry and hang out and chat. We are usually outside\, depending on weather. NO REGISTRATION REQUIRED. JUST DROP IN.
URL:https://www.wakedems.org/wcdp-event/morrisville-coffee-chat-4/
LOCATION:Location will be provided to registered attendees
CATEGORIES:Area Meetings & Events,Social Event
ATTACH;FMTTYPE=image/jpeg:https://www.wakedems.org/wp-content/uploads/2023/08/SocialEvent3.jpg
ORGANIZER;CN="Precinct 05-08":MAILTO:precinct05-08@wakedems.org
END:VEVENT
BEGIN:VEVENT
DTSTART;TZID=America/New_York:20251207T110000
DTEND;TZID=America/New_York:20251207T120000
DTSTAMP:20260421T201605
CREATED:20251112T112936Z
LAST-MODIFIED:20251112T112936Z
UID:10007590-1765105200-1765108800@www.wakedems.org
SUMMARY:Morrisville Coffee Chat
DESCRIPTION:Grab a coffee or pastry and hang out and chat. Precinct 05-08 hosts a monthly coffee at La Farm in Whole Foods (on 55).
URL:https://www.wakedems.org/wcdp-event/morrisville-coffee-chat-3/
LOCATION:La Farm – West Cary\, 5055 Arco St\,\, 5055 Arco St\, Cary\, 27519
CATEGORIES:Area Meetings & Events
ATTACH;FMTTYPE=image/jpeg:https://www.wakedems.org/wp-content/uploads/2023/08/SocialEvent3.jpg
ORGANIZER;CN="Precinct 05-08":MAILTO:precinct05-08@wakedems.org
END:VEVENT
BEGIN:VEVENT
DTSTART;TZID=America/New_York:20251123T110000
DTEND;TZID=America/New_York:20251123T120000
DTSTAMP:20260421T201605
CREATED:20251112T112800Z
LAST-MODIFIED:20251112T112800Z
UID:10007589-1763895600-1763899200@www.wakedems.org
SUMMARY:Morrisville Coffee Chat
DESCRIPTION:Grab a coffee or pastry and hang out and chat. Precinct 05-08 hosts a monthly coffee at La Farm in Whole Foods (on 55). We are usually outside\, depending on weather.
URL:https://www.wakedems.org/wcdp-event/morrisville-coffee-chat-2/
LOCATION:La Farm – West Cary\, 5055 Arco St\,\, 5055 Arco St\, Cary\, 27519
CATEGORIES:Area Meetings & Events
ATTACH;FMTTYPE=image/jpeg:https://www.wakedems.org/wp-content/uploads/2023/08/SocialEvent3.jpg
ORGANIZER;CN="Precinct 05-08":MAILTO:precinct05-08@wakedems.org
END:VEVENT
BEGIN:VEVENT
DTSTART;TZID=America/New_York:20251019T110000
DTEND;TZID=America/New_York:20251019T120000
DTSTAMP:20260421T201605
CREATED:20250528T015946Z
LAST-MODIFIED:20250815T163417Z
UID:10006590-1760871600-1760875200@www.wakedems.org
SUMMARY:Morrisville Coffee Chat
DESCRIPTION:3rd Sunday of the month at 11 AM. Grab a coffee or pastry and hang out and chat. Precinct 05-08 hosts a monthly coffee at La Farm in Whole Foods (on 55). We are usually outside\, depending on weather.
URL:https://www.wakedems.org/wcdp-event/morrisville-coffee-chat/2025-10-19/
LOCATION:La Farm – West Cary\, 5055 Arco St\,\, 5055 Arco St\, Cary\, 27519
CATEGORIES:Social Event
ATTACH;FMTTYPE=image/jpeg:https://www.wakedems.org/wp-content/uploads/2023/08/SocialEvent3.jpg
ORGANIZER;CN="Precinct 05-08":MAILTO:precinct05-08@wakedems.org
END:VEVENT
BEGIN:VEVENT
DTSTART;TZID=America/New_York:20250921T110000
DTEND;TZID=America/New_York:20250921T120000
DTSTAMP:20260421T201605
CREATED:20250528T015946Z
LAST-MODIFIED:20250815T163417Z
UID:10006589-1758452400-1758456000@www.wakedems.org
SUMMARY:Morrisville Coffee Chat
DESCRIPTION:3rd Sunday of the month at 11 AM. Grab a coffee or pastry and hang out and chat. Precinct 05-08 hosts a monthly coffee at La Farm in Whole Foods (on 55). We are usually outside\, depending on weather.
URL:https://www.wakedems.org/wcdp-event/morrisville-coffee-chat/2025-09-21/
LOCATION:La Farm – West Cary\, 5055 Arco St\,\, 5055 Arco St\, Cary\, 27519
CATEGORIES:Social Event
ATTACH;FMTTYPE=image/jpeg:https://www.wakedems.org/wp-content/uploads/2023/08/SocialEvent3.jpg
ORGANIZER;CN="Precinct 05-08":MAILTO:precinct05-08@wakedems.org
END:VEVENT
BEGIN:VEVENT
DTSTART;TZID=America/New_York:20250817T110000
DTEND;TZID=America/New_York:20250817T120000
DTSTAMP:20260421T201605
CREATED:20250528T015946Z
LAST-MODIFIED:20250815T163417Z
UID:10006588-1755428400-1755432000@www.wakedems.org
SUMMARY:Morrisville Coffee Chat
DESCRIPTION:3rd Sunday of the month at 11 AM. Grab a coffee or pastry and hang out and chat. Precinct 05-08 hosts a monthly coffee at La Farm in Whole Foods (on 55). We are usually outside\, depending on weather.
URL:https://www.wakedems.org/wcdp-event/morrisville-coffee-chat/2025-08-17/
LOCATION:La Farm – West Cary\, 5055 Arco St\,\, 5055 Arco St\, Cary\, 27519
CATEGORIES:Social Event
ATTACH;FMTTYPE=image/jpeg:https://www.wakedems.org/wp-content/uploads/2023/08/SocialEvent3.jpg
ORGANIZER;CN="Precinct 05-08":MAILTO:precinct05-08@wakedems.org
END:VEVENT
BEGIN:VEVENT
DTSTART;TZID=America/New_York:20250720T110000
DTEND;TZID=America/New_York:20250720T120000
DTSTAMP:20260421T201605
CREATED:20250528T015946Z
LAST-MODIFIED:20250815T163417Z
UID:10006587-1753009200-1753012800@www.wakedems.org
SUMMARY:Morrisville Coffee Chat
DESCRIPTION:3rd Sunday of the month at 11 AM. Grab a coffee or pastry and hang out and chat. Precinct 05-08 hosts a monthly coffee at La Farm in Whole Foods (on 55). We are usually outside\, depending on weather.
URL:https://www.wakedems.org/wcdp-event/morrisville-coffee-chat/2025-07-20/
LOCATION:La Farm – West Cary\, 5055 Arco St\,\, 5055 Arco St\, Cary\, 27519
CATEGORIES:Social Event
ATTACH;FMTTYPE=image/jpeg:https://www.wakedems.org/wp-content/uploads/2023/08/SocialEvent3.jpg
ORGANIZER;CN="Precinct 05-08":MAILTO:precinct05-08@wakedems.org
END:VEVENT
BEGIN:VEVENT
DTSTART;TZID=America/New_York:20250615T110000
DTEND;TZID=America/New_York:20250615T120000
DTSTAMP:20260421T201605
CREATED:20250528T015946Z
LAST-MODIFIED:20250815T163417Z
UID:10006586-1749985200-1749988800@www.wakedems.org
SUMMARY:Morrisville Coffee Chat
DESCRIPTION:3rd Sunday of the month at 11 AM. Grab a coffee or pastry and hang out and chat. Precinct 05-08 hosts a monthly coffee at La Farm in Whole Foods (on 55). We are usually outside\, depending on weather.
URL:https://www.wakedems.org/wcdp-event/morrisville-coffee-chat/2025-06-15/
LOCATION:La Farm – West Cary\, 5055 Arco St\,\, 5055 Arco St\, Cary\, 27519
CATEGORIES:Social Event
ATTACH;FMTTYPE=image/jpeg:https://www.wakedems.org/wp-content/uploads/2023/08/SocialEvent3.jpg
ORGANIZER;CN="Precinct 05-08":MAILTO:precinct05-08@wakedems.org
END:VEVENT
END:VCALENDAR