BEGIN:VCALENDAR
VERSION:2.0
PRODID:-//Wake County Democratic Party - ECPv6.15.20//NONSGML v1.0//EN
CALSCALE:GREGORIAN
METHOD:PUBLISH
X-WR-CALNAME:Wake County Democratic Party
X-ORIGINAL-URL:https://www.wakedems.org
X-WR-CALDESC:Events for Wake County Democratic Party
REFRESH-INTERVAL;VALUE=DURATION:PT1H
X-Robots-Tag:noindex
X-PUBLISHED-TTL:PT1H
BEGIN:VTIMEZONE
TZID:America/New_York
BEGIN:DAYLIGHT
TZOFFSETFROM:-0500
TZOFFSETTO:-0400
TZNAME:EDT
DTSTART:20220313T070000
END:DAYLIGHT
BEGIN:STANDARD
TZOFFSETFROM:-0400
TZOFFSETTO:-0500
TZNAME:EST
DTSTART:20221106T060000
END:STANDARD
BEGIN:DAYLIGHT
TZOFFSETFROM:-0500
TZOFFSETTO:-0400
TZNAME:EDT
DTSTART:20230312T070000
END:DAYLIGHT
BEGIN:STANDARD
TZOFFSETFROM:-0400
TZOFFSETTO:-0500
TZNAME:EST
DTSTART:20231105T060000
END:STANDARD
BEGIN:DAYLIGHT
TZOFFSETFROM:-0500
TZOFFSETTO:-0400
TZNAME:EDT
DTSTART:20240310T070000
END:DAYLIGHT
BEGIN:STANDARD
TZOFFSETFROM:-0400
TZOFFSETTO:-0500
TZNAME:EST
DTSTART:20241103T060000
END:STANDARD
END:VTIMEZONE
BEGIN:VEVENT
DTSTART;TZID=America/New_York:20230930T100000
DTEND;TZID=America/New_York:20230930T140000
DTSTAMP:20260421T043427
CREATED:20230916T120936Z
LAST-MODIFIED:20230922T143015Z
UID:10001615-1696068000-1696082400@www.wakedems.org
SUMMARY:06-12 Canvassing for HS Municipal
DESCRIPTION:Join us to canvass for the upcoming Holly Springs Municipal Election. Location to be shared once you register. \nCanvassing training will be provided by WCDP 2nd Vice Chair Jon McLamb on location from 10:00-10:30am.
URL:https://www.wakedems.org/wcdp-event/06-12-canvassing-for-hs-municipal/
LOCATION:Reed Residence\, 208 Morning Oaks\, Holly Springs\, 27540
CATEGORIES:Canvass
ATTACH;FMTTYPE=image/jpeg:https://www.wakedems.org/wp-content/uploads/2023/08/Canvass1.jpg
END:VEVENT
BEGIN:VEVENT
DTSTART;TZID=America/New_York:20230930T100000
DTEND;TZID=America/New_York:20230930T140000
DTSTAMP:20260421T043427
CREATED:20230916T120936Z
LAST-MODIFIED:20230916T120936Z
UID:10002813-1696068000-1696082400@www.wakedems.org
SUMMARY:06-12 Canvassing for HS Municipal
DESCRIPTION:Join us to canvass for the upcoming Holly Springs Municipal Election. Location to be shared once you register. \nCanvassing training will be provided by WCDP 2nd Vice Chair Jon McLamb on location from 10:00-10:30am.
URL:https://www.wakedems.org/wcdp-event/06-12-canvassing-for-hs-municipal-2/
LOCATION:Reed Residence\, 208 Morning Oaks\, Holly Springs\, 27540
CATEGORIES:Canvass
ATTACH;FMTTYPE=image/jpeg:https://www.wakedems.org/wp-content/uploads/2023/08/Canvass1.jpg
END:VEVENT
END:VCALENDAR