BEGIN:VCALENDAR
VERSION:2.0
PRODID:-//Wake County Democratic Party - ECPv6.15.20//NONSGML v1.0//EN
CALSCALE:GREGORIAN
METHOD:PUBLISH
X-ORIGINAL-URL:https://www.wakedems.org
X-WR-CALDESC:Events for Wake County Democratic Party
REFRESH-INTERVAL;VALUE=DURATION:PT1H
X-Robots-Tag:noindex
X-PUBLISHED-TTL:PT1H
BEGIN:VTIMEZONE
TZID:America/New_York
BEGIN:DAYLIGHT
TZOFFSETFROM:-0500
TZOFFSETTO:-0400
TZNAME:EDT
DTSTART:20230312T070000
END:DAYLIGHT
BEGIN:STANDARD
TZOFFSETFROM:-0400
TZOFFSETTO:-0500
TZNAME:EST
DTSTART:20231105T060000
END:STANDARD
BEGIN:DAYLIGHT
TZOFFSETFROM:-0500
TZOFFSETTO:-0400
TZNAME:EDT
DTSTART:20240310T070000
END:DAYLIGHT
BEGIN:STANDARD
TZOFFSETFROM:-0400
TZOFFSETTO:-0500
TZNAME:EST
DTSTART:20241103T060000
END:STANDARD
BEGIN:DAYLIGHT
TZOFFSETFROM:-0500
TZOFFSETTO:-0400
TZNAME:EDT
DTSTART:20250309T070000
END:DAYLIGHT
BEGIN:STANDARD
TZOFFSETFROM:-0400
TZOFFSETTO:-0500
TZNAME:EST
DTSTART:20251102T060000
END:STANDARD
BEGIN:DAYLIGHT
TZOFFSETFROM:-0500
TZOFFSETTO:-0400
TZNAME:EDT
DTSTART:20260308T070000
END:DAYLIGHT
BEGIN:STANDARD
TZOFFSETFROM:-0400
TZOFFSETTO:-0500
TZNAME:EST
DTSTART:20261101T060000
END:STANDARD
END:VTIMEZONE
BEGIN:VEVENT
DTSTART;TZID=America/New_York:20250925T183000
DTEND;TZID=America/New_York:20250925T200000
DTSTAMP:20260421T043522
CREATED:20250913T141038Z
LAST-MODIFIED:20250922T005322Z
UID:10007056-1758825000-1758830400@www.wakedems.org
SUMMARY:CANCELLED - Precinct 07-10 Organizing meeting
DESCRIPTION:**** THIS EVENT HAS BEEN CANCELLED BY THE ORGANIZER **** \nThe precinct is coming together to bring volunteers up-to-date and make plans for moving forward. This is a virtual meeting and a link to the meeting will be sent a couple days prior to the meeting.
URL:https://www.wakedems.org/wcdp-event/precinct-07-10-organizing-meeting/
LOCATION:online virtual meeting
CATEGORIES:Precinct Meetings & Events,Volunteer Events
ATTACH;FMTTYPE=image/jpeg:https://www.wakedems.org/wp-content/uploads/2023/08/PrecinctMeeting.jpg
ORGANIZER;CN="Precinct 07-10":MAILTO:precinct07-10@wakedems.org
END:VEVENT
BEGIN:VEVENT
DTSTART;TZID=America/New_York:20250802T093000
DTEND;TZID=America/New_York:20250802T120000
DTSTAMP:20260421T043522
CREATED:20250709T200142Z
LAST-MODIFIED:20250710T040633Z
UID:10006775-1754127000-1754136000@www.wakedems.org
SUMMARY:Precinct 07-10 Canvassing Event
DESCRIPTION:Low-key canvassing in Precinct 07-10 with the purpose of sharing news about upcoming events and inviting neighbors to join the fight.  In person training begins at 9:30. From 10 – noon we’ll canvass.  Tag-alongs-to learn are welcome!  (Meeting location will be shared the day before on 8/1)
URL:https://www.wakedems.org/wcdp-event/precinct-07-10-canvassing-event-2/
LOCATION:Location will be emailed a few days prior to the event
CATEGORIES:Canvass
ATTACH;FMTTYPE=image/jpeg:https://www.wakedems.org/wp-content/uploads/2023/08/Canvass3.jpg
ORGANIZER;CN="Precinct 07-10":MAILTO:precinct07-10@wakedems.org
END:VEVENT
BEGIN:VEVENT
DTSTART;TZID=America/New_York:20250510T090000
DTEND;TZID=America/New_York:20250510T120000
DTSTAMP:20260421T043522
CREATED:20250430T021923Z
LAST-MODIFIED:20250430T021923Z
UID:10006374-1746867600-1746878400@www.wakedems.org
SUMMARY:Precinct 07-10 Canvassing Training Event
DESCRIPTION:Dip your toe into the world of canvassing! We’re knocking on doors to invite neighbors to an upcoming meet & greet/summer social\, and we’re training and mentoring on MiniVan. Please join us in bringing together likeminded voters in our community. If you’re seasoned\, be a mentor. And if you’re new\, we’re here to get you started in your own neighborhood.
URL:https://www.wakedems.org/wcdp-event/precinct-07-10-canvassing-training-event/
CATEGORIES:Canvass,Training Event
ATTACH;FMTTYPE=image/jpeg:https://www.wakedems.org/wp-content/uploads/2023/08/TrainingEvent3.jpg
ORGANIZER;CN="Precinct 07-10":MAILTO:precinct07-10@wakedems.org
END:VEVENT
BEGIN:VEVENT
DTSTART;TZID=America/New_York:20240615T110000
DTEND;TZID=America/New_York:20240615T150000
DTSTAMP:20260421T043522
CREATED:20240607T150639Z
LAST-MODIFIED:20240607T150639Z
UID:10004249-1718449200-1718463600@www.wakedems.org
SUMMARY:Precinct 07-10 Canvassing Event
DESCRIPTION:Knocking on doors in our precinct to GOTO
URL:https://www.wakedems.org/wcdp-event/precinct-07-10-canvassing-event/
LOCATION:7600 Astoria Place\, Raleigh\, 27612
CATEGORIES:Canvass
ATTACH;FMTTYPE=image/jpeg:https://www.wakedems.org/wp-content/uploads/2023/08/Canvass3.jpg
ORGANIZER;CN="Precinct 07-10":MAILTO:precinct07-10@wakedems.org
END:VEVENT
END:VCALENDAR