BEGIN:VCALENDAR
VERSION:2.0
PRODID:-//Wake County Democratic Party - ECPv6.15.20//NONSGML v1.0//EN
CALSCALE:GREGORIAN
METHOD:PUBLISH
X-ORIGINAL-URL:https://www.wakedems.org
X-WR-CALDESC:Events for Wake County Democratic Party
REFRESH-INTERVAL;VALUE=DURATION:PT1H
X-Robots-Tag:noindex
X-PUBLISHED-TTL:PT1H
BEGIN:VTIMEZONE
TZID:America/New_York
BEGIN:DAYLIGHT
TZOFFSETFROM:-0500
TZOFFSETTO:-0400
TZNAME:EDT
DTSTART:20240310T070000
END:DAYLIGHT
BEGIN:STANDARD
TZOFFSETFROM:-0400
TZOFFSETTO:-0500
TZNAME:EST
DTSTART:20241103T060000
END:STANDARD
BEGIN:DAYLIGHT
TZOFFSETFROM:-0500
TZOFFSETTO:-0400
TZNAME:EDT
DTSTART:20250309T070000
END:DAYLIGHT
BEGIN:STANDARD
TZOFFSETFROM:-0400
TZOFFSETTO:-0500
TZNAME:EST
DTSTART:20251102T060000
END:STANDARD
BEGIN:DAYLIGHT
TZOFFSETFROM:-0500
TZOFFSETTO:-0400
TZNAME:EDT
DTSTART:20260308T070000
END:DAYLIGHT
BEGIN:STANDARD
TZOFFSETFROM:-0400
TZOFFSETTO:-0500
TZNAME:EST
DTSTART:20261101T060000
END:STANDARD
END:VTIMEZONE
BEGIN:VEVENT
DTSTART;TZID=America/New_York:20251018T090000
DTEND;TZID=America/New_York:20251018T110000
DTSTAMP:20260421T201626
CREATED:20250926T095920Z
LAST-MODIFIED:20250926T095920Z
UID:10007392-1760778000-1760785200@www.wakedems.org
SUMMARY:08-04/08-05 Lake Lynn Cleanup
DESCRIPTION:Precincts 08-05 and 08-4 are hosting a clean-up of the Lake Lynn Hare Snipe Creek trail! We will meet at Lake Lynn Community Center. \nIf you are interested\, please email precinct08-05@wakedems.org to receive a link to the registration form through Raleigh Parks.
URL:https://www.wakedems.org/wcdp-event/08-04-08-05-lake-lynn-cleanup/
LOCATION:Lake Lynn Community Center\, 7921 Ray Rd\, Raleigh\, 27613
CATEGORIES:Volunteer Events
ATTACH;FMTTYPE=image/png:https://www.wakedems.org/wp-content/uploads/2024/06/Community-Event.png
ORGANIZER;CN="Precinct 08-05":MAILTO:precinct08-05@wakedems.org
END:VEVENT
END:VCALENDAR