BEGIN:VCALENDAR
VERSION:2.0
PRODID:-//Wake County Democratic Party - ECPv6.15.20//NONSGML v1.0//EN
CALSCALE:GREGORIAN
METHOD:PUBLISH
X-WR-CALNAME:Wake County Democratic Party
X-ORIGINAL-URL:https://www.wakedems.org
X-WR-CALDESC:Events for Wake County Democratic Party
REFRESH-INTERVAL;VALUE=DURATION:PT1H
X-Robots-Tag:noindex
X-PUBLISHED-TTL:PT1H
BEGIN:VTIMEZONE
TZID:America/New_York
BEGIN:DAYLIGHT
TZOFFSETFROM:-0500
TZOFFSETTO:-0400
TZNAME:EDT
DTSTART:20240310T070000
END:DAYLIGHT
BEGIN:STANDARD
TZOFFSETFROM:-0400
TZOFFSETTO:-0500
TZNAME:EST
DTSTART:20241103T060000
END:STANDARD
BEGIN:DAYLIGHT
TZOFFSETFROM:-0500
TZOFFSETTO:-0400
TZNAME:EDT
DTSTART:20250309T070000
END:DAYLIGHT
BEGIN:STANDARD
TZOFFSETFROM:-0400
TZOFFSETTO:-0500
TZNAME:EST
DTSTART:20251102T060000
END:STANDARD
BEGIN:DAYLIGHT
TZOFFSETFROM:-0500
TZOFFSETTO:-0400
TZNAME:EDT
DTSTART:20260308T070000
END:DAYLIGHT
BEGIN:STANDARD
TZOFFSETFROM:-0400
TZOFFSETTO:-0500
TZNAME:EST
DTSTART:20261101T060000
END:STANDARD
BEGIN:DAYLIGHT
TZOFFSETFROM:-0500
TZOFFSETTO:-0400
TZNAME:EDT
DTSTART:20270314T070000
END:DAYLIGHT
BEGIN:STANDARD
TZOFFSETFROM:-0400
TZOFFSETTO:-0500
TZNAME:EST
DTSTART:20271107T060000
END:STANDARD
END:VTIMEZONE
BEGIN:VEVENT
DTSTART;TZID=America/New_York:20260419T190000
DTEND;TZID=America/New_York:20260419T200000
DTSTAMP:20260421T182925
CREATED:20260317T195847Z
LAST-MODIFIED:20260317T195847Z
UID:10008078-1776625200-1776628800@www.wakedems.org
SUMMARY:Precinct 11-02 PAM Reorganization
DESCRIPTION:Precinct annual meeting to reorganize Precinct 11-02.
URL:https://www.wakedems.org/wcdp-event/precinct-11-02-pam-reorganization/
LOCATION:Zoom
CATEGORIES:Precinct Meetings & Events
ATTACH;FMTTYPE=image/jpeg:https://www.wakedems.org/wp-content/uploads/2023/08/PrecinctMeeting.jpg
ORGANIZER;CN="Precinct 11-02":MAILTO:Precinct11-02@WakeDems.org
END:VEVENT
BEGIN:VEVENT
DTSTART;TZID=America/New_York:20250913T120000
DTEND;TZID=America/New_York:20250913T140000
DTSTAMP:20260421T182925
CREATED:20250817T163136Z
LAST-MODIFIED:20250910T131210Z
UID:10006992-1757764800-1757772000@www.wakedems.org
SUMMARY:[CANCELED] Postcard Writing with Precinct 11-02
DESCRIPTION:Join Precinct 11-02 for a postcard writing social. Help write postcards welcoming new voters to the precinct or feel free to stop by\, ask questions or just commiserate with like-minded fellow Democrats! Location to be shared closer to event date.
URL:https://www.wakedems.org/wcdp-event/postcard-writing-with-precinct-11-02/
LOCATION:Location will be emailed a few days in advance of event\, to those who have registered.
CATEGORIES:Postcard Writing
ATTACH;FMTTYPE=image/jpeg:https://www.wakedems.org/wp-content/uploads/2023/08/PostcardWriting3.jpg
ORGANIZER;CN="Precinct 11-02":MAILTO:Precinct11-02@WakeDems.org
END:VEVENT
BEGIN:VEVENT
DTSTART;TZID=America/New_York:20250820T180000
DTEND;TZID=America/New_York:20250820T200000
DTSTAMP:20260421T182925
CREATED:20250802T022035Z
LAST-MODIFIED:20250815T165758Z
UID:10006945-1755712800-1755720000@www.wakedems.org
SUMMARY:Precinct 11-02 | Meet\, greet\, and get involved!
DESCRIPTION:Umstead Raleigh’s precinct 11-02 is newly organized and would like to connect volunteers with opportunities to support Democrats! \nStop by and say hello to the new team of officers and learn more about WakeDems – all are welcome. \nNote that hors d’oeuvres will be served. Don’t miss out on this chance to get involved!
URL:https://www.wakedems.org/wcdp-event/precinct-11-02-meet-greet-and-get-involved/
LOCATION:NoRa Cafe\, 12333 Strickland Rd\, Raleigh\, NC
CATEGORIES:Precinct Meetings & Events,Social Event
ATTACH;FMTTYPE=image/png:https://www.wakedems.org/wp-content/uploads/2024/06/Community-Event.png
ORGANIZER;CN="Precinct 11-02":MAILTO:Precinct11-02@WakeDems.org
END:VEVENT
END:VCALENDAR