BEGIN:VCALENDAR
VERSION:2.0
PRODID:-//Wake County Democratic Party - ECPv6.15.20//NONSGML v1.0//EN
CALSCALE:GREGORIAN
METHOD:PUBLISH
X-ORIGINAL-URL:https://www.wakedems.org
X-WR-CALDESC:Events for Wake County Democratic Party
REFRESH-INTERVAL;VALUE=DURATION:PT1H
X-Robots-Tag:noindex
X-PUBLISHED-TTL:PT1H
BEGIN:VTIMEZONE
TZID:America/New_York
BEGIN:DAYLIGHT
TZOFFSETFROM:-0500
TZOFFSETTO:-0400
TZNAME:EDT
DTSTART:20250309T070000
END:DAYLIGHT
BEGIN:STANDARD
TZOFFSETFROM:-0400
TZOFFSETTO:-0500
TZNAME:EST
DTSTART:20251102T060000
END:STANDARD
BEGIN:DAYLIGHT
TZOFFSETFROM:-0500
TZOFFSETTO:-0400
TZNAME:EDT
DTSTART:20260308T070000
END:DAYLIGHT
BEGIN:STANDARD
TZOFFSETFROM:-0400
TZOFFSETTO:-0500
TZNAME:EST
DTSTART:20261101T060000
END:STANDARD
BEGIN:DAYLIGHT
TZOFFSETFROM:-0500
TZOFFSETTO:-0400
TZNAME:EDT
DTSTART:20270314T070000
END:DAYLIGHT
BEGIN:STANDARD
TZOFFSETFROM:-0400
TZOFFSETTO:-0500
TZNAME:EST
DTSTART:20271107T060000
END:STANDARD
END:VTIMEZONE
BEGIN:VEVENT
DTSTART;TZID=America/New_York:20260327T173000
DTEND;TZID=America/New_York:20260327T193000
DTSTAMP:20260424T084141
CREATED:20260308T184826Z
LAST-MODIFIED:20260308T184826Z
UID:10008062-1774632600-1774639800@www.wakedems.org
SUMMARY:Precinct 13-11 Community Social
DESCRIPTION:13-11 neighbors – please join us for a precinct social / happy hour and a chance to get to know your like-minded immediate neighbors!  At the home of our vice-chair\, we will send out the address once we get your RSVP.  Drop in anytime between 5:30 and 7pm.  BYOB.  Let’s get ready for the upcoming year – we have the momentum to take this country back!  Let’s do it! \nPlease bring a friend\, if you can.  We are doing some really great things in the party – let’s share that!
URL:https://www.wakedems.org/wcdp-event/precinct-13-11-community-social/
LOCATION:Location will be provided to registered attendees
CATEGORIES:Precinct Meetings & Events,Social Event
ATTACH;FMTTYPE=image/jpeg:https://www.wakedems.org/wp-content/uploads/2023/08/SocialEvent3.jpg
ORGANIZER;CN="Precinct 13-11":MAILTO:precinct13-11@wakedems.org
END:VEVENT
END:VCALENDAR