BEGIN:VCALENDAR
VERSION:2.0
PRODID:-//Wake County Democratic Party - ECPv6.15.20//NONSGML v1.0//EN
CALSCALE:GREGORIAN
METHOD:PUBLISH
X-WR-CALNAME:Wake County Democratic Party
X-ORIGINAL-URL:https://www.wakedems.org
X-WR-CALDESC:Events for Wake County Democratic Party
REFRESH-INTERVAL;VALUE=DURATION:PT1H
X-Robots-Tag:noindex
X-PUBLISHED-TTL:PT1H
BEGIN:VTIMEZONE
TZID:America/New_York
BEGIN:DAYLIGHT
TZOFFSETFROM:-0500
TZOFFSETTO:-0400
TZNAME:EDT
DTSTART:20230312T070000
END:DAYLIGHT
BEGIN:STANDARD
TZOFFSETFROM:-0400
TZOFFSETTO:-0500
TZNAME:EST
DTSTART:20231105T060000
END:STANDARD
BEGIN:DAYLIGHT
TZOFFSETFROM:-0500
TZOFFSETTO:-0400
TZNAME:EDT
DTSTART:20240310T070000
END:DAYLIGHT
BEGIN:STANDARD
TZOFFSETFROM:-0400
TZOFFSETTO:-0500
TZNAME:EST
DTSTART:20241103T060000
END:STANDARD
BEGIN:DAYLIGHT
TZOFFSETFROM:-0500
TZOFFSETTO:-0400
TZNAME:EDT
DTSTART:20250309T070000
END:DAYLIGHT
BEGIN:STANDARD
TZOFFSETFROM:-0400
TZOFFSETTO:-0500
TZNAME:EST
DTSTART:20251102T060000
END:STANDARD
END:VTIMEZONE
BEGIN:VEVENT
DTSTART;TZID=America/New_York:20240502T183000
DTEND;TZID=America/New_York:20240502T200000
DTSTAMP:20260421T043510
CREATED:20240424T143348Z
LAST-MODIFIED:20240424T143348Z
UID:10003385-1714674600-1714680000@www.wakedems.org
SUMMARY:Precinct 15-03 May Meeting
DESCRIPTION:Please join constituents of 15-03 to review the effect of redistricting on our precinct\, the candidates on our November 2024 ballot\, the current number of voters in our precinct\, the WCDP outreach strategy and how we can recruit precinct volunteers and Get Out the Vote (GOTV). We also hope to have news about the opening of Beech Bluff Park which just happens to be in 15-03.
URL:https://www.wakedems.org/wcdp-event/precinct-15-03-may-meeting/
CATEGORIES:Precinct Meetings & Events
ATTACH;FMTTYPE=image/jpeg:https://www.wakedems.org/wp-content/uploads/2023/08/PrecinctMeeting.jpg
ORGANIZER;CN="Precinct 15-03":MAILTO:ncwakecoprecinct1503@googlegroups.com
END:VEVENT
END:VCALENDAR