BEGIN:VCALENDAR
VERSION:2.0
PRODID:-//Wake County Democratic Party - ECPv6.15.20//NONSGML v1.0//EN
CALSCALE:GREGORIAN
METHOD:PUBLISH
X-ORIGINAL-URL:https://www.wakedems.org
X-WR-CALDESC:Events for Wake County Democratic Party
REFRESH-INTERVAL;VALUE=DURATION:PT1H
X-Robots-Tag:noindex
X-PUBLISHED-TTL:PT1H
BEGIN:VTIMEZONE
TZID:America/New_York
BEGIN:DAYLIGHT
TZOFFSETFROM:-0500
TZOFFSETTO:-0400
TZNAME:EDT
DTSTART:20240310T070000
END:DAYLIGHT
BEGIN:STANDARD
TZOFFSETFROM:-0400
TZOFFSETTO:-0500
TZNAME:EST
DTSTART:20241103T060000
END:STANDARD
BEGIN:DAYLIGHT
TZOFFSETFROM:-0500
TZOFFSETTO:-0400
TZNAME:EDT
DTSTART:20250309T070000
END:DAYLIGHT
BEGIN:STANDARD
TZOFFSETFROM:-0400
TZOFFSETTO:-0500
TZNAME:EST
DTSTART:20251102T060000
END:STANDARD
BEGIN:DAYLIGHT
TZOFFSETFROM:-0500
TZOFFSETTO:-0400
TZNAME:EDT
DTSTART:20260308T070000
END:DAYLIGHT
BEGIN:STANDARD
TZOFFSETFROM:-0400
TZOFFSETTO:-0500
TZNAME:EST
DTSTART:20261101T060000
END:STANDARD
END:VTIMEZONE
BEGIN:VEVENT
DTSTART;TZID=America/New_York:20251217T190000
DTEND;TZID=America/New_York:20251217T210000
DTSTAMP:20260421T221703
CREATED:20251211T002358Z
LAST-MODIFIED:20251211T002358Z
UID:10007610-1765998000-1766005200@www.wakedems.org
SUMMARY:Precinct 20-11 Organizational Meeting
DESCRIPTION:Precinct 20-11 Organizational Meeting
URL:https://www.wakedems.org/wcdp-event/precinct-20-11-organizational-meeting/
LOCATION:Zoom
CATEGORIES:Official Precinct Meeting
ATTACH;FMTTYPE=image/jpeg:https://www.wakedems.org/wp-content/uploads/2023/08/PrecinctMeeting.jpg
ORGANIZER;CN="Precinct 20-11":MAILTO:precinct20-11@wakedems.org
END:VEVENT
BEGIN:VEVENT
DTSTART;TZID=America/New_York:20250918T180000
DTEND;TZID=America/New_York:20250918T200000
DTSTAMP:20260421T221703
CREATED:20250831T193135Z
LAST-MODIFIED:20250831T193135Z
UID:10007026-1758218400-1758225600@www.wakedems.org
SUMMARY:Apex Postcard-a-Palooza
DESCRIPTION:Want to help turn out the vote while enjoying some great conversation? Join Apex Democrats\, hosted by Precinct 20-11\, for Postcard-a-Palooza\, where we’ll write postcards to our neighbors telling them why it’s so important to vote Blue this November. We’ll bring the postcards\, labels\, and pens\, you bring your enthusiasm!
URL:https://www.wakedems.org/wcdp-event/apex-postcard-a-palooza/
LOCATION:Location will be provided to registered attendees
CATEGORIES:Postcard Writing
ATTACH;FMTTYPE=image/jpeg:https://www.wakedems.org/wp-content/uploads/2023/08/PostcardWriting1.jpg
ORGANIZER;CN="Precinct 20-11":MAILTO:precinct20-11@wakedems.org
END:VEVENT
END:VCALENDAR