BEGIN:VCALENDAR
VERSION:2.0
PRODID:-//Wake County Democratic Party - ECPv6.15.20//NONSGML v1.0//EN
CALSCALE:GREGORIAN
METHOD:PUBLISH
X-WR-CALNAME:Wake County Democratic Party
X-ORIGINAL-URL:https://www.wakedems.org
X-WR-CALDESC:Events for Wake County Democratic Party
REFRESH-INTERVAL;VALUE=DURATION:PT1H
X-Robots-Tag:noindex
X-PUBLISHED-TTL:PT1H
BEGIN:VTIMEZONE
TZID:America/New_York
BEGIN:DAYLIGHT
TZOFFSETFROM:-0500
TZOFFSETTO:-0400
TZNAME:EDT
DTSTART:20250309T070000
END:DAYLIGHT
BEGIN:STANDARD
TZOFFSETFROM:-0400
TZOFFSETTO:-0500
TZNAME:EST
DTSTART:20251102T060000
END:STANDARD
BEGIN:DAYLIGHT
TZOFFSETFROM:-0500
TZOFFSETTO:-0400
TZNAME:EDT
DTSTART:20260308T070000
END:DAYLIGHT
BEGIN:STANDARD
TZOFFSETFROM:-0400
TZOFFSETTO:-0500
TZNAME:EST
DTSTART:20261101T060000
END:STANDARD
BEGIN:DAYLIGHT
TZOFFSETFROM:-0500
TZOFFSETTO:-0400
TZNAME:EDT
DTSTART:20270314T070000
END:DAYLIGHT
BEGIN:STANDARD
TZOFFSETFROM:-0400
TZOFFSETTO:-0500
TZNAME:EST
DTSTART:20271107T060000
END:STANDARD
END:VTIMEZONE
BEGIN:VEVENT
DTSTART;TZID=America/New_York:20260318T183000
DTEND;TZID=America/New_York:20260318T200000
DTSTAMP:20260421T183154
CREATED:20260311T002050Z
LAST-MODIFIED:20260311T002050Z
UID:10008072-1773858600-1773864000@www.wakedems.org
SUMMARY:01-39 "Sips and Snack" Social
DESCRIPTION:Join Precinct 01-39 for a “Sips and Snacks” Social on Wednesday\, March 18\, 2026 from 6:30-8. Let’s celebrate primary victories\, get to know your 01-39 officers (Dawn\, Toy\, and Chris)\, and build community with neighbors who share our democratic values.
URL:https://www.wakedems.org/wcdp-event/01-39-sips-and-snack-social/
LOCATION:Event will be emailed a few days in advance of event\, to those who registered.
CATEGORIES:Precinct Meetings & Events
ATTACH;FMTTYPE=image/jpeg:https://www.wakedems.org/wp-content/uploads/2023/08/SocialEvent3.jpg
ORGANIZER;CN="Precinct 01-39":MAILTO:Precinct01-39@wakedems.org
END:VEVENT
BEGIN:VEVENT
DTSTART;TZID=America/New_York:20260131T121500
DTEND;TZID=America/New_York:20260131T141500
DTSTAMP:20260421T183154
CREATED:20260111T194445Z
LAST-MODIFIED:20260121T215206Z
UID:10007830-1769861700-1769868900@www.wakedems.org
SUMMARY:Open House for North Raleigh's Precinct 01-39
DESCRIPTION:Please join us for: \n\nIntroductions\, overviews of how a precinct works.\nWCDP’s plan for 2026\, dates and details for upcoming primaries (early voting is in February\, Election Day is March 3)\nWays to get involved with information about what the task entails as well as how much time/effort is needed. (phone calls\, writing postcards and door hangers\, canvassing/door knocking\, attending meetings and events\, technology and social media\, etc). Our precinct also needs officers to serve along with me\, so if you really want to dive in\, please consider. \nLight snacks and beverages will be provided
URL:https://www.wakedems.org/wcdp-event/open-house-for-north-raleighs-precinct-01-39-2/
LOCATION:Location will be emailed a few days in advance of event\, to those who have registered.
CATEGORIES:Precinct Meetings & Events,Social Event
ATTACH;FMTTYPE=image/jpeg:https://www.wakedems.org/wp-content/uploads/2023/08/SocialEvent3.jpg
ORGANIZER;CN="Precinct 01-39":MAILTO:Precinct01-39@wakedems.org
END:VEVENT
BEGIN:VEVENT
DTSTART;TZID=America/New_York:20260124T131500
DTEND;TZID=America/New_York:20260124T173000
DTSTAMP:20260421T183154
CREATED:20260111T191326Z
LAST-MODIFIED:20260121T215104Z
UID:10007826-1769260500-1769275800@www.wakedems.org
SUMMARY:[CANCELLED DUE TO WEATHER] Open House for North Raleigh's Precinct 01-39
DESCRIPTION:Please join us for: \n\nIntroductions\, overviews of how a precinct works.\nWCDP’s plan for 2026\, dates and details for upcoming primaries (early voting is in February\, Election Day is March 3)\nWays to get involved with information about what the task entails as well as how much time/effort is needed. (phone calls\, writing postcards and door hangers\, canvassing/door knocking\, attending meetings and events\, technology and social media\, etc). Our precinct also needs officers to serve along with me\, so if you really want to dive in\, please consider. \nLight snacks and beverages will be provided
URL:https://www.wakedems.org/wcdp-event/open-house-for-north-raleighs-precinct-01-39/
LOCATION:Location will be emailed a few days in advance of event\, to those who have registered.
CATEGORIES:Precinct Meetings & Events,Social Event
ATTACH;FMTTYPE=image/jpeg:https://www.wakedems.org/wp-content/uploads/2023/08/SocialEvent3.jpg
ORGANIZER;CN="Precinct 01-39":MAILTO:Precinct01-39@wakedems.org
END:VEVENT
END:VCALENDAR