BEGIN:VCALENDAR
VERSION:2.0
PRODID:-//Wake County Democratic Party - ECPv6.15.20//NONSGML v1.0//EN
CALSCALE:GREGORIAN
METHOD:PUBLISH
X-ORIGINAL-URL:https://www.wakedems.org
X-WR-CALDESC:Events for Wake County Democratic Party
REFRESH-INTERVAL;VALUE=DURATION:PT1H
X-Robots-Tag:noindex
X-PUBLISHED-TTL:PT1H
BEGIN:VTIMEZONE
TZID:America/New_York
BEGIN:DAYLIGHT
TZOFFSETFROM:-0500
TZOFFSETTO:-0400
TZNAME:EDT
DTSTART:20250309T070000
END:DAYLIGHT
BEGIN:STANDARD
TZOFFSETFROM:-0400
TZOFFSETTO:-0500
TZNAME:EST
DTSTART:20251102T060000
END:STANDARD
BEGIN:DAYLIGHT
TZOFFSETFROM:-0500
TZOFFSETTO:-0400
TZNAME:EDT
DTSTART:20260308T070000
END:DAYLIGHT
BEGIN:STANDARD
TZOFFSETFROM:-0400
TZOFFSETTO:-0500
TZNAME:EST
DTSTART:20261101T060000
END:STANDARD
BEGIN:DAYLIGHT
TZOFFSETFROM:-0500
TZOFFSETTO:-0400
TZNAME:EDT
DTSTART:20270314T070000
END:DAYLIGHT
BEGIN:STANDARD
TZOFFSETFROM:-0400
TZOFFSETTO:-0500
TZNAME:EST
DTSTART:20271107T060000
END:STANDARD
END:VTIMEZONE
BEGIN:VEVENT
DTSTART;TZID=America/New_York:20260426T190000
DTEND;TZID=America/New_York:20260426T203000
DTSTAMP:20260424T050443
CREATED:20260412T142347Z
LAST-MODIFIED:20260412T142347Z
UID:10008430-1777230000-1777235400@www.wakedems.org
SUMMARY:Precinct 01-43 Kickoff Social (Midtown Area - North Raleigh)
DESCRIPTION:Enjoy the company of your like-minded neighbors\, and learn more about the many ways to volunteer – we have opportunities for everyone in this crucial and important midterm election year!
URL:https://www.wakedems.org/wcdp-event/precinct-01-43-kickoff-social-midtown-area-north-raleigh/
LOCATION:Location will be emailed a few days in advance of event\, to those who have registered.
CATEGORIES:Precinct Meetings & Events,Social Event
ATTACH;FMTTYPE=image/jpeg:https://www.wakedems.org/wp-content/uploads/2023/08/SocialEvent3.jpg
ORGANIZER;CN="precinct01-43@wakedems.org":MAILTO:precinct01-43@wakedems.org
END:VEVENT
END:VCALENDAR