BEGIN:VCALENDAR
VERSION:2.0
PRODID:-//Wake County Democratic Party - ECPv6.15.20//NONSGML v1.0//EN
CALSCALE:GREGORIAN
METHOD:PUBLISH
X-ORIGINAL-URL:https://www.wakedems.org
X-WR-CALDESC:Events for Wake County Democratic Party
REFRESH-INTERVAL;VALUE=DURATION:PT1H
X-Robots-Tag:noindex
X-PUBLISHED-TTL:PT1H
BEGIN:VTIMEZONE
TZID:America/New_York
BEGIN:DAYLIGHT
TZOFFSETFROM:-0500
TZOFFSETTO:-0400
TZNAME:EDT
DTSTART:20250309T070000
END:DAYLIGHT
BEGIN:STANDARD
TZOFFSETFROM:-0400
TZOFFSETTO:-0500
TZNAME:EST
DTSTART:20251102T060000
END:STANDARD
BEGIN:DAYLIGHT
TZOFFSETFROM:-0500
TZOFFSETTO:-0400
TZNAME:EDT
DTSTART:20260308T070000
END:DAYLIGHT
BEGIN:STANDARD
TZOFFSETFROM:-0400
TZOFFSETTO:-0500
TZNAME:EST
DTSTART:20261101T060000
END:STANDARD
BEGIN:DAYLIGHT
TZOFFSETFROM:-0500
TZOFFSETTO:-0400
TZNAME:EDT
DTSTART:20270314T070000
END:DAYLIGHT
BEGIN:STANDARD
TZOFFSETFROM:-0400
TZOFFSETTO:-0500
TZNAME:EST
DTSTART:20271107T060000
END:STANDARD
END:VTIMEZONE
BEGIN:VEVENT
DTSTART;TZID=America/New_York:20260319T180000
DTEND;TZID=America/New_York:20260319T193000
DTSTAMP:20260421T074141
CREATED:20260302T220541Z
LAST-MODIFIED:20260302T220541Z
UID:10008051-1773943200-1773948600@www.wakedems.org
SUMMARY:Precinct 07-05 Social
DESCRIPTION:We’ll gather to meet fellow Democratic neighbors\, hear your thoughts and ideas\, and plan for the November Midterm elections. Whether you are new or have been involved before\, we’d love to connect and build a strong team for 2026.  Your voice and involvement will make all the difference this year.
URL:https://www.wakedems.org/wcdp-event/precinct-07-05-social-3/
LOCATION:Location will be shared with those who register\, several days in advance of event
CATEGORIES:Precinct Meetings & Events,Social Event
ATTACH;FMTTYPE=image/jpeg:https://www.wakedems.org/wp-content/uploads/2023/08/PrecinctMeeting.jpg
ORGANIZER;CN="precinct07-05@wakedems.org":MAILTO:precinct07-05@wakedems.org
END:VEVENT
END:VCALENDAR