BEGIN:VCALENDAR
VERSION:2.0
PRODID:-//Wake County Democratic Party - ECPv6.15.20//NONSGML v1.0//EN
CALSCALE:GREGORIAN
METHOD:PUBLISH
X-WR-CALNAME:Wake County Democratic Party
X-ORIGINAL-URL:https://www.wakedems.org
X-WR-CALDESC:Events for Wake County Democratic Party
REFRESH-INTERVAL;VALUE=DURATION:PT1H
X-Robots-Tag:noindex
X-PUBLISHED-TTL:PT1H
BEGIN:VTIMEZONE
TZID:America/New_York
BEGIN:DAYLIGHT
TZOFFSETFROM:-0500
TZOFFSETTO:-0400
TZNAME:EDT
DTSTART:20230312T070000
END:DAYLIGHT
BEGIN:STANDARD
TZOFFSETFROM:-0400
TZOFFSETTO:-0500
TZNAME:EST
DTSTART:20231105T060000
END:STANDARD
BEGIN:DAYLIGHT
TZOFFSETFROM:-0500
TZOFFSETTO:-0400
TZNAME:EDT
DTSTART:20240310T070000
END:DAYLIGHT
BEGIN:STANDARD
TZOFFSETFROM:-0400
TZOFFSETTO:-0500
TZNAME:EST
DTSTART:20241103T060000
END:STANDARD
BEGIN:DAYLIGHT
TZOFFSETFROM:-0500
TZOFFSETTO:-0400
TZNAME:EDT
DTSTART:20250309T070000
END:DAYLIGHT
BEGIN:STANDARD
TZOFFSETFROM:-0400
TZOFFSETTO:-0500
TZNAME:EST
DTSTART:20251102T060000
END:STANDARD
BEGIN:DAYLIGHT
TZOFFSETFROM:-0500
TZOFFSETTO:-0400
TZNAME:EDT
DTSTART:20260308T070000
END:DAYLIGHT
BEGIN:STANDARD
TZOFFSETFROM:-0400
TZOFFSETTO:-0500
TZNAME:EST
DTSTART:20261101T060000
END:STANDARD
BEGIN:DAYLIGHT
TZOFFSETFROM:-0500
TZOFFSETTO:-0400
TZNAME:EDT
DTSTART:20270314T070000
END:DAYLIGHT
BEGIN:STANDARD
TZOFFSETFROM:-0400
TZOFFSETTO:-0500
TZNAME:EST
DTSTART:20271107T060000
END:STANDARD
END:VTIMEZONE
BEGIN:VEVENT
DTSTART;TZID=America/New_York:20260301T183000
DTEND;TZID=America/New_York:20260301T194500
DTSTAMP:20260422T014607
CREATED:20260123T220643Z
LAST-MODIFIED:20260130T180450Z
UID:10007920-1772389800-1772394300@www.wakedems.org
SUMMARY:Site Captains for Election Day Poll Greeting: 2026 Primary & Raleigh Municipal Elections
DESCRIPTION:Are you a new or returning Site Captain for Election Day voting in the upcoming elections? Election Day is just around the corner (March 3rd). Join us to review the new Site Captains’ checklist; review the Site Captain’s role\, responsibilities\, and the support available specifically for the primaries and Raleigh municipal; and share your questions\, best practices\, and tips. \nThis session’s information is uniquely tailored for Election Day Site Captains in the 2026 Primary & Raleigh Municipal Elections. \nWhere: Zoom (live session; the Zoom link will be sent automatically upon RSVP\, below)  \nRSVP by registering below \nFor more information\, contact Linda Ippolito at: Secondvc@wakedems.org \n 
URL:https://www.wakedems.org/wcdp-event/poll-greeters-training-2026-primary-raleigh-municipal-elections-2/
LOCATION:Zoom
CATEGORIES:Training Event
ATTACH;FMTTYPE=image/jpeg:https://www.wakedems.org/wp-content/uploads/2023/08/TrainingEvent2.jpg
ORGANIZER;CN="Second Vice Chair":MAILTO:secondvc@wakedems.org
END:VEVENT
BEGIN:VEVENT
DTSTART;TZID=America/New_York:20260220T183000
DTEND;TZID=America/New_York:20260220T194500
DTSTAMP:20260422T014607
CREATED:20260212T192853Z
LAST-MODIFIED:20260212T192853Z
UID:10008022-1771612200-1771616700@www.wakedems.org
SUMMARY:Site Captains for Election Day Poll Greeting: 2026 Primary Elections
DESCRIPTION:Site Captains for Election Day Poll Greeting: 2026 Primary Elections \nAre you a new or returning Site Captain for Election Day voting in the upcoming elections? Election Day is just around the corner (March 3rd). Join us to review the new Site Captains’ checklist; review the Site Captain’s role\, responsibilities\, and the support available specifically for the primaries and Raleigh municipal; and share your questions\, best practices\, and tips. \nThis session’s information is uniquely tailored for Election Day Site Captains in the 2026 Primary Elections. \nWhen: Friday\, February 20th\, 6:30 – 7:45 PM \nWhere: Zoom (live session; the Zoom link will be sent automatically upon RSVP\, below) \nRSVP by registering below \nFor more information\, contact Linda Ippolito at: Secondvc@wakedems.org
URL:https://www.wakedems.org/wcdp-event/site-captains-for-election-day-poll-greeting-2026-primary-elections/
LOCATION:Zoom
CATEGORIES:Training Event
ATTACH;FMTTYPE=image/jpeg:https://www.wakedems.org/wp-content/uploads/2024/01/TrainingEvent1.jpg
ORGANIZER;CN="Second Vice Chair":MAILTO:secondvc@wakedems.org
END:VEVENT
BEGIN:VEVENT
DTSTART;TZID=America/New_York:20260212T183000
DTEND;TZID=America/New_York:20260212T194500
DTSTAMP:20260422T014607
CREATED:20260130T181132Z
LAST-MODIFIED:20260130T181132Z
UID:10008000-1770921000-1770925500@www.wakedems.org
SUMMARY:Resolution Writing Training
DESCRIPTION:Resolution Writing: Resolutions are not required during the precinct annual meeting (PAM) process\, however\, for WCDP volunteers that would like to develop and submit resolutions during their upcoming PAM\, this training/info session will provide a guide to the purpose of resolutions\, requirements for an acceptable resolution\, parameters for their submission\, and examples of sound resolutions.  \nWhen: Thursday\, February 12\, 6:30 – 7:45 PM.  \nWhere: Zoom (live session; the Zoom link will be sent automatically upon RSVP\, below)  \nRSVP by registering below \nFor questions\, email: Secondvc@wakedems.org
URL:https://www.wakedems.org/wcdp-event/resolution-writing-training/
LOCATION:Zoom
CATEGORIES:Training Event
ATTACH;FMTTYPE=image/jpeg:https://www.wakedems.org/wp-content/uploads/2023/08/TrainingEvent1.jpg
ORGANIZER;CN="Second Vice Chair":MAILTO:secondvc@wakedems.org
END:VEVENT
BEGIN:VEVENT
DTSTART;TZID=America/New_York:20260210T183000
DTEND;TZID=America/New_York:20260210T194500
DTSTAMP:20260422T014607
CREATED:20260123T221651Z
LAST-MODIFIED:20260123T221710Z
UID:10007931-1770748200-1770752700@www.wakedems.org
SUMMARY:What to Expect at Precinct Annual Meetings\, 2026
DESCRIPTION:What to Expect at Precinct Annual Meetings\, 2026 \nIf you are new to the WCDP Precinct Annual Meeting (PAM) process\, or would like a refresher\, join us for this session during which we will: \n\nshare a preview of the overall agenda and meeting process;\ndiscuss exciting plans and tools for organizing our precincts in this important election year;\ndemonstrated how to use this year’s electronic PAM packet; and\nanswer your questions.\n\nWhen: Tuesday\, February 10th\, 6:30 – 7:45 PM \nWhere: Zoom (live session; the Zoom link will be sent automatically upon RSVP\, below)  \nRSVP by registering below
URL:https://www.wakedems.org/wcdp-event/what-to-expect-at-precinct-annual-meetings-2026/
LOCATION:Zoom
CATEGORIES:Training Event
ATTACH;FMTTYPE=image/jpeg:https://www.wakedems.org/wp-content/uploads/2023/08/TrainingEvent1.jpg
ORGANIZER;CN="Second Vice Chair":MAILTO:secondvc@wakedems.org
END:VEVENT
BEGIN:VEVENT
DTSTART;TZID=America/New_York:20260209T183000
DTEND;TZID=America/New_York:20260209T194500
DTSTAMP:20260422T014607
CREATED:20260123T220132Z
LAST-MODIFIED:20260123T220132Z
UID:10007919-1770661800-1770666300@www.wakedems.org
SUMMARY:Poll Greeters Training: 2026 Primary & Raleigh Municipal Elections
DESCRIPTION:Are you a new or returning Poll Greeter for the upcoming elections? Early Voting and Election Day are just around the corner.  Join us to review the role\, responsibilities\, key tasks\, best practices\, and support available for poll greeters – all specifically for the upcoming primaries across Wake County and Raleigh municipal elections.    \nWhen: Monday\, February 9th\, 6:30 – 7:45 PM \nWhere: Zoom (live session; the Zoom link will be sent automatically upon RSVP\, below)  \nRSVP by registering below \nFor more information\, contact Linda Ippolito at: Secondvc@wakedems.org
URL:https://www.wakedems.org/wcdp-event/poll-greeters-training-2026-primary-raleigh-municipal-elections/
LOCATION:Zoom
CATEGORIES:Training Event
ATTACH;FMTTYPE=image/jpeg:https://www.wakedems.org/wp-content/uploads/2023/08/TrainingEvent3.jpg
ORGANIZER;CN="Second Vice Chair":MAILTO:secondvc@wakedems.org
END:VEVENT
BEGIN:VEVENT
DTSTART;TZID=America/New_York:20260202T183000
DTEND;TZID=America/New_York:20260202T194500
DTSTAMP:20260422T014607
CREATED:20260123T215323Z
LAST-MODIFIED:20260123T215419Z
UID:10007918-1770057000-1770061500@www.wakedems.org
SUMMARY:Site Captains for Early Voting Poll Greeting: 2026 Primary & Raleigh Municipal Elections
DESCRIPTION:Site Captains for Early Voting Poll Greeting: 2026 Primary & Raleigh Municipal Elections \nAre you a new or returning Site Captain for Early Voting in the upcoming elections? Early voting starts on February 12th.  Join us to review the new Site Captains’ checklist; review the Site Captain’s role\, responsibilities\, and the support available specifically for the primaries and Raleigh municipal; and share your questions\, best practices\, and tips.   \nThis session’s information is uniquely tailored for Early Voting Site Captains in the 2026 Primary & Raleigh Municipal Elections. Participants are restricted to Site Captains for Early Voting only.  \nWhen: Monday\, February 2nd\, 6:30 – 7:45 PM \nWhere: Zoom (live session; the Zoom link will be sent automatically upon RSVP\, below)  \nRSVP by registering below \nFor more information\, contact Linda Ippolito at: Secondvc@wakedems.org
URL:https://www.wakedems.org/wcdp-event/site-captains-for-early-voting-poll-greeting-2026-primary-raleigh-municipal-elections/
LOCATION:Zoom
CATEGORIES:Training Event
ATTACH;FMTTYPE=image/jpeg:https://www.wakedems.org/wp-content/uploads/2024/01/TrainingEvent1.jpg
ORGANIZER;CN="Second Vice Chair":MAILTO:secondvc@wakedems.org
END:VEVENT
BEGIN:VEVENT
DTSTART;TZID=America/New_York:20251013T190000
DTEND;TZID=America/New_York:20251013T201500
DTSTAMP:20260422T014607
CREATED:20250920T143556Z
LAST-MODIFIED:20250925T110522Z
UID:10007324-1760382000-1760386500@www.wakedems.org
SUMMARY:TRAINING - Canvassing with MiniVan\, GOTV
DESCRIPTION:Ready to Get Out The Vote (GOTV) for Municipal Elections? New to canvassing? Experienced but want a refresher?  \nJoin us for our Zoom training: “Canvassing with MiniVan\, GOTV 2025” during which we will cover: \n\nBest practices: Canvassing Dos\, Don’ts and “What ifs”?\nNew scripts & canvass literature \nHow to use the MiniVan app & Voter Pledge Cards for canvassing\nConverations at the door & silent canvassing\nYour questions and suggestions. \n\nResearch shows that door knock canvassing with a conversation at the door is the most effective way to bring out the vote for our candidates!  \nTogether\, we will build skills\, motivation\, and confidence to canvass effectively and win important municipal elections in 2026 and crucial mid-term elections in 2026…Join Us!  \n\nMonday.\, September 22nd\, 7:00 – 8:15 pm\nWednesday\, October 8th\, 7:00 – 8:15 pm\nMonday\, October 13th\, 7:00 – 8:15 pm
URL:https://www.wakedems.org/wcdp-event/canvassing-with-minivan-gotv/2025-10-13/
LOCATION:Zoom
CATEGORIES:Training Event Canvass
ATTACH;FMTTYPE=image/jpeg:https://www.wakedems.org/wp-content/uploads/2023/08/PhoneBank1.jpg
ORGANIZER;CN="Second Vice Chair":MAILTO:secondvc@wakedems.org
END:VEVENT
BEGIN:VEVENT
DTSTART;TZID=America/New_York:20251008T190000
DTEND;TZID=America/New_York:20251008T201500
DTSTAMP:20260422T014607
CREATED:20251002T161708Z
LAST-MODIFIED:20251002T162431Z
UID:10007323-1759950000-1759954500@www.wakedems.org
SUMMARY:[CANCELED] TRAINING - Canvassing with MiniVan\, GOTV
DESCRIPTION:Ready to Get Out The Vote (GOTV) for Municipal Elections? New to canvassing? Experienced but want a refresher?  \nJoin us for our Zoom training: “Canvassing with MiniVan\, GOTV 2025” during which we will cover: \n\nBest practices: Canvassing Dos\, Don’ts and “What ifs”?\nNew scripts & canvass literature \nHow to use the MiniVan app & Voter Pledge Cards for canvassing\nConverations at the door & silent canvassing\nYour questions and suggestions. \n\nResearch shows that door knock canvassing with a conversation at the door is the most effective way to bring out the vote for our candidates!  \nTogether\, we will build skills\, motivation\, and confidence to canvass effectively and win important municipal elections in 2026 and crucial mid-term elections in 2026…Join Us!  \n\nMonday.\, September 22nd\, 7:00 – 8:15 pm\nWednesday\, October 8th\, 7:00 – 8:15 pm [CANCELED]\nMonday\, October 13th\, 7:00 – 8:15 pm
URL:https://www.wakedems.org/wcdp-event/canvassing-with-minivan-gotv-2/
LOCATION:Zoom
CATEGORIES:Canceled Events,Training Event Canvass
ATTACH;FMTTYPE=image/jpeg:https://www.wakedems.org/wp-content/uploads/2023/08/PhoneBank1.jpg
ORGANIZER;CN="Second Vice Chair":MAILTO:secondvc@wakedems.org
END:VEVENT
BEGIN:VEVENT
DTSTART;TZID=America/New_York:20250922T190000
DTEND;TZID=America/New_York:20250922T201500
DTSTAMP:20260422T014607
CREATED:20250920T143556Z
LAST-MODIFIED:20250925T110522Z
UID:10007322-1758567600-1758572100@www.wakedems.org
SUMMARY:TRAINING - Canvassing with MiniVan\, GOTV
DESCRIPTION:Ready to Get Out The Vote (GOTV) for Municipal Elections? New to canvassing? Experienced but want a refresher?  \nJoin us for our Zoom training: “Canvassing with MiniVan\, GOTV 2025” during which we will cover: \n\nBest practices: Canvassing Dos\, Don’ts and “What ifs”?\nNew scripts & canvass literature \nHow to use the MiniVan app & Voter Pledge Cards for canvassing\nConverations at the door & silent canvassing\nYour questions and suggestions. \n\nResearch shows that door knock canvassing with a conversation at the door is the most effective way to bring out the vote for our candidates!  \nTogether\, we will build skills\, motivation\, and confidence to canvass effectively and win important municipal elections in 2026 and crucial mid-term elections in 2026…Join Us!  \n\nMonday.\, September 22nd\, 7:00 – 8:15 pm\nWednesday\, October 8th\, 7:00 – 8:15 pm\nMonday\, October 13th\, 7:00 – 8:15 pm
URL:https://www.wakedems.org/wcdp-event/canvassing-with-minivan-gotv/2025-09-22/
LOCATION:Zoom
CATEGORIES:Training Event Canvass
ATTACH;FMTTYPE=image/jpeg:https://www.wakedems.org/wp-content/uploads/2023/08/PhoneBank1.jpg
ORGANIZER;CN="Second Vice Chair":MAILTO:secondvc@wakedems.org
END:VEVENT
BEGIN:VEVENT
DTSTART;TZID=America/New_York:20241031T180000
DTEND;TZID=America/New_York:20241031T190000
DTSTAMP:20260422T014607
CREATED:20241009T221638Z
LAST-MODIFIED:20241010T195412Z
UID:10005798-1730397600-1730401200@www.wakedems.org
SUMMARY:Poll Greeting Training
DESCRIPTION:We will cover: \n\nPoll Greeting Basics\nBefore\, During\, After Your Shift\nWhat to Expect\nDo’s & Don’ts\nDe-Escalation Scenarios\nQuestions
URL:https://www.wakedems.org/wcdp-event/poll-greeting-training-5/2024-10-31/
LOCATION:online virtual meeting
CATEGORIES:Training Event
ATTACH;FMTTYPE=image/jpeg:https://www.wakedems.org/wp-content/uploads/2023/08/TrainingEvent2.jpg
ORGANIZER;CN="Second Vice Chair":MAILTO:secondvc@wakedems.org
END:VEVENT
BEGIN:VEVENT
DTSTART;TZID=America/New_York:20241029T180000
DTEND;TZID=America/New_York:20241029T190000
DTSTAMP:20260422T014607
CREATED:20241009T221638Z
LAST-MODIFIED:20241010T195412Z
UID:10005797-1730224800-1730228400@www.wakedems.org
SUMMARY:Poll Greeting Training
DESCRIPTION:We will cover: \n\nPoll Greeting Basics\nBefore\, During\, After Your Shift\nWhat to Expect\nDo’s & Don’ts\nDe-Escalation Scenarios\nQuestions
URL:https://www.wakedems.org/wcdp-event/poll-greeting-training-5/2024-10-29/
LOCATION:online virtual meeting
CATEGORIES:Training Event
ATTACH;FMTTYPE=image/jpeg:https://www.wakedems.org/wp-content/uploads/2023/08/TrainingEvent2.jpg
ORGANIZER;CN="Second Vice Chair":MAILTO:secondvc@wakedems.org
END:VEVENT
BEGIN:VEVENT
DTSTART;TZID=America/New_York:20241024T180000
DTEND;TZID=America/New_York:20241024T190000
DTSTAMP:20260422T014607
CREATED:20241009T221638Z
LAST-MODIFIED:20241010T195412Z
UID:10005796-1729792800-1729796400@www.wakedems.org
SUMMARY:Poll Greeting Training
DESCRIPTION:We will cover: \n\nPoll Greeting Basics\nBefore\, During\, After Your Shift\nWhat to Expect\nDo’s & Don’ts\nDe-Escalation Scenarios\nQuestions
URL:https://www.wakedems.org/wcdp-event/poll-greeting-training-5/2024-10-24/
LOCATION:online virtual meeting
CATEGORIES:Training Event
ATTACH;FMTTYPE=image/jpeg:https://www.wakedems.org/wp-content/uploads/2023/08/TrainingEvent2.jpg
ORGANIZER;CN="Second Vice Chair":MAILTO:secondvc@wakedems.org
END:VEVENT
BEGIN:VEVENT
DTSTART;TZID=America/New_York:20241022T180000
DTEND;TZID=America/New_York:20241022T190000
DTSTAMP:20260422T014607
CREATED:20241009T221638Z
LAST-MODIFIED:20241010T195412Z
UID:10005795-1729620000-1729623600@www.wakedems.org
SUMMARY:Poll Greeting Training
DESCRIPTION:We will cover: \n\nPoll Greeting Basics\nBefore\, During\, After Your Shift\nWhat to Expect\nDo’s & Don’ts\nDe-Escalation Scenarios\nQuestions
URL:https://www.wakedems.org/wcdp-event/poll-greeting-training-5/2024-10-22/
LOCATION:online virtual meeting
CATEGORIES:Training Event
ATTACH;FMTTYPE=image/jpeg:https://www.wakedems.org/wp-content/uploads/2023/08/TrainingEvent2.jpg
ORGANIZER;CN="Second Vice Chair":MAILTO:secondvc@wakedems.org
END:VEVENT
BEGIN:VEVENT
DTSTART;TZID=America/New_York:20241017T180000
DTEND;TZID=America/New_York:20241017T190000
DTSTAMP:20260422T014607
CREATED:20241009T221638Z
LAST-MODIFIED:20241010T195412Z
UID:10005794-1729188000-1729191600@www.wakedems.org
SUMMARY:Poll Greeting Training
DESCRIPTION:We will cover: \n\nPoll Greeting Basics\nBefore\, During\, After Your Shift\nWhat to Expect\nDo’s & Don’ts\nDe-Escalation Scenarios\nQuestions
URL:https://www.wakedems.org/wcdp-event/poll-greeting-training-5/2024-10-17/
LOCATION:online virtual meeting
CATEGORIES:Training Event
ATTACH;FMTTYPE=image/jpeg:https://www.wakedems.org/wp-content/uploads/2023/08/TrainingEvent2.jpg
ORGANIZER;CN="Second Vice Chair":MAILTO:secondvc@wakedems.org
END:VEVENT
BEGIN:VEVENT
DTSTART;TZID=America/New_York:20241015T180000
DTEND;TZID=America/New_York:20241015T190000
DTSTAMP:20260422T014607
CREATED:20241009T221638Z
LAST-MODIFIED:20241010T195412Z
UID:10005793-1729015200-1729018800@www.wakedems.org
SUMMARY:Poll Greeting Training
DESCRIPTION:We will cover: \n\nPoll Greeting Basics\nBefore\, During\, After Your Shift\nWhat to Expect\nDo’s & Don’ts\nDe-Escalation Scenarios\nQuestions
URL:https://www.wakedems.org/wcdp-event/poll-greeting-training-5/2024-10-15/
LOCATION:online virtual meeting
CATEGORIES:Training Event
ATTACH;FMTTYPE=image/jpeg:https://www.wakedems.org/wp-content/uploads/2023/08/TrainingEvent2.jpg
ORGANIZER;CN="Second Vice Chair":MAILTO:secondvc@wakedems.org
END:VEVENT
BEGIN:VEVENT
DTSTART;TZID=America/New_York:20241010T180000
DTEND;TZID=America/New_York:20241010T190000
DTSTAMP:20260422T014607
CREATED:20241009T221638Z
LAST-MODIFIED:20241010T195412Z
UID:10005792-1728583200-1728586800@www.wakedems.org
SUMMARY:Poll Greeting Training
DESCRIPTION:We will cover: \n\nPoll Greeting Basics\nBefore\, During\, After Your Shift\nWhat to Expect\nDo’s & Don’ts\nDe-Escalation Scenarios\nQuestions
URL:https://www.wakedems.org/wcdp-event/poll-greeting-training-5/2024-10-10/
LOCATION:online virtual meeting
CATEGORIES:Training Event
ATTACH;FMTTYPE=image/jpeg:https://www.wakedems.org/wp-content/uploads/2023/08/TrainingEvent2.jpg
ORGANIZER;CN="Second Vice Chair":MAILTO:secondvc@wakedems.org
END:VEVENT
BEGIN:VEVENT
DTSTART;TZID=America/New_York:20240829T180000
DTEND;TZID=America/New_York:20240829T190000
DTSTAMP:20260422T014607
CREATED:20240808T115713Z
LAST-MODIFIED:20240808T115730Z
UID:10004875-1724954400-1724958000@www.wakedems.org
SUMMARY:CANCELLED - Training: Canvassing with MiniVAN
DESCRIPTION:*The 8/29 occurrence of this event has been CANCELLED* \nWe will be covering the basics of minivan and how to log some common scenarios.  \nWe request that everyone attending download the MiniVAN Touch app from the Apple or Google store and create an action ID.
URL:https://www.wakedems.org/wcdp-event/training-canvassing-with-minivan-3/
LOCATION:Virtual
CATEGORIES:Training Event
ATTACH;FMTTYPE=image/jpeg:https://www.wakedems.org/wp-content/uploads/2023/08/TrainingEvent1.jpg
ORGANIZER;CN="Second Vice Chair":MAILTO:secondvc@wakedems.org
END:VEVENT
BEGIN:VEVENT
DTSTART;TZID=America/New_York:20240822T180000
DTEND;TZID=America/New_York:20240822T190000
DTSTAMP:20260422T014607
CREATED:20240808T115514Z
LAST-MODIFIED:20240808T115530Z
UID:10004874-1724349600-1724353200@www.wakedems.org
SUMMARY:CANCELLED - Training: Canvassing with MiniVAN
DESCRIPTION:*The 8/22 occurrence of this training has been CANCELLED* \nWe will be covering the basics of minivan and how to log some common scenarios.  \nWe request that everyone attending download the MiniVAN Touch app from the Apple or Google store and create an action ID.
URL:https://www.wakedems.org/wcdp-event/training-canvassing-with-minivan-2/
LOCATION:Virtual
CATEGORIES:Training Event
ATTACH;FMTTYPE=image/jpeg:https://www.wakedems.org/wp-content/uploads/2023/08/TrainingEvent1.jpg
ORGANIZER;CN="Second Vice Chair":MAILTO:secondvc@wakedems.org
END:VEVENT
BEGIN:VEVENT
DTSTART;TZID=America/New_York:20240815T180000
DTEND;TZID=America/New_York:20240815T190000
DTSTAMP:20260422T014607
CREATED:20240729T194527Z
LAST-MODIFIED:20240729T194527Z
UID:10004873-1723744800-1723748400@www.wakedems.org
SUMMARY:Training: Canvassing with MiniVAN
DESCRIPTION:We will be covering the basics of minivan and how to log some common scenarios.  \nWe request that everyone attending download the MiniVAN Touch app from the Apple or Google store and create an action ID.
URL:https://www.wakedems.org/wcdp-event/training-canvassing-with-minivan/2024-08-15/
LOCATION:Virtual
CATEGORIES:Training Event
ATTACH;FMTTYPE=image/jpeg:https://www.wakedems.org/wp-content/uploads/2023/08/TrainingEvent1.jpg
ORGANIZER;CN="Second Vice Chair":MAILTO:secondvc@wakedems.org
END:VEVENT
BEGIN:VEVENT
DTSTART;TZID=America/New_York:20240808T180000
DTEND;TZID=America/New_York:20240808T190000
DTSTAMP:20260422T014607
CREATED:20240729T194527Z
LAST-MODIFIED:20240729T194527Z
UID:10004872-1723140000-1723143600@www.wakedems.org
SUMMARY:Training: Canvassing with MiniVAN
DESCRIPTION:We will be covering the basics of minivan and how to log some common scenarios.  \nWe request that everyone attending download the MiniVAN Touch app from the Apple or Google store and create an action ID.
URL:https://www.wakedems.org/wcdp-event/training-canvassing-with-minivan/2024-08-08/
LOCATION:Virtual
CATEGORIES:Training Event
ATTACH;FMTTYPE=image/jpeg:https://www.wakedems.org/wp-content/uploads/2023/08/TrainingEvent1.jpg
ORGANIZER;CN="Second Vice Chair":MAILTO:secondvc@wakedems.org
END:VEVENT
BEGIN:VEVENT
DTSTART;TZID=America/New_York:20240726T173000
DTEND;TZID=America/New_York:20240726T183000
DTSTAMP:20260422T014607
CREATED:20240625T003135Z
LAST-MODIFIED:20240625T003135Z
UID:10004740-1722015000-1722018600@www.wakedems.org
SUMMARY:Canvassing with MiniVAN 101
DESCRIPTION:We will cover basic use of MiniVAN touch on iPhone and Android along with recording canvassing results for scenarios you may meet as you knock on doors.
URL:https://www.wakedems.org/wcdp-event/canvassing-with-minivan-101-3/2024-07-26/
LOCATION:Virtual (Zoom or Google Meet)\, NC\, United States
CATEGORIES:Training Event
ATTACH;FMTTYPE=image/jpeg:https://www.wakedems.org/wp-content/uploads/2023/08/TrainingEvent1.jpg
ORGANIZER;CN="Second Vice Chair":MAILTO:secondvc@wakedems.org
END:VEVENT
BEGIN:VEVENT
DTSTART;TZID=America/New_York:20240719T173000
DTEND;TZID=America/New_York:20240719T183000
DTSTAMP:20260422T014607
CREATED:20240625T003135Z
LAST-MODIFIED:20240625T003135Z
UID:10004739-1721410200-1721413800@www.wakedems.org
SUMMARY:Canvassing with MiniVAN 101
DESCRIPTION:We will cover basic use of MiniVAN touch on iPhone and Android along with recording canvassing results for scenarios you may meet as you knock on doors.
URL:https://www.wakedems.org/wcdp-event/canvassing-with-minivan-101-3/2024-07-19/
LOCATION:Virtual (Zoom or Google Meet)\, NC\, United States
CATEGORIES:Training Event
ATTACH;FMTTYPE=image/jpeg:https://www.wakedems.org/wp-content/uploads/2023/08/TrainingEvent1.jpg
ORGANIZER;CN="Second Vice Chair":MAILTO:secondvc@wakedems.org
END:VEVENT
BEGIN:VEVENT
DTSTART;TZID=America/New_York:20240708T173000
DTEND;TZID=America/New_York:20240708T183000
DTSTAMP:20260422T014607
CREATED:20240626T211751Z
LAST-MODIFIED:20240626T211751Z
UID:10004743-1720459800-1720463400@www.wakedems.org
SUMMARY:Hands on MiniVAN Help
DESCRIPTION:Have specific issues with MiniVAN? \nJoin us on the patio at Whole Foods (Six Forks) for in person help with the MiniVAN touch app. \nWe will be available from 5:30pm to 6:30pm. Drop in with you questions or issues.
URL:https://www.wakedems.org/wcdp-event/hands-on-minivan-help/
LOCATION:Patio outside at Whole Foods\, North Raleigh\, 8710 Six Forks Rd\, Market at Colonnade Center\, Raleigh\, NC\, 27615\, United States
CATEGORIES:Training Event
ATTACH;FMTTYPE=image/jpeg:https://www.wakedems.org/wp-content/uploads/2024/01/TrainingEvent1.jpg
ORGANIZER;CN="Second Vice Chair":MAILTO:secondvc@wakedems.org
END:VEVENT
BEGIN:VEVENT
DTSTART;TZID=America/New_York:20240705T173000
DTEND;TZID=America/New_York:20240705T183000
DTSTAMP:20260422T014607
CREATED:20240625T003135Z
LAST-MODIFIED:20240625T003135Z
UID:10004738-1720200600-1720204200@www.wakedems.org
SUMMARY:Canvassing with MiniVAN 101
DESCRIPTION:We will cover basic use of MiniVAN touch on iPhone and Android along with recording canvassing results for scenarios you may meet as you knock on doors.
URL:https://www.wakedems.org/wcdp-event/canvassing-with-minivan-101-3/2024-07-05/
LOCATION:Virtual (Zoom or Google Meet)\, NC\, United States
CATEGORIES:Training Event
ATTACH;FMTTYPE=image/jpeg:https://www.wakedems.org/wp-content/uploads/2023/08/TrainingEvent1.jpg
ORGANIZER;CN="Second Vice Chair":MAILTO:secondvc@wakedems.org
END:VEVENT
BEGIN:VEVENT
DTSTART;TZID=America/New_York:20240628T173000
DTEND;TZID=America/New_York:20240628T183000
DTSTAMP:20260422T014607
CREATED:20240625T003135Z
LAST-MODIFIED:20240625T003135Z
UID:10004737-1719595800-1719599400@www.wakedems.org
SUMMARY:Canvassing with MiniVAN 101
DESCRIPTION:We will cover basic use of MiniVAN touch on iPhone and Android along with recording canvassing results for scenarios you may meet as you knock on doors.
URL:https://www.wakedems.org/wcdp-event/canvassing-with-minivan-101-3/2024-06-28/
LOCATION:Virtual (Zoom or Google Meet)\, NC\, United States
CATEGORIES:Training Event
ATTACH;FMTTYPE=image/jpeg:https://www.wakedems.org/wp-content/uploads/2023/08/TrainingEvent1.jpg
ORGANIZER;CN="Second Vice Chair":MAILTO:secondvc@wakedems.org
END:VEVENT
END:VCALENDAR