BEGIN:VCALENDAR
VERSION:2.0
PRODID:-//Wake County Democratic Party - ECPv6.15.20//NONSGML v1.0//EN
CALSCALE:GREGORIAN
METHOD:PUBLISH
X-WR-CALNAME:Wake County Democratic Party
X-ORIGINAL-URL:https://www.wakedems.org
X-WR-CALDESC:Events for Wake County Democratic Party
REFRESH-INTERVAL;VALUE=DURATION:PT1H
X-Robots-Tag:noindex
X-PUBLISHED-TTL:PT1H
BEGIN:VTIMEZONE
TZID:America/New_York
BEGIN:DAYLIGHT
TZOFFSETFROM:-0500
TZOFFSETTO:-0400
TZNAME:EDT
DTSTART:20250309T070000
END:DAYLIGHT
BEGIN:STANDARD
TZOFFSETFROM:-0400
TZOFFSETTO:-0500
TZNAME:EST
DTSTART:20251102T060000
END:STANDARD
BEGIN:DAYLIGHT
TZOFFSETFROM:-0500
TZOFFSETTO:-0400
TZNAME:EDT
DTSTART:20260308T070000
END:DAYLIGHT
BEGIN:STANDARD
TZOFFSETFROM:-0400
TZOFFSETTO:-0500
TZNAME:EST
DTSTART:20261101T060000
END:STANDARD
BEGIN:DAYLIGHT
TZOFFSETFROM:-0500
TZOFFSETTO:-0400
TZNAME:EDT
DTSTART:20270314T070000
END:DAYLIGHT
BEGIN:STANDARD
TZOFFSETFROM:-0400
TZOFFSETTO:-0500
TZNAME:EST
DTSTART:20271107T060000
END:STANDARD
END:VTIMEZONE
BEGIN:VEVENT
DTSTART;TZID=America/New_York:20260420T183000
DTEND;TZID=America/New_York:20260420T203000
DTSTAMP:20260421T112259
CREATED:20260113T015953Z
LAST-MODIFIED:20260113T020156Z
UID:10007905-1776709800-1776717000@www.wakedems.org
SUMMARY:Garner Dems on Tap
DESCRIPTION:
URL:https://www.wakedems.org/wcdp-event/garner-dems-on-tap/2026-04-20/
ATTACH;FMTTYPE=image/jpeg:https://www.wakedems.org/wp-content/uploads/2024/01/SocialEvent1.jpg
ORGANIZER;CN="South Wake VC":MAILTO:southwakevc@wakedems.org
END:VEVENT
BEGIN:VEVENT
DTSTART;TZID=America/New_York:20260413T190000
DTEND;TZID=America/New_York:20260413T210000
DTSTAMP:20260421T112259
CREATED:20260113T014742Z
LAST-MODIFIED:20260113T014742Z
UID:10007833-1776106800-1776114000@www.wakedems.org
SUMMARY:Holly Springs Dems on Tap
DESCRIPTION:
URL:https://www.wakedems.org/wcdp-event/holly-springs-dems-on-tap/2026-04-13/
ATTACH;FMTTYPE=image/jpeg:https://www.wakedems.org/wp-content/uploads/2024/01/SocialEvent1.jpg
ORGANIZER;CN="South Wake VC":MAILTO:southwakevc@wakedems.org
END:VEVENT
BEGIN:VEVENT
DTSTART;TZID=America/New_York:20260316T183000
DTEND;TZID=America/New_York:20260316T203000
DTSTAMP:20260421T112259
CREATED:20260113T015953Z
LAST-MODIFIED:20260113T020156Z
UID:10007904-1773685800-1773693000@www.wakedems.org
SUMMARY:Garner Dems on Tap
DESCRIPTION:
URL:https://www.wakedems.org/wcdp-event/garner-dems-on-tap/2026-03-16/
ATTACH;FMTTYPE=image/jpeg:https://www.wakedems.org/wp-content/uploads/2024/01/SocialEvent1.jpg
ORGANIZER;CN="South Wake VC":MAILTO:southwakevc@wakedems.org
END:VEVENT
BEGIN:VEVENT
DTSTART;TZID=America/New_York:20260309T190000
DTEND;TZID=America/New_York:20260309T210000
DTSTAMP:20260421T112259
CREATED:20260113T014742Z
LAST-MODIFIED:20260113T014742Z
UID:10007832-1773082800-1773090000@www.wakedems.org
SUMMARY:Holly Springs Dems on Tap
DESCRIPTION:
URL:https://www.wakedems.org/wcdp-event/holly-springs-dems-on-tap/2026-03-09/
ATTACH;FMTTYPE=image/jpeg:https://www.wakedems.org/wp-content/uploads/2024/01/SocialEvent1.jpg
ORGANIZER;CN="South Wake VC":MAILTO:southwakevc@wakedems.org
END:VEVENT
BEGIN:VEVENT
DTSTART;TZID=America/New_York:20260216T183000
DTEND;TZID=America/New_York:20260216T203000
DTSTAMP:20260421T112259
CREATED:20260113T015953Z
LAST-MODIFIED:20260113T020156Z
UID:10007903-1771266600-1771273800@www.wakedems.org
SUMMARY:Garner Dems on Tap
DESCRIPTION:
URL:https://www.wakedems.org/wcdp-event/garner-dems-on-tap/2026-02-16/
ATTACH;FMTTYPE=image/jpeg:https://www.wakedems.org/wp-content/uploads/2024/01/SocialEvent1.jpg
ORGANIZER;CN="South Wake VC":MAILTO:southwakevc@wakedems.org
END:VEVENT
BEGIN:VEVENT
DTSTART;TZID=America/New_York:20260209T190000
DTEND;TZID=America/New_York:20260209T210000
DTSTAMP:20260421T112259
CREATED:20260113T014742Z
LAST-MODIFIED:20260113T014742Z
UID:10007831-1770663600-1770670800@www.wakedems.org
SUMMARY:Holly Springs Dems on Tap
DESCRIPTION:
URL:https://www.wakedems.org/wcdp-event/holly-springs-dems-on-tap/2026-02-09/
ATTACH;FMTTYPE=image/jpeg:https://www.wakedems.org/wp-content/uploads/2024/01/SocialEvent1.jpg
ORGANIZER;CN="South Wake VC":MAILTO:southwakevc@wakedems.org
END:VEVENT
BEGIN:VEVENT
DTSTART;TZID=America/New_York:20260126T183000
DTEND;TZID=America/New_York:20260126T203000
DTSTAMP:20260421T112259
CREATED:20260113T020234Z
LAST-MODIFIED:20260113T020249Z
UID:10007902-1769452200-1769459400@www.wakedems.org
SUMMARY:Garner Dems on Tap
DESCRIPTION:
URL:https://www.wakedems.org/wcdp-event/garner-dems-on-tap-2/
ATTACH;FMTTYPE=image/jpeg:https://www.wakedems.org/wp-content/uploads/2024/01/SocialEvent1.jpg
ORGANIZER;CN="South Wake VC":MAILTO:southwakevc@wakedems.org
END:VEVENT
END:VCALENDAR