BEGIN:VCALENDAR
VERSION:2.0
PRODID:-//Wake County Democratic Party - ECPv6.15.20//NONSGML v1.0//EN
CALSCALE:GREGORIAN
METHOD:PUBLISH
X-WR-CALNAME:Wake County Democratic Party
X-ORIGINAL-URL:https://www.wakedems.org
X-WR-CALDESC:Events for Wake County Democratic Party
REFRESH-INTERVAL;VALUE=DURATION:PT1H
X-Robots-Tag:noindex
X-PUBLISHED-TTL:PT1H
BEGIN:VTIMEZONE
TZID:America/New_York
BEGIN:DAYLIGHT
TZOFFSETFROM:-0500
TZOFFSETTO:-0400
TZNAME:EDT
DTSTART:20240310T070000
END:DAYLIGHT
BEGIN:STANDARD
TZOFFSETFROM:-0400
TZOFFSETTO:-0500
TZNAME:EST
DTSTART:20241103T060000
END:STANDARD
BEGIN:DAYLIGHT
TZOFFSETFROM:-0500
TZOFFSETTO:-0400
TZNAME:EDT
DTSTART:20250309T070000
END:DAYLIGHT
BEGIN:STANDARD
TZOFFSETFROM:-0400
TZOFFSETTO:-0500
TZNAME:EST
DTSTART:20251102T060000
END:STANDARD
BEGIN:DAYLIGHT
TZOFFSETFROM:-0500
TZOFFSETTO:-0400
TZNAME:EDT
DTSTART:20260308T070000
END:DAYLIGHT
BEGIN:STANDARD
TZOFFSETFROM:-0400
TZOFFSETTO:-0500
TZNAME:EST
DTSTART:20261101T060000
END:STANDARD
END:VTIMEZONE
BEGIN:VEVENT
DTSTART;TZID=America/New_York:20251017T180000
DTEND;TZID=America/New_York:20251017T193000
DTSTAMP:20260422T000551
CREATED:20251013T203249Z
LAST-MODIFIED:20251013T203249Z
UID:10007552-1760724000-1760729400@www.wakedems.org
SUMMARY:GOTV Canvass: Morrisville
DESCRIPTION:Come knock doors with us! \nWe’ll be talking to Democrats and left-leaning voters who don’t vote consistently in midterms and municipal elections. The conversations we’ll have won’t just help us win every municipal election this fall — we’ll also be laying the groundwork to send Roy Cooper to the US Senate and re-elect Anita Earls in 2026! \nWe’ll provide training\, literature\, drinks\, and snacks. All you have to do is sign up and show up. \n\nCheck out the signup options for first-time canvassers and silent partners\, so there’s an easy way to get involved no matter your experience level. And remember\, we always provide maps and hands-on training beforehand\, and partner experienced canvassers with new folks\, so that everyone feels comfortable and confident before we head out in pairs into the neighborhood\, to speak with friendly fellow Democratic voters.
URL:https://www.wakedems.org/wcdp-event/gotv-canvass-morrisville-7/
LOCATION:Location will be emailed a few days prior to the event
CATEGORIES:Canvass,GOTV Canvass 2025
ATTACH;FMTTYPE=image/jpeg:https://www.wakedems.org/wp-content/uploads/2023/08/Canvass3.jpg
ORGANIZER;CN="Umstead Raleigh Area Coordinators":MAILTO:UmsteadRaleigh.ACS@wakedems.org
END:VEVENT
BEGIN:VEVENT
DTSTART;TZID=America/New_York:20250925T183000
DTEND;TZID=America/New_York:20250925T200000
DTSTAMP:20260422T000551
CREATED:20250831T152156Z
LAST-MODIFIED:20250903T095508Z
UID:10007023-1758825000-1758830400@www.wakedems.org
SUMMARY:WakeDems Candidate Kickoff – Meet the Morrisville endorsed candidates!
DESCRIPTION:WakeDems’ Glenwood and Umstead Raleigh areas invite you to a candidate kickoff featuring the Morrisville endorsed candidates! \nJoin us Thursday\, September 25th from 6:30-8 pm for a chance to learn from the candidates about their campaigns\, and the issues that matter in this WCDP municipality. We need all the help we can get knocking doors and making phone calls to registered voters\, and this is a great way to get up to speed\, and be ready for conversations Morrisville residents his fall! \nDon’t miss out on an opportunity to rally with fellow volunteers\, get fired up\, learn more about these key municipal races\, and do your part to make sure Democrats sweep at the polls this election season!
URL:https://www.wakedems.org/wcdp-event/wakedems-candidate-kickoff-meet-the-morrisville-endorsed-candidates/
LOCATION:Location will be emailed a few days in advance of event\, to those who have registered.
CATEGORIES:Area Meetings & Events,Candidate Event
ATTACH;FMTTYPE=image/jpeg:https://www.wakedems.org/wp-content/uploads/2023/08/CandidateEvent3.jpg
ORGANIZER;CN="Umstead Raleigh Area Coordinators":MAILTO:UmsteadRaleigh.ACS@wakedems.org
END:VEVENT
BEGIN:VEVENT
DTSTART;TZID=America/New_York:20250823T093000
DTEND;TZID=America/New_York:20250823T113000
DTSTAMP:20260422T000551
CREATED:20250730T194038Z
LAST-MODIFIED:20250815T180803Z
UID:10006940-1755941400-1755948600@www.wakedems.org
SUMMARY:Canvassing for newbies in Brier Creek's precinct 05-05
DESCRIPTION:Been wondering what doorknocking with WakeDems is like? We provide ample training\, pair you up with a veteran\, and only knock on the doors of Democratic-friendly households! \nIt’s a great way to help spread the word about upcoming events and ways to get involved with the Wake County Democratic Party! Been a while since you’ve canvassed\, or never been before? No problem! We welcome all – join us as a silent partner and simply observe – or if you’re a veteran help show someone else how it works and get plenty of practice – totally up to you! Sign up and show up – speaking with like-minded voters is a great investment of your time!
URL:https://www.wakedems.org/wcdp-event/canvassing-for-newbies-in-brier-creeks-precinct-05-05-2/
LOCATION:Location will be provided to registered attendees
CATEGORIES:Canvass,Precinct Meetings & Events
ATTACH;FMTTYPE=image/jpeg:https://www.wakedems.org/wp-content/uploads/2023/08/Canvass2.jpg
ORGANIZER;CN="Umstead Raleigh Area Coordinators":MAILTO:UmsteadRaleigh.ACS@wakedems.org
END:VEVENT
BEGIN:VEVENT
DTSTART;TZID=America/New_York:20250817T170000
DTEND;TZID=America/New_York:20250817T190000
DTSTAMP:20260422T000551
CREATED:20250730T193020Z
LAST-MODIFIED:20250815T163827Z
UID:10006939-1755450000-1755457200@www.wakedems.org
SUMMARY:Canvassing for newbies in Brier Creek's precinct 05-05
DESCRIPTION:Been wondering what doorknocking with WakeDems is like? We provide ample training\, pair you up with a veteran\, and only knock on the doors of Democratic-friendly households! \nIt’s a great way to help spread the word about upcoming events and ways to get involved with the Wake County Democratic Party! Been a while since you’ve canvassed\, or never been before? No problem! We welcome all – join us as a silent partner and simply observe – or if you’re a veteran help show someone else how it works and get plenty of practice – totally up to you! Sign up and show up – speaking with like-minded voters is a great investment of your time!
URL:https://www.wakedems.org/wcdp-event/canvassing-for-newbies-in-brier-creeks-precinct-05-05/
LOCATION:Location will be provided to registered attendees
CATEGORIES:Canvass,Precinct Meetings & Events
ATTACH;FMTTYPE=image/jpeg:https://www.wakedems.org/wp-content/uploads/2023/08/Canvass3.jpg
ORGANIZER;CN="Umstead Raleigh Area Coordinators":MAILTO:UmsteadRaleigh.ACS@wakedems.org
END:VEVENT
END:VCALENDAR