BEGIN:VCALENDAR
VERSION:2.0
PRODID:-//Wake County Democratic Party - ECPv6.15.20//NONSGML v1.0//EN
CALSCALE:GREGORIAN
METHOD:PUBLISH
X-ORIGINAL-URL:https://www.wakedems.org
X-WR-CALDESC:Events for Wake County Democratic Party
REFRESH-INTERVAL;VALUE=DURATION:PT1H
X-Robots-Tag:noindex
X-PUBLISHED-TTL:PT1H
BEGIN:VTIMEZONE
TZID:America/New_York
BEGIN:DAYLIGHT
TZOFFSETFROM:-0500
TZOFFSETTO:-0400
TZNAME:EDT
DTSTART:20250309T070000
END:DAYLIGHT
BEGIN:STANDARD
TZOFFSETFROM:-0400
TZOFFSETTO:-0500
TZNAME:EST
DTSTART:20251102T060000
END:STANDARD
BEGIN:DAYLIGHT
TZOFFSETFROM:-0500
TZOFFSETTO:-0400
TZNAME:EDT
DTSTART:20260308T070000
END:DAYLIGHT
BEGIN:STANDARD
TZOFFSETFROM:-0400
TZOFFSETTO:-0500
TZNAME:EST
DTSTART:20261101T060000
END:STANDARD
BEGIN:DAYLIGHT
TZOFFSETFROM:-0500
TZOFFSETTO:-0400
TZNAME:EDT
DTSTART:20270314T070000
END:DAYLIGHT
BEGIN:STANDARD
TZOFFSETFROM:-0400
TZOFFSETTO:-0500
TZNAME:EST
DTSTART:20271107T060000
END:STANDARD
END:VTIMEZONE
BEGIN:VEVENT
DTSTART;TZID=America/New_York:20260422T190000
DTEND;TZID=America/New_York:20260422T200000
DTSTAMP:20260421T183135
CREATED:20260325T210556Z
LAST-MODIFIED:20260325T215425Z
UID:10008161-1776884400-1776888000@www.wakedems.org
SUMMARY:VPB for DVC Leads - Hosting VPB Sessions
DESCRIPTION:This is the second of two one-hour training sessions that follow “Direct Voter Contact Lead 101\,” for DVC Leads and other precinct and area officers who organize Virtual Phone Banking (VPB) events.  \nPrerequisite: This session assumes that attendees have used the OpenVPB phone-banking platform and are familiar with its basic functions and navigation. DVC Leads and others who plan to host VPB training sessions for volunteers but are not yet familiar with OpenVPB’s functions should attend a VPB session as a volunteer first to receive training on OpenVPB. Check the Events Calendar for a “Virtual Phone Bank Training and Call Session” to register.  \nThis session covers how to host a virtual training session for volunteers in Google Meet\, including: \n\nThe basics of hosting training sessions in Google Meet\nAn outline and tips for training volunteers on OpenVPB\nAvailable training materials for DVC Leads and other local VPB organizers\nTips\, tricks\, and common technical support issues for assisting phone-banking volunteers\n\nOrganizers who will plan and organize VPB sessions for volunteers (in addition to conducting the actual training) also should register for and attend the preceding class to this one\, “VPB for DVC Leads – Planning VPB Sessions.”
URL:https://www.wakedems.org/wcdp-event/vpb-for-dvc-leads-hosting-vpb-sessions-2/
LOCATION:Zoom
CATEGORIES:Training Event,Training Event Virtual Phone Bank (VPB)
ATTACH;FMTTYPE=image/jpeg:https://www.wakedems.org/wp-content/uploads/2023/08/PhoneBank2.jpg
ORGANIZER;CN="vpb@wakedems.org":MAILTO:vpb@wakedems.org
END:VEVENT
BEGIN:VEVENT
DTSTART;TZID=America/New_York:20260428T190000
DTEND;TZID=America/New_York:20260428T200000
DTSTAMP:20260421T183135
CREATED:20260405T005445Z
LAST-MODIFIED:20260405T005647Z
UID:10008401-1777402800-1777406400@www.wakedems.org
SUMMARY:VPB for DVC Leads - Planning VPB Sessions
DESCRIPTION:This is the first of two one-hour training sessions that follow “Direct Voter Contact Lead 101\,” for DVC Leads and other precinct and area officers who will organize Virtual Phone Banking (VPB) events. This session covers the logistics of planning and setting up your virtual training session for volunteers in Google Meet\, including: \n\nCreating Google Meet sessions\nPosting events on the WCDP Events Calendar\nPre- and post-session communication with phone-banking volunteers\nWCDP’s toolkit for VPB organizers \n\nThe second session\, “VPB for DVC Leads – Hosting VPB Sessions\,” follows the “Planning” class. Organizers who also will host VPB sessions for volunteers should register for and attend the “Hosting” session\, also.
URL:https://www.wakedems.org/wcdp-event/vpb-for-dvc-leads-planning-vpb-sessions-3/
LOCATION:Zoom
CATEGORIES:Training Event,Training Event DVC Lead
ATTACH;FMTTYPE=image/jpeg:https://www.wakedems.org/wp-content/uploads/2024/01/TrainingEvent1.jpg
ORGANIZER;CN="vpb@wakedems.org":MAILTO:vpb@wakedems.org
END:VEVENT
BEGIN:VEVENT
DTSTART;TZID=America/New_York:20260430T190000
DTEND;TZID=America/New_York:20260430T200000
DTSTAMP:20260421T183135
CREATED:20260405T010312Z
LAST-MODIFIED:20260405T010624Z
UID:10008402-1777575600-1777579200@www.wakedems.org
SUMMARY:VPB for DVC Leads - Hosting VPB Sessions
DESCRIPTION:This is the second of two one-hour training sessions that follow “Direct Voter Contact Lead 101\,” for DVC Leads and other precinct and area officers who organize Virtual Phone Banking (VPB) events.  \nPrerequisite: This session assumes that attendees have used the OpenVPB phone-banking platform and are familiar with its basic functions and navigation. DVC Leads and others who plan to host VPB training sessions for volunteers but are not yet familiar with OpenVPB’s functions should attend a VPB session as a volunteer first to receive training on OpenVPB. Check the Events Calendar for a “Virtual Phone Bank Training and Call Session” to register.  \nThis session covers how to host a virtual training session for volunteers in Google Meet\, including: \n\nThe basics of hosting training sessions in Google Meet\nAn outline and tips for training volunteers on OpenVPB\nAvailable training materials for DVC Leads and other local VPB organizers\nTips\, tricks\, and common technical support issues for assisting phone-banking volunteers\n\nOrganizers who will plan and organize VPB sessions for volunteers (in addition to conducting the actual training) also should register for and attend the preceding class to this one\, “VPB for DVC Leads – Planning VPB Sessions.”
URL:https://www.wakedems.org/wcdp-event/vpb-for-dvc-leads-hosting-vpb-sessions-3/
LOCATION:Zoom
CATEGORIES:Training Event,Training Event DVC Lead
ATTACH;FMTTYPE=image/jpeg:https://www.wakedems.org/wp-content/uploads/2024/01/TrainingEvent1.jpg
ORGANIZER;CN="vpb@wakedems.org":MAILTO:vpb@wakedems.org
END:VEVENT
END:VCALENDAR