BEGIN:VCALENDAR
VERSION:2.0
PRODID:-//Wake County Democratic Party - ECPv6.15.20//NONSGML v1.0//EN
CALSCALE:GREGORIAN
METHOD:PUBLISH
X-ORIGINAL-URL:https://www.wakedems.org
X-WR-CALDESC:Events for Wake County Democratic Party
REFRESH-INTERVAL;VALUE=DURATION:PT1H
X-Robots-Tag:noindex
X-PUBLISHED-TTL:PT1H
BEGIN:VTIMEZONE
TZID:America/New_York
BEGIN:DAYLIGHT
TZOFFSETFROM:-0500
TZOFFSETTO:-0400
TZNAME:EDT
DTSTART:20250309T070000
END:DAYLIGHT
BEGIN:STANDARD
TZOFFSETFROM:-0400
TZOFFSETTO:-0500
TZNAME:EST
DTSTART:20251102T060000
END:STANDARD
BEGIN:DAYLIGHT
TZOFFSETFROM:-0500
TZOFFSETTO:-0400
TZNAME:EDT
DTSTART:20260308T070000
END:DAYLIGHT
BEGIN:STANDARD
TZOFFSETFROM:-0400
TZOFFSETTO:-0500
TZNAME:EST
DTSTART:20261101T060000
END:STANDARD
BEGIN:DAYLIGHT
TZOFFSETFROM:-0500
TZOFFSETTO:-0400
TZNAME:EDT
DTSTART:20270314T070000
END:DAYLIGHT
BEGIN:STANDARD
TZOFFSETFROM:-0400
TZOFFSETTO:-0500
TZNAME:EST
DTSTART:20271107T060000
END:STANDARD
END:VTIMEZONE
BEGIN:VEVENT
DTSTART;TZID=America/New_York:20260422T180000
DTEND;TZID=America/New_York:20260422T200000
DTSTAMP:20260421T195954
CREATED:20260326T204457Z
LAST-MODIFIED:20260326T204457Z
UID:10008169-1776880800-1776888000@www.wakedems.org
SUMMARY:West Cary Area Social
DESCRIPTION:Join us for the monthly West Cary Social — a relaxed evening meetup where neighbors can unwind\, connect\, and stay in the loop on what’s happening locally. Most months are purely social hangouts\, but from time to time we’ll also feature special guests or speakers to spark conversation and share insights.\nIt’s an easy\, low‑pressure way to meet fellow West Cary Dems\, build community\, and stay engaged at whatever level feels right for you.
URL:https://www.wakedems.org/wcdp-event/west-cary-area-social-2/2026-04-22/
LOCATION:Location will be provided to registered attendees
CATEGORIES:Area Meetings & Events,Social Event
ATTACH;FMTTYPE=image/jpeg:https://www.wakedems.org/wp-content/uploads/2024/01/SocialEvent1.jpg
ORGANIZER;CN="West Cary Area Coordinators":MAILTO:westcary.acs@wakedems.org
END:VEVENT
BEGIN:VEVENT
DTSTART;TZID=America/New_York:20260509T093000
DTEND;TZID=America/New_York:20260509T233000
DTSTAMP:20260421T195954
CREATED:20260325T211521Z
LAST-MODIFIED:20260325T211521Z
UID:10008163-1778319000-1778369400@www.wakedems.org
SUMMARY:West Cary Area Coffee Talk
DESCRIPTION:Join your West Cary neighbors for a relaxed\, drop‑in Coffee Talk. Grab a cup\, meet new folks\, and hear what we’re working on as we gear up for a big election year. This is an easy\, come‑as‑you‑are space to connect\, ask questions\, share ideas\, and plug into our community at whatever level feels right for you. \nWhether you’re brand‑new\, returning after some time away\, or already deeply involved\, you’re welcome at the table. \nLocation provided upon RSVP
URL:https://www.wakedems.org/wcdp-event/west-cary-area-coffee-talk/2026-05-09/
LOCATION:Location will be provided to registered attendees
CATEGORIES:Area Meetings & Events
ATTACH;FMTTYPE=image/jpeg:https://www.wakedems.org/wp-content/uploads/2023/08/Meeting-Area.jpg
ORGANIZER;CN="West Cary Area Coordinators":MAILTO:westcary.acs@wakedems.org
END:VEVENT
BEGIN:VEVENT
DTSTART;TZID=America/New_York:20260513T180000
DTEND;TZID=America/New_York:20260513T200000
DTSTAMP:20260421T195954
CREATED:20260326T204457Z
LAST-MODIFIED:20260326T204457Z
UID:10008170-1778695200-1778702400@www.wakedems.org
SUMMARY:West Cary Area Social
DESCRIPTION:Join us for the monthly West Cary Social — a relaxed evening meetup where neighbors can unwind\, connect\, and stay in the loop on what’s happening locally. Most months are purely social hangouts\, but from time to time we’ll also feature special guests or speakers to spark conversation and share insights.\nIt’s an easy\, low‑pressure way to meet fellow West Cary Dems\, build community\, and stay engaged at whatever level feels right for you.
URL:https://www.wakedems.org/wcdp-event/west-cary-area-social-2/2026-05-13/
LOCATION:Location will be provided to registered attendees
CATEGORIES:Area Meetings & Events,Social Event
ATTACH;FMTTYPE=image/jpeg:https://www.wakedems.org/wp-content/uploads/2024/01/SocialEvent1.jpg
ORGANIZER;CN="West Cary Area Coordinators":MAILTO:westcary.acs@wakedems.org
END:VEVENT
BEGIN:VEVENT
DTSTART;TZID=America/New_York:20260613T093000
DTEND;TZID=America/New_York:20260613T233000
DTSTAMP:20260421T195954
CREATED:20260325T211521Z
LAST-MODIFIED:20260325T211521Z
UID:10008164-1781343000-1781393400@www.wakedems.org
SUMMARY:West Cary Area Coffee Talk
DESCRIPTION:Join your West Cary neighbors for a relaxed\, drop‑in Coffee Talk. Grab a cup\, meet new folks\, and hear what we’re working on as we gear up for a big election year. This is an easy\, come‑as‑you‑are space to connect\, ask questions\, share ideas\, and plug into our community at whatever level feels right for you. \nWhether you’re brand‑new\, returning after some time away\, or already deeply involved\, you’re welcome at the table. \nLocation provided upon RSVP
URL:https://www.wakedems.org/wcdp-event/west-cary-area-coffee-talk/2026-06-13/
LOCATION:Location will be provided to registered attendees
CATEGORIES:Area Meetings & Events
ATTACH;FMTTYPE=image/jpeg:https://www.wakedems.org/wp-content/uploads/2023/08/Meeting-Area.jpg
ORGANIZER;CN="West Cary Area Coordinators":MAILTO:westcary.acs@wakedems.org
END:VEVENT
BEGIN:VEVENT
DTSTART;TZID=America/New_York:20260617T180000
DTEND;TZID=America/New_York:20260617T200000
DTSTAMP:20260421T195954
CREATED:20260326T204457Z
LAST-MODIFIED:20260326T204457Z
UID:10008171-1781719200-1781726400@www.wakedems.org
SUMMARY:West Cary Area Social
DESCRIPTION:Join us for the monthly West Cary Social — a relaxed evening meetup where neighbors can unwind\, connect\, and stay in the loop on what’s happening locally. Most months are purely social hangouts\, but from time to time we’ll also feature special guests or speakers to spark conversation and share insights.\nIt’s an easy\, low‑pressure way to meet fellow West Cary Dems\, build community\, and stay engaged at whatever level feels right for you.
URL:https://www.wakedems.org/wcdp-event/west-cary-area-social-2/2026-06-17/
LOCATION:Location will be provided to registered attendees
CATEGORIES:Area Meetings & Events,Social Event
ATTACH;FMTTYPE=image/jpeg:https://www.wakedems.org/wp-content/uploads/2024/01/SocialEvent1.jpg
ORGANIZER;CN="West Cary Area Coordinators":MAILTO:westcary.acs@wakedems.org
END:VEVENT
BEGIN:VEVENT
DTSTART;TZID=America/New_York:20260711T093000
DTEND;TZID=America/New_York:20260711T233000
DTSTAMP:20260421T195954
CREATED:20260325T211521Z
LAST-MODIFIED:20260325T211521Z
UID:10008165-1783762200-1783812600@www.wakedems.org
SUMMARY:West Cary Area Coffee Talk
DESCRIPTION:Join your West Cary neighbors for a relaxed\, drop‑in Coffee Talk. Grab a cup\, meet new folks\, and hear what we’re working on as we gear up for a big election year. This is an easy\, come‑as‑you‑are space to connect\, ask questions\, share ideas\, and plug into our community at whatever level feels right for you. \nWhether you’re brand‑new\, returning after some time away\, or already deeply involved\, you’re welcome at the table. \nLocation provided upon RSVP
URL:https://www.wakedems.org/wcdp-event/west-cary-area-coffee-talk/2026-07-11/
LOCATION:Location will be provided to registered attendees
CATEGORIES:Area Meetings & Events
ATTACH;FMTTYPE=image/jpeg:https://www.wakedems.org/wp-content/uploads/2023/08/Meeting-Area.jpg
ORGANIZER;CN="West Cary Area Coordinators":MAILTO:westcary.acs@wakedems.org
END:VEVENT
BEGIN:VEVENT
DTSTART;TZID=America/New_York:20260715T180000
DTEND;TZID=America/New_York:20260715T200000
DTSTAMP:20260421T195954
CREATED:20260326T204457Z
LAST-MODIFIED:20260326T204457Z
UID:10008172-1784138400-1784145600@www.wakedems.org
SUMMARY:West Cary Area Social
DESCRIPTION:Join us for the monthly West Cary Social — a relaxed evening meetup where neighbors can unwind\, connect\, and stay in the loop on what’s happening locally. Most months are purely social hangouts\, but from time to time we’ll also feature special guests or speakers to spark conversation and share insights.\nIt’s an easy\, low‑pressure way to meet fellow West Cary Dems\, build community\, and stay engaged at whatever level feels right for you.
URL:https://www.wakedems.org/wcdp-event/west-cary-area-social-2/2026-07-15/
LOCATION:Location will be provided to registered attendees
CATEGORIES:Area Meetings & Events,Social Event
ATTACH;FMTTYPE=image/jpeg:https://www.wakedems.org/wp-content/uploads/2024/01/SocialEvent1.jpg
ORGANIZER;CN="West Cary Area Coordinators":MAILTO:westcary.acs@wakedems.org
END:VEVENT
BEGIN:VEVENT
DTSTART;TZID=America/New_York:20260808T093000
DTEND;TZID=America/New_York:20260808T233000
DTSTAMP:20260421T195954
CREATED:20260325T211521Z
LAST-MODIFIED:20260325T211521Z
UID:10008166-1786181400-1786231800@www.wakedems.org
SUMMARY:West Cary Area Coffee Talk
DESCRIPTION:Join your West Cary neighbors for a relaxed\, drop‑in Coffee Talk. Grab a cup\, meet new folks\, and hear what we’re working on as we gear up for a big election year. This is an easy\, come‑as‑you‑are space to connect\, ask questions\, share ideas\, and plug into our community at whatever level feels right for you. \nWhether you’re brand‑new\, returning after some time away\, or already deeply involved\, you’re welcome at the table. \nLocation provided upon RSVP
URL:https://www.wakedems.org/wcdp-event/west-cary-area-coffee-talk/2026-08-08/
LOCATION:Location will be provided to registered attendees
CATEGORIES:Area Meetings & Events
ATTACH;FMTTYPE=image/jpeg:https://www.wakedems.org/wp-content/uploads/2023/08/Meeting-Area.jpg
ORGANIZER;CN="West Cary Area Coordinators":MAILTO:westcary.acs@wakedems.org
END:VEVENT
BEGIN:VEVENT
DTSTART;TZID=America/New_York:20260912T093000
DTEND;TZID=America/New_York:20260912T233000
DTSTAMP:20260421T195954
CREATED:20260325T211521Z
LAST-MODIFIED:20260325T211521Z
UID:10008167-1789205400-1789255800@www.wakedems.org
SUMMARY:West Cary Area Coffee Talk
DESCRIPTION:Join your West Cary neighbors for a relaxed\, drop‑in Coffee Talk. Grab a cup\, meet new folks\, and hear what we’re working on as we gear up for a big election year. This is an easy\, come‑as‑you‑are space to connect\, ask questions\, share ideas\, and plug into our community at whatever level feels right for you. \nWhether you’re brand‑new\, returning after some time away\, or already deeply involved\, you’re welcome at the table. \nLocation provided upon RSVP
URL:https://www.wakedems.org/wcdp-event/west-cary-area-coffee-talk/2026-09-12/
LOCATION:Location will be provided to registered attendees
CATEGORIES:Area Meetings & Events
ATTACH;FMTTYPE=image/jpeg:https://www.wakedems.org/wp-content/uploads/2023/08/Meeting-Area.jpg
ORGANIZER;CN="West Cary Area Coordinators":MAILTO:westcary.acs@wakedems.org
END:VEVENT
BEGIN:VEVENT
DTSTART;TZID=America/New_York:20261010T093000
DTEND;TZID=America/New_York:20261010T233000
DTSTAMP:20260421T195954
CREATED:20260325T211521Z
LAST-MODIFIED:20260325T211521Z
UID:10008168-1791624600-1791675000@www.wakedems.org
SUMMARY:West Cary Area Coffee Talk
DESCRIPTION:Join your West Cary neighbors for a relaxed\, drop‑in Coffee Talk. Grab a cup\, meet new folks\, and hear what we’re working on as we gear up for a big election year. This is an easy\, come‑as‑you‑are space to connect\, ask questions\, share ideas\, and plug into our community at whatever level feels right for you. \nWhether you’re brand‑new\, returning after some time away\, or already deeply involved\, you’re welcome at the table. \nLocation provided upon RSVP
URL:https://www.wakedems.org/wcdp-event/west-cary-area-coffee-talk/2026-10-10/
LOCATION:Location will be provided to registered attendees
CATEGORIES:Area Meetings & Events
ATTACH;FMTTYPE=image/jpeg:https://www.wakedems.org/wp-content/uploads/2023/08/Meeting-Area.jpg
ORGANIZER;CN="West Cary Area Coordinators":MAILTO:westcary.acs@wakedems.org
END:VEVENT
END:VCALENDAR