BEGIN:VCALENDAR
VERSION:2.0
PRODID:-//Wake County Democratic Party - ECPv6.15.20//NONSGML v1.0//EN
CALSCALE:GREGORIAN
METHOD:PUBLISH
X-WR-CALNAME:Wake County Democratic Party
X-ORIGINAL-URL:https://www.wakedems.org
X-WR-CALDESC:Events for Wake County Democratic Party
REFRESH-INTERVAL;VALUE=DURATION:PT1H
X-Robots-Tag:noindex
X-PUBLISHED-TTL:PT1H
BEGIN:VTIMEZONE
TZID:America/New_York
BEGIN:DAYLIGHT
TZOFFSETFROM:-0500
TZOFFSETTO:-0400
TZNAME:EDT
DTSTART:20240310T070000
END:DAYLIGHT
BEGIN:STANDARD
TZOFFSETFROM:-0400
TZOFFSETTO:-0500
TZNAME:EST
DTSTART:20241103T060000
END:STANDARD
BEGIN:DAYLIGHT
TZOFFSETFROM:-0500
TZOFFSETTO:-0400
TZNAME:EDT
DTSTART:20250309T070000
END:DAYLIGHT
BEGIN:STANDARD
TZOFFSETFROM:-0400
TZOFFSETTO:-0500
TZNAME:EST
DTSTART:20251102T060000
END:STANDARD
BEGIN:DAYLIGHT
TZOFFSETFROM:-0500
TZOFFSETTO:-0400
TZNAME:EDT
DTSTART:20260308T070000
END:DAYLIGHT
BEGIN:STANDARD
TZOFFSETFROM:-0400
TZOFFSETTO:-0500
TZNAME:EST
DTSTART:20261101T060000
END:STANDARD
BEGIN:DAYLIGHT
TZOFFSETFROM:-0500
TZOFFSETTO:-0400
TZNAME:EDT
DTSTART:20270314T070000
END:DAYLIGHT
BEGIN:STANDARD
TZOFFSETFROM:-0400
TZOFFSETTO:-0500
TZNAME:EST
DTSTART:20271107T060000
END:STANDARD
END:VTIMEZONE
BEGIN:VEVENT
DTSTART;TZID=America/New_York:20260415T160000
DTEND;TZID=America/New_York:20260415T190000
DTSTAMP:20260421T204516
CREATED:20260410T184157Z
LAST-MODIFIED:20260410T184157Z
UID:10008417-1776268800-1776279600@www.wakedems.org
SUMMARY:Canvass Literature Prep Party
DESCRIPTION:Join us to put together the literature for our Falls River Area Canvass on Saturday. We’ll be choosing the canvassing areas and putting together the packets for everyone in our precincts to use. We will email you the Falls River Area location a few days before the event.
URL:https://www.wakedems.org/wcdp-event/canvass-literature-prep-party/
LOCATION:Location will be emailed a few days prior to the event
CATEGORIES:Volunteer Events
ATTACH;FMTTYPE=image/jpeg:https://www.wakedems.org/wp-content/uploads/2023/08/Meeting-Area.jpg
ORGANIZER;CN="Falls River Dems":MAILTO:fallsriver.acs@wakedems.org
END:VEVENT
BEGIN:VEVENT
DTSTART;TZID=America/New_York:20260212T163000
DTEND;TZID=America/New_York:20260212T180000
DTSTAMP:20260421T204516
CREATED:20260203T193308Z
LAST-MODIFIED:20260203T193308Z
UID:10008007-1770913800-1770919200@www.wakedems.org
SUMMARY:Capital Forest Canvass
DESCRIPTION:Knock doors with us in an unorganized precinct in Capital Forest (Northeast Raleigh) to help build our volunteer base! We will be talking to Democrats and left-leaning Unaffiliated voters with high support scores\, so these will be friendly conversations encouraging our neighbors to join our efforts to elect Roy Cooper to the US Senate and Anita Earls to the State Supreme Court. First time canvassing? Our experienced canvassers would love to take you as a silent partner if that’s more comfortable for you.
URL:https://www.wakedems.org/wcdp-event/capital-forest-canvass/
LOCATION:Location will be emailed a few days prior to the event
CATEGORIES:Canvass
ATTACH;FMTTYPE=image/jpeg:https://www.wakedems.org/wp-content/uploads/2023/08/Canvass2.jpg
ORGANIZER;CN="Capital Forest Area":MAILTO:capitalforest.acs@wakedems.org
END:VEVENT
BEGIN:VEVENT
DTSTART;TZID=America/New_York:20260129T163000
DTEND;TZID=America/New_York:20260129T173000
DTSTAMP:20260421T204516
CREATED:20260109T204248Z
LAST-MODIFIED:20260109T204326Z
UID:10007813-1769704200-1769707800@www.wakedems.org
SUMMARY:Capital Forest PAM Canvass
DESCRIPTION:Join us in Northeast Raleigh as we canvass unorganized precincts ahead of Precinct Annual Meetings (PAM). Having strong precinct leadership is imperative to successful grassroots organizing and GOTV — especially for the midterms this year. Not an experienced canvasser? Prefer to go with a partner? We’ll have experienced volunteers who would love to go with you. You can even be a silent partner!
URL:https://www.wakedems.org/wcdp-event/capital-forest-pam-canvass/
LOCATION:Location will be emailed a few days prior to the event
CATEGORIES:Canvass
ATTACH;FMTTYPE=image/jpeg:https://www.wakedems.org/wp-content/uploads/2023/08/Canvass3.jpg
ORGANIZER;CN="Capital Forest Area":MAILTO:capitalforest.acs@wakedems.org
END:VEVENT
BEGIN:VEVENT
DTSTART;TZID=America/New_York:20251017T180000
DTEND;TZID=America/New_York:20251017T193000
DTSTAMP:20260421T204516
CREATED:20251013T203249Z
LAST-MODIFIED:20251013T203249Z
UID:10007552-1760724000-1760729400@www.wakedems.org
SUMMARY:GOTV Canvass: Morrisville
DESCRIPTION:Come knock doors with us! \nWe’ll be talking to Democrats and left-leaning voters who don’t vote consistently in midterms and municipal elections. The conversations we’ll have won’t just help us win every municipal election this fall — we’ll also be laying the groundwork to send Roy Cooper to the US Senate and re-elect Anita Earls in 2026! \nWe’ll provide training\, literature\, drinks\, and snacks. All you have to do is sign up and show up. \n\nCheck out the signup options for first-time canvassers and silent partners\, so there’s an easy way to get involved no matter your experience level. And remember\, we always provide maps and hands-on training beforehand\, and partner experienced canvassers with new folks\, so that everyone feels comfortable and confident before we head out in pairs into the neighborhood\, to speak with friendly fellow Democratic voters.
URL:https://www.wakedems.org/wcdp-event/gotv-canvass-morrisville-7/
LOCATION:Location will be emailed a few days prior to the event
CATEGORIES:Canvass,GOTV Canvass 2025
ATTACH;FMTTYPE=image/jpeg:https://www.wakedems.org/wp-content/uploads/2023/08/Canvass3.jpg
ORGANIZER;CN="Umstead Raleigh Area Coordinators":MAILTO:UmsteadRaleigh.ACS@wakedems.org
END:VEVENT
BEGIN:VEVENT
DTSTART;TZID=America/New_York:20250920T093000
DTEND;TZID=America/New_York:20250920T120000
DTSTAMP:20260421T204516
CREATED:20250910T010935Z
LAST-MODIFIED:20250910T010935Z
UID:10007120-1758360600-1758369600@www.wakedems.org
SUMMARY:Apex 20-08 GOTV Canvass
DESCRIPTION:20-08 Vice Chair Kev Creech will host this canvass. Meet at 9:30am for the kick-off – hear from candidates\, training\, canvass lit\, and partnering. Launch by 10am and canvass until 12pm. Return between 11:45am-12:10pm for a debrief\, lit drop off\, and refreshments. (Rain date is 9/21\, 12:30 kick-off and canvassing from 1:00pm till 3:00pm.). \nNear Baucom Elementary School in Apex.
URL:https://www.wakedems.org/wcdp-event/apex-20-08-gotv-canvass/
LOCATION:Location will be emailed a few days prior to the event
CATEGORIES:GOTV Canvass 2025
ATTACH;FMTTYPE=image/jpeg:https://www.wakedems.org/wp-content/uploads/2023/08/Canvass3.jpg
ORGANIZER;CN="Precinct 20-08":MAILTO:Precinct20-08@wakedems.org
END:VEVENT
BEGIN:VEVENT
DTSTART;TZID=America/New_York:20250918T173000
DTEND;TZID=America/New_York:20250918T190000
DTSTAMP:20260421T204516
CREATED:20250908T235400Z
LAST-MODIFIED:20250908T235400Z
UID:10007119-1758216600-1758222000@www.wakedems.org
SUMMARY:Apex Precinct 20-08 Quick Canvass
DESCRIPTION:Precinct 20-08 Vice Chair Kev Creech will host this evening canvass. Arrive by 5:30pm for training\, canvassing lit\, and a 5:50pm quick canvass launch. This is ideal for new canvassers or folks who are busy on the weekends. Hit some doors and talk to a few folks (all Dems and left-leaning unaffiliateds) about the upcoming election during this power-hour. \nNear Baucom Elementary School in Apex.
URL:https://www.wakedems.org/wcdp-event/apex-precinct-20-08-quick-canvass/
LOCATION:Location will be emailed a few days prior to the event
CATEGORIES:Canvass,GOTV Canvass 2025
ATTACH;FMTTYPE=image/jpeg:https://www.wakedems.org/wp-content/uploads/2023/08/Canvass2.jpg
ORGANIZER;CN="Precinct 20-08":MAILTO:Precinct20-08@wakedems.org
END:VEVENT
BEGIN:VEVENT
DTSTART;TZID=America/New_York:20250802T093000
DTEND;TZID=America/New_York:20250802T120000
DTSTAMP:20260421T204516
CREATED:20250709T200142Z
LAST-MODIFIED:20250710T040633Z
UID:10006775-1754127000-1754136000@www.wakedems.org
SUMMARY:Precinct 07-10 Canvassing Event
DESCRIPTION:Low-key canvassing in Precinct 07-10 with the purpose of sharing news about upcoming events and inviting neighbors to join the fight.  In person training begins at 9:30. From 10 – noon we’ll canvass.  Tag-alongs-to learn are welcome!  (Meeting location will be shared the day before on 8/1)
URL:https://www.wakedems.org/wcdp-event/precinct-07-10-canvassing-event-2/
LOCATION:Location will be emailed a few days prior to the event
CATEGORIES:Canvass
ATTACH;FMTTYPE=image/jpeg:https://www.wakedems.org/wp-content/uploads/2023/08/Canvass3.jpg
ORGANIZER;CN="Precinct 07-10":MAILTO:precinct07-10@wakedems.org
END:VEVENT
BEGIN:VEVENT
DTSTART;TZID=America/New_York:20250722T180000
DTEND;TZID=America/New_York:20250722T190000
DTSTAMP:20260421T204516
CREATED:20250716T203803Z
LAST-MODIFIED:20250716T203803Z
UID:10006795-1753207200-1753210800@www.wakedems.org
SUMMARY:Precinct 20-15 Get Together
DESCRIPTION:Come meet with our West Cary Precinct and talk about plans for the upcoming elections.
URL:https://www.wakedems.org/wcdp-event/precinct-20-15-get-together/
LOCATION:Location will be emailed a few days prior to the event
CATEGORIES:Precinct Meetings & Events
ATTACH;FMTTYPE=image/jpeg:https://www.wakedems.org/wp-content/uploads/2023/08/PrecinctMeeting.jpg
ORGANIZER;CN="Rachel Jordan":MAILTO:jordanrachel@gmail.com
END:VEVENT
END:VCALENDAR