BEGIN:VCALENDAR
VERSION:2.0
PRODID:-//Wake County Democratic Party - ECPv6.15.20//NONSGML v1.0//EN
CALSCALE:GREGORIAN
METHOD:PUBLISH
X-WR-CALNAME:Wake County Democratic Party
X-ORIGINAL-URL:https://www.wakedems.org
X-WR-CALDESC:Events for Wake County Democratic Party
REFRESH-INTERVAL;VALUE=DURATION:PT1H
X-Robots-Tag:noindex
X-PUBLISHED-TTL:PT1H
BEGIN:VTIMEZONE
TZID:America/New_York
BEGIN:DAYLIGHT
TZOFFSETFROM:-0500
TZOFFSETTO:-0400
TZNAME:EDT
DTSTART:20240310T070000
END:DAYLIGHT
BEGIN:STANDARD
TZOFFSETFROM:-0400
TZOFFSETTO:-0500
TZNAME:EST
DTSTART:20241103T060000
END:STANDARD
BEGIN:DAYLIGHT
TZOFFSETFROM:-0500
TZOFFSETTO:-0400
TZNAME:EDT
DTSTART:20250309T070000
END:DAYLIGHT
BEGIN:STANDARD
TZOFFSETFROM:-0400
TZOFFSETTO:-0500
TZNAME:EST
DTSTART:20251102T060000
END:STANDARD
BEGIN:DAYLIGHT
TZOFFSETFROM:-0500
TZOFFSETTO:-0400
TZNAME:EDT
DTSTART:20260308T070000
END:DAYLIGHT
BEGIN:STANDARD
TZOFFSETFROM:-0400
TZOFFSETTO:-0500
TZNAME:EST
DTSTART:20261101T060000
END:STANDARD
BEGIN:DAYLIGHT
TZOFFSETFROM:-0500
TZOFFSETTO:-0400
TZNAME:EDT
DTSTART:20270314T070000
END:DAYLIGHT
BEGIN:STANDARD
TZOFFSETFROM:-0400
TZOFFSETTO:-0500
TZNAME:EST
DTSTART:20271107T060000
END:STANDARD
END:VTIMEZONE
BEGIN:VEVENT
DTSTART;TZID=America/New_York:20260216T183000
DTEND;TZID=America/New_York:20260216T203000
DTSTAMP:20260422T015226
CREATED:20251008T032945Z
LAST-MODIFIED:20251008T032950Z
UID:10007546-1771266600-1771273800@www.wakedems.org
SUMMARY:Garner Democracy on Tap
DESCRIPTION:All are welcome\, guest speakers will be announced via the Garner Dems Facebook Page and the Garner Dem Website.\n(3rd Monday of the month)\nTime: 6:30pm – 8:30pm\nLocation: The Beerded Lady Bottle Shop\nAddress: 1350 5th Ave #170\, Garner\, NC 27529
URL:https://www.wakedems.org/wcdp-event/garner-democracy-on-tap-2-3-2/2026-02-16/
LOCATION:The Beerded Lady Bottle Shop\, 1350 5th Ave #170\, Garner\, 27529\, United States
ATTACH;FMTTYPE=image/jpeg:https://www.wakedems.org/wp-content/uploads/2024/01/SocialEvent1.jpg
ORGANIZER;CN="Donna Friend":MAILTO:southwakevc@wakedems.org
END:VEVENT
BEGIN:VEVENT
DTSTART;TZID=America/New_York:20251215T183000
DTEND;TZID=America/New_York:20251215T203000
DTSTAMP:20260422T015226
CREATED:20251008T032945Z
LAST-MODIFIED:20251008T032950Z
UID:10007544-1765823400-1765830600@www.wakedems.org
SUMMARY:Garner Democracy on Tap
DESCRIPTION:All are welcome\, guest speakers will be announced via the Garner Dems Facebook Page and the Garner Dem Website.\n(3rd Monday of the month)\nTime: 6:30pm – 8:30pm\nLocation: The Beerded Lady Bottle Shop\nAddress: 1350 5th Ave #170\, Garner\, NC 27529
URL:https://www.wakedems.org/wcdp-event/garner-democracy-on-tap-2-3-2/2025-12-15/
LOCATION:The Beerded Lady Bottle Shop\, 1350 5th Ave #170\, Garner\, 27529\, United States
ATTACH;FMTTYPE=image/jpeg:https://www.wakedems.org/wp-content/uploads/2024/01/SocialEvent1.jpg
ORGANIZER;CN="Donna Friend":MAILTO:southwakevc@wakedems.org
END:VEVENT
BEGIN:VEVENT
DTSTART;TZID=America/New_York:20251117T183000
DTEND;TZID=America/New_York:20251117T203000
DTSTAMP:20260422T015226
CREATED:20251008T032945Z
LAST-MODIFIED:20251008T032950Z
UID:10007543-1763404200-1763411400@www.wakedems.org
SUMMARY:Garner Democracy on Tap
DESCRIPTION:All are welcome\, guest speakers will be announced via the Garner Dems Facebook Page and the Garner Dem Website.\n(3rd Monday of the month)\nTime: 6:30pm – 8:30pm\nLocation: The Beerded Lady Bottle Shop\nAddress: 1350 5th Ave #170\, Garner\, NC 27529
URL:https://www.wakedems.org/wcdp-event/garner-democracy-on-tap-2-3-2/2025-11-17/
LOCATION:The Beerded Lady Bottle Shop\, 1350 5th Ave #170\, Garner\, 27529\, United States
ATTACH;FMTTYPE=image/jpeg:https://www.wakedems.org/wp-content/uploads/2024/01/SocialEvent1.jpg
ORGANIZER;CN="Donna Friend":MAILTO:southwakevc@wakedems.org
END:VEVENT
BEGIN:VEVENT
DTSTART;TZID=America/New_York:20251020T183000
DTEND;TZID=America/New_York:20251020T203000
DTSTAMP:20260422T015226
CREATED:20251008T032945Z
LAST-MODIFIED:20251008T032950Z
UID:10006987-1760985000-1760992200@www.wakedems.org
SUMMARY:Garner Democracy on Tap
DESCRIPTION:All are welcome\, guest speakers will be announced via the Garner Dems Facebook Page and the Garner Dem Website.\n(3rd Monday of the month)\nTime: 6:30pm – 8:30pm\nLocation: The Beerded Lady Bottle Shop\nAddress: 1350 5th Ave #170\, Garner\, NC 27529
URL:https://www.wakedems.org/wcdp-event/garner-democracy-on-tap-2-3-2/2025-10-20/
LOCATION:The Beerded Lady Bottle Shop\, 1350 5th Ave #170\, Garner\, 27529\, United States
ATTACH;FMTTYPE=image/jpeg:https://www.wakedems.org/wp-content/uploads/2024/01/SocialEvent1.jpg
ORGANIZER;CN="Donna Friend":MAILTO:southwakevc@wakedems.org
END:VEVENT
BEGIN:VEVENT
DTSTART;TZID=America/New_York:20250918T183000
DTEND;TZID=America/New_York:20250918T203000
DTSTAMP:20260422T015226
CREATED:20250815T164208Z
LAST-MODIFIED:20250815T164209Z
UID:10006986-1758220200-1758227400@www.wakedems.org
SUMMARY:Garner Democracy on Tap
DESCRIPTION:All are welcome\, guest speakers will be announced via the Garner Dems Facebook Page and the Garner Dem Website.\n(3rd Monday of the month)\nTime: 6:30pm – 8:30pm\nLocation: The Beerded Lady Bottle Shop\nAddress: 1350 5th Ave #170\, Garner\, NC 27529
URL:https://www.wakedems.org/wcdp-event/garner-democracy-on-tap-2-3/2025-09-18/
LOCATION:The Beerded Lady Bottle Shop\, 1350 5th Ave #170\, Garner\, 27529\, United States
ATTACH;FMTTYPE=image/jpeg:https://www.wakedems.org/wp-content/uploads/2024/01/SocialEvent1.jpg
ORGANIZER;CN="Donna Friend":MAILTO:southwakevc@wakedems.org
END:VEVENT
BEGIN:VEVENT
DTSTART;TZID=America/New_York:20250818T183000
DTEND;TZID=America/New_York:20250818T203000
DTSTAMP:20260422T015226
CREATED:20250815T164208Z
LAST-MODIFIED:20250815T164209Z
UID:10006611-1755541800-1755549000@www.wakedems.org
SUMMARY:Garner Democracy on Tap
DESCRIPTION:All are welcome\, guest speakers will be announced via the Garner Dems Facebook Page and the Garner Dem Website.\n(3rd Monday of the month)\nTime: 6:30pm – 8:30pm\nLocation: The Beerded Lady Bottle Shop\nAddress: 1350 5th Ave #170\, Garner\, NC 27529
URL:https://www.wakedems.org/wcdp-event/garner-democracy-on-tap-2-3/2025-08-18/
LOCATION:The Beerded Lady Bottle Shop\, 1350 5th Ave #170\, Garner\, 27529\, United States
ATTACH;FMTTYPE=image/jpeg:https://www.wakedems.org/wp-content/uploads/2024/01/SocialEvent1.jpg
ORGANIZER;CN="Donna Friend":MAILTO:southwakevc@wakedems.org
END:VEVENT
BEGIN:VEVENT
DTSTART;TZID=America/New_York:20250721T183000
DTEND;TZID=America/New_York:20250721T203000
DTSTAMP:20260422T015226
CREATED:20250719T190548Z
LAST-MODIFIED:20250719T190551Z
UID:10006610-1753122600-1753129800@www.wakedems.org
SUMMARY:[CANCELED] Garner Democracy on Tap
DESCRIPTION:All are welcome\, guest speakers will be announced via the Garner Dems Facebook Page and the Garner Dem Website.\n(3rd Monday of the month)\nTime: 6:30pm – 8:30pm\nLocation: The Beerded Lady Bottle Shop\nAddress: 1350 5th Ave #170\, Garner\, NC 27529
URL:https://www.wakedems.org/wcdp-event/garner-democracy-on-tap-2-2/
LOCATION:The Beerded Lady Bottle Shop\, 1350 5th Ave #170\, Garner\, 27529\, United States
ATTACH;FMTTYPE=image/jpeg:https://www.wakedems.org/wp-content/uploads/2024/01/SocialEvent1.jpg
ORGANIZER;CN="Donna Friend":MAILTO:southwakevc@wakedems.org
END:VEVENT
BEGIN:VEVENT
DTSTART;TZID=America/New_York:20250616T183000
DTEND;TZID=America/New_York:20250616T203000
DTSTAMP:20260422T015226
CREATED:20250616T202144Z
LAST-MODIFIED:20250616T202214Z
UID:10006609-1750098600-1750105800@www.wakedems.org
SUMMARY:Garner Democracy on Tap
DESCRIPTION:All are welcome\, guest speakers will be announced via the Garner Dems Facebook Page and the Garner Dem Website.\n(3rd Monday of the month)\nTime: 6:30pm – 8:30pm\nLocation: The Beerded Lady Bottle Shop\nAddress: 1350 5th Ave #170\, Garner\, NC 27529
URL:https://www.wakedems.org/wcdp-event/garner-democracy-on-tap-2/2025-06-16/
LOCATION:The Beerded Lady Bottle Shop\, 1350 5th Ave #170\, Garner\, 27529\, United States
ATTACH;FMTTYPE=image/jpeg:https://www.wakedems.org/wp-content/uploads/2024/01/SocialEvent1.jpg
ORGANIZER;CN="Donna Friend":MAILTO:southwakevc@wakedems.org
END:VEVENT
BEGIN:VEVENT
DTSTART;TZID=America/New_York:20250613T183000
DTEND;TZID=America/New_York:20250613T203000
DTSTAMP:20260422T015226
CREATED:20250616T202144Z
LAST-MODIFIED:20250616T202214Z
UID:10006608-1749839400-1749846600@www.wakedems.org
SUMMARY:Garner Democracy on Tap
DESCRIPTION:All are welcome\, guest speakers will be announced via the Garner Dems Facebook Page and the Garner Dem Website.\n(3rd Monday of the month)\nTime: 6:30pm – 8:30pm\nLocation: The Beerded Lady Bottle Shop\nAddress: 1350 5th Ave #170\, Garner\, NC 27529
URL:https://www.wakedems.org/wcdp-event/garner-democracy-on-tap-2/2025-06-13/
LOCATION:The Beerded Lady Bottle Shop\, 1350 5th Ave #170\, Garner\, 27529\, United States
ATTACH;FMTTYPE=image/jpeg:https://www.wakedems.org/wp-content/uploads/2024/01/SocialEvent1.jpg
ORGANIZER;CN="Donna Friend":MAILTO:southwakevc@wakedems.org
END:VEVENT
BEGIN:VEVENT
DTSTART;TZID=America/New_York:20250519T183000
DTEND;TZID=America/New_York:20250519T203000
DTSTAMP:20260422T015226
CREATED:20250413T144736Z
LAST-MODIFIED:20250413T144736Z
UID:10006335-1747679400-1747686600@www.wakedems.org
SUMMARY:Garner Democracy on Tap
DESCRIPTION:All are welcome\, guest speakers will be announced via the Garner Dems Facebook Page and the Garner Dem Website.\n(3rd Monday of the month)\nTime: 6:30pm – 8:30pm\nLocation: The Beerded Lady Bottle Shop\nAddress: 1350 5th Ave #170\, Garner\, NC 27529
URL:https://www.wakedems.org/wcdp-event/garner-democracy-on-tap/
LOCATION:The Beerded Lady Bottle Shop\, 1350 5th Ave #170\, Garner\, 27529\, United States
ATTACH;FMTTYPE=image/jpeg:https://www.wakedems.org/wp-content/uploads/2024/01/SocialEvent1.jpg
ORGANIZER;CN="Donna Friend":MAILTO:southwakevc@wakedems.org
END:VEVENT
END:VCALENDAR