BEGIN:VCALENDAR
VERSION:2.0
PRODID:-//Wake County Democratic Party - ECPv6.15.20//NONSGML v1.0//EN
CALSCALE:GREGORIAN
METHOD:PUBLISH
X-WR-CALNAME:Wake County Democratic Party
X-ORIGINAL-URL:https://www.wakedems.org
X-WR-CALDESC:Events for Wake County Democratic Party
REFRESH-INTERVAL;VALUE=DURATION:PT1H
X-Robots-Tag:noindex
X-PUBLISHED-TTL:PT1H
BEGIN:VTIMEZONE
TZID:America/New_York
BEGIN:DAYLIGHT
TZOFFSETFROM:-0500
TZOFFSETTO:-0400
TZNAME:EDT
DTSTART:20250309T070000
END:DAYLIGHT
BEGIN:STANDARD
TZOFFSETFROM:-0400
TZOFFSETTO:-0500
TZNAME:EST
DTSTART:20251102T060000
END:STANDARD
BEGIN:DAYLIGHT
TZOFFSETFROM:-0500
TZOFFSETTO:-0400
TZNAME:EDT
DTSTART:20260308T070000
END:DAYLIGHT
BEGIN:STANDARD
TZOFFSETFROM:-0400
TZOFFSETTO:-0500
TZNAME:EST
DTSTART:20261101T060000
END:STANDARD
BEGIN:DAYLIGHT
TZOFFSETFROM:-0500
TZOFFSETTO:-0400
TZNAME:EDT
DTSTART:20270314T070000
END:DAYLIGHT
BEGIN:STANDARD
TZOFFSETFROM:-0400
TZOFFSETTO:-0500
TZNAME:EST
DTSTART:20271107T060000
END:STANDARD
END:VTIMEZONE
BEGIN:VEVENT
DTSTART;TZID=America/New_York:20260420T180000
DTEND;TZID=America/New_York:20260420T200000
DTSTAMP:20260420T061556
CREATED:20260418T175541Z
LAST-MODIFIED:20260418T180310Z
UID:10008538-1776708000-1776715200@www.wakedems.org
SUMMARY:Wake Dems 4/20 Social
DESCRIPTION:Join party leaders and elected officials for a community rally to legalize cannabis in NC!
URL:https://www.wakedems.org/wcdp-event/wake-dems-4-20-social/
LOCATION:Location will be provided to registered attendees
ATTACH;FMTTYPE=image/jpeg:https://www.wakedems.org/wp-content/uploads/2026/04/420-Video.jpg
END:VEVENT
BEGIN:VEVENT
DTSTART;TZID=America/New_York:20260420T183000
DTEND;TZID=America/New_York:20260420T194500
DTSTAMP:20260420T061556
CREATED:20260325T033917Z
LAST-MODIFIED:20260418T180345Z
UID:10008174-1776709800-1776714300@www.wakedems.org
SUMMARY:Technology Level 2 Training
DESCRIPTION:Join us for Technology Level 2 Training during which we will share information to support your success as a precinct leader. Topics and discussion will include: \n\nAn in-depth look & practice on how to use Google Drives\, Docs\, Forms\, Chat\, Calendar (and office hours)\, and Meet\nReview of key Precinct Specific Dashboards\n\nPrecinct Officers\, Area Coordinators\, and Regional Vice Chairs are encouraged and welcome to attend. Sign up below. \nQuestions? Please email Linda Ippolito at: secondvc@wakedems.org\n\n\n                \n                        LinkedInThis field is for validation purposes and should be left unchanged.Technology Level 2 TrainingName(Required)\n                            \n                            \n                                                    \n                                                    First Name\n                                                \n                            \n                            \n                                                    \n                                                    Last Name\n                                                \n                            \n                        Email(Required)\n                                \n                                    \n                                    Enter Email\n                                \n                                \n                                    \n                                    Confirm Email\n                                \n                                \n                            Registration Date & Time(Required)\n			\n					\n					Thurs\, April 16th 6:30pm - 7:45pm\n			\n			\n					\n					Mon\, April 20th 6:30pm - 7:45pm\n			What is your role in WCDP?(Required)-- Select --Area CoordinatorDirect Voter Contact (DVC) LeadPrecinct ChairPrecinct Vice ChairPrecinct SecretaryRegional Vice ChairOtherOther WCDP Role(Required)Which precinct are you in?(Required)(Please use the format ##-## - Find your precinct number by clicking here.)What is your Area?(Required)-- Select --ApexCapital ForestCentennialCentral CaryDowntown NorthEast RaleighEast WakeFalls RiverGarnerGlenwoodHolly SpringsKnightdaleLakesMidtownMorrisvilleNorth CaryNorth HillsNortheast WakeSouth CarySoutheast RaleighSouthern SpringsUmstead RaleighWest Cary
URL:https://www.wakedems.org/wcdp-event/technology-level-2-training-2/
LOCATION:Virtual via Zoom
CATEGORIES:Training Event,Training Event Tech 2
ATTACH;FMTTYPE=image/jpeg:https://www.wakedems.org/wp-content/uploads/2023/08/TrainingEvent3.jpg
ORGANIZER;CN="Training Team":MAILTO:secondvc@wakedems.org
END:VEVENT
BEGIN:VEVENT
DTSTART;TZID=America/New_York:20260420T183000
DTEND;TZID=America/New_York:20260420T203000
DTSTAMP:20260420T061556
CREATED:20260113T015953Z
LAST-MODIFIED:20260113T020156Z
UID:10007905-1776709800-1776717000@www.wakedems.org
SUMMARY:Garner Dems on Tap
DESCRIPTION:
URL:https://www.wakedems.org/wcdp-event/garner-dems-on-tap/2026-04-20/
ATTACH;FMTTYPE=image/jpeg:https://www.wakedems.org/wp-content/uploads/2024/01/SocialEvent1.jpg
ORGANIZER;CN="South Wake VC":MAILTO:southwakevc@wakedems.org
END:VEVENT
BEGIN:VEVENT
DTSTART;TZID=America/New_York:20260420T190000
DTEND;TZID=America/New_York:20260420T200000
DTSTAMP:20260420T061556
CREATED:20260325T205125Z
LAST-MODIFIED:20260325T214910Z
UID:10008159-1776711600-1776715200@www.wakedems.org
SUMMARY:VPB for DVC Leads - Planning VPB Sessions
DESCRIPTION:This is the first of two one-hour training sessions that follow “Direct Voter Contact Lead 101\,” for DVC Leads and other precinct and area officers who will organize Virtual Phone Banking (VPB) events. This session covers the logistics of planning and setting up your virtual training session for volunteers in Google Meet\, including: \n\nCreating Google Meet sessions\nPosting events on the WCDP Events Calendar\nPre- and post-session communication with phone-banking volunteers\nWCDP’s toolkit for VPB organizers \n\nThe second session\, “VPB for DVC Leads – Hosting VPB Sessions\,” follows the “Planning” class. Organizers who also will host VPB sessions for volunteers should register for and attend the “Hosting” session\, also.
URL:https://www.wakedems.org/wcdp-event/vpb-for-dvc-leads-planning-vpb-sessions-2/
LOCATION:Zoom
CATEGORIES:Training Event,Training Event Virtual Phone Bank (VPB)
ATTACH;FMTTYPE=image/jpeg:https://www.wakedems.org/wp-content/uploads/2023/08/PhoneBank2.jpg
ORGANIZER;CN="vpb@wakedems.org":MAILTO:vpb@wakedems.org
END:VEVENT
BEGIN:VEVENT
DTSTART;TZID=America/New_York:20260420T190000
DTEND;TZID=America/New_York:20260420T203000
DTSTAMP:20260420T061556
CREATED:20260328T204142Z
LAST-MODIFIED:20260328T204143Z
UID:10006673-1776711600-1776717000@www.wakedems.org
SUMMARY:Falls River Wine and Politics
DESCRIPTION:Join us for our monthly social in Raleigh (near Falls of Neuse/Durant Rd) to chat\, have a drink\, and get to know your neighbors! Dems and like-minded folks are welcome. Bring a friend!
URL:https://www.wakedems.org/wcdp-event/falls-river-wine-and-politics-4/2026-04-20/
LOCATION:Location will be provided to registered attendees
CATEGORIES:Social Event
ATTACH;FMTTYPE=image/jpeg:https://www.wakedems.org/wp-content/uploads/2024/01/SocialEvent1.jpg
ORGANIZER;CN="Falls River Dems":MAILTO:fallsriver.acs@wakedems.org
END:VEVENT
END:VCALENDAR