BEGIN:VCALENDAR
VERSION:2.0
PRODID:-//Wake County Democratic Party - ECPv6.15.20//NONSGML v1.0//EN
CALSCALE:GREGORIAN
METHOD:PUBLISH
X-WR-CALNAME:Wake County Democratic Party
X-ORIGINAL-URL:https://www.wakedems.org
X-WR-CALDESC:Events for Wake County Democratic Party
REFRESH-INTERVAL;VALUE=DURATION:PT1H
X-Robots-Tag:noindex
X-PUBLISHED-TTL:PT1H
BEGIN:VTIMEZONE
TZID:America/New_York
BEGIN:DAYLIGHT
TZOFFSETFROM:-0500
TZOFFSETTO:-0400
TZNAME:EDT
DTSTART:20250309T070000
END:DAYLIGHT
BEGIN:STANDARD
TZOFFSETFROM:-0400
TZOFFSETTO:-0500
TZNAME:EST
DTSTART:20251102T060000
END:STANDARD
BEGIN:DAYLIGHT
TZOFFSETFROM:-0500
TZOFFSETTO:-0400
TZNAME:EDT
DTSTART:20260308T070000
END:DAYLIGHT
BEGIN:STANDARD
TZOFFSETFROM:-0400
TZOFFSETTO:-0500
TZNAME:EST
DTSTART:20261101T060000
END:STANDARD
BEGIN:DAYLIGHT
TZOFFSETFROM:-0500
TZOFFSETTO:-0400
TZNAME:EDT
DTSTART:20270314T070000
END:DAYLIGHT
BEGIN:STANDARD
TZOFFSETFROM:-0400
TZOFFSETTO:-0500
TZNAME:EST
DTSTART:20271107T060000
END:STANDARD
END:VTIMEZONE
BEGIN:VEVENT
DTSTART;TZID=America/New_York:20260422T120000
DTEND;TZID=America/New_York:20260422T130000
DTSTAMP:20260422T015545
CREATED:20260327T003815Z
LAST-MODIFIED:20260327T003815Z
UID:10008182-1776859200-1776862800@www.wakedems.org
SUMMARY:Precinct 17-02 KSP Monthly Social
DESCRIPTION:Join us in precinct 17-02 at Knightdale Station Park every 4th Wednesday of the month at noon for a mini get-together to hang out\, talk about updates\, and make future plans. Located in the shelter by the playground.
URL:https://www.wakedems.org/wcdp-event/precinct-17-02-ksp-monthly-social/2026-04-22/
LOCATION:Knightdale Station Park\, 810 N First Ave\, Knightdale\, 27545
CATEGORIES:Social Event
ATTACH;FMTTYPE=image/jpeg:https://www.wakedems.org/wp-content/uploads/2024/04/Community-Event-960x540-1.jpg
ORGANIZER;CN="Precinct 17-02":MAILTO:precinct17-02@wakedems.org
END:VEVENT
BEGIN:VEVENT
DTSTART;TZID=America/New_York:20260422T170000
DTEND;TZID=America/New_York:20260422T190000
DTSTAMP:20260422T015545
CREATED:20260417T211800Z
LAST-MODIFIED:20260417T212002Z
UID:10008445-1776877200-1776884400@www.wakedems.org
SUMMARY:Precinct 01-01 Wednesday Canvass
DESCRIPTION:Precinct 01-01 volunteers will hold Pre-GOTV canvasses every Wed. evening from 5-7pm from April 15 – August 25\, 2026. Launch spot will vary; location for the week will be emailed to registrants on Tuesday evening.  First-time canvassers will receive a brief training and be paired with experienced canvassers.
URL:https://www.wakedems.org/wcdp-event/precinct-01-10-wednesday-canvass/2026-04-22/
LOCATION:Location will be provided to registered attendees
CATEGORIES:Canvass
ATTACH;FMTTYPE=image/jpeg:https://www.wakedems.org/wp-content/uploads/2023/08/Canvass2.jpg
ORGANIZER;CN="Precinct 01-01":MAILTO:precinct01-01@wakedems.org
END:VEVENT
BEGIN:VEVENT
DTSTART;TZID=America/New_York:20260422T173000
DTEND;TZID=America/New_York:20260422T190000
DTSTAMP:20260422T015545
CREATED:20260402T013527Z
LAST-MODIFIED:20260402T013638Z
UID:10008381-1776879000-1776884400@www.wakedems.org
SUMMARY:01-12 Precinct Social
DESCRIPTION:Join your new precinct leaders and volunteers for our first precinct meeting! This is all about community – meeting the folks who live right down the street and sharing your ideas for how we should organize to build a strong coalition of democratic and unaffiliated voters.
URL:https://www.wakedems.org/wcdp-event/01-12-precinct-social/
LOCATION:Trophy Brewing Five Points\, 207 Bickett Blvd\, Raleigh\, 27608
CATEGORIES:Precinct Meetings & Events
ORGANIZER;CN="Precinct 01-12":MAILTO:precinct01-12@wakedems.org
END:VEVENT
BEGIN:VEVENT
DTSTART;TZID=America/New_York:20260422T173000
DTEND;TZID=America/New_York:20260422T193000
DTSTAMP:20260422T015545
CREATED:20260412T221509Z
LAST-MODIFIED:20260413T230119Z
UID:10008431-1776879000-1776886200@www.wakedems.org
SUMMARY:Canvass in North Raleigh (Precinct 13-05)
DESCRIPTION:Join us for a weekday canvass in Precinct 13-05 in North Raleigh! Whether or not you’re in Precinct 13-05\, all are welcome to join as we knock on doors and talk to friendly\, Democratic voters to promote the importance of the midterm elections. Training and materials will be provided. \nWe’ll gather in the parking lot of a local brewery for a brief intro and training\, then we’ll distribute turf lists and materials to get you on your way. For those who are interested\, you have the option to return to the brewery afterward to grab a drink and debrief. \nThe specific location will be shared after you register.
URL:https://www.wakedems.org/wcdp-event/canvass-in-north-raleigh-precinct-13-05/
LOCATION:Location will be provided to registered attendees
CATEGORIES:Canvass
ATTACH;FMTTYPE=image/jpeg:https://www.wakedems.org/wp-content/uploads/2023/08/Canvass2.jpg
ORGANIZER;CN="Precinct 13-05":MAILTO:precinct13-05@wakedems.org
END:VEVENT
BEGIN:VEVENT
DTSTART;TZID=America/New_York:20260422T180000
DTEND;TZID=America/New_York:20260422T200000
DTSTAMP:20260422T015545
CREATED:20260326T204457Z
LAST-MODIFIED:20260326T204457Z
UID:10008169-1776880800-1776888000@www.wakedems.org
SUMMARY:West Cary Area Social
DESCRIPTION:Join us for the monthly West Cary Social — a relaxed evening meetup where neighbors can unwind\, connect\, and stay in the loop on what’s happening locally. Most months are purely social hangouts\, but from time to time we’ll also feature special guests or speakers to spark conversation and share insights.\nIt’s an easy\, low‑pressure way to meet fellow West Cary Dems\, build community\, and stay engaged at whatever level feels right for you.
URL:https://www.wakedems.org/wcdp-event/west-cary-area-social-2/2026-04-22/
LOCATION:Location will be provided to registered attendees
CATEGORIES:Area Meetings & Events,Social Event
ATTACH;FMTTYPE=image/jpeg:https://www.wakedems.org/wp-content/uploads/2024/01/SocialEvent1.jpg
ORGANIZER;CN="West Cary Area Coordinators":MAILTO:westcary.acs@wakedems.org
END:VEVENT
BEGIN:VEVENT
DTSTART;TZID=America/New_York:20260422T183000
DTEND;TZID=America/New_York:20260422T193000
DTSTAMP:20260422T015545
CREATED:20260403T005651Z
LAST-MODIFIED:20260403T010019Z
UID:10008395-1776882600-1776886200@www.wakedems.org
SUMMARY:Precinct 05-09 Kickoff Social (Morrisville)
DESCRIPTION:Enjoy the company of your like-minded neighbors\, and learn more about the many ways to volunteer – we have opportunities for everyone in this crucial and important midterm election year!  You will have the opportunity to meet elected officials.
URL:https://www.wakedems.org/wcdp-event/precinct-05-09-kickoff-social-morrisville/
LOCATION:Location will be provided to registered attendees
CATEGORIES:Social Event
ATTACH;FMTTYPE=image/jpeg:https://www.wakedems.org/wp-content/uploads/2023/08/SocialEvent3.jpg
ORGANIZER;CN="Precinct 05-09":MAILTO:precinct05-09@wakedems.org
END:VEVENT
BEGIN:VEVENT
DTSTART;TZID=America/New_York:20260422T183000
DTEND;TZID=America/New_York:20260422T200000
DTSTAMP:20260422T015545
CREATED:20260117T211540Z
LAST-MODIFIED:20260117T211540Z
UID:10007913-1776882600-1776888000@www.wakedems.org
SUMMARY:Glenwood Area Bi-monthly Social
DESCRIPTION:Come out and join the Glenwood Area Democrats for a fun-filled evening of socializing and networking with fellow Democrats!  This month we will use the momentum from the annual precinct meetings to further build and celebrate our coalition of volunteers- an absolute must have for the midterms! We are stronger together\, and better together. \nWhether you’re a long-time party member or new to the political scene\, this event is the perfect opportunity to connect with like-minded individuals\, share ideas\, hear from elected officials and candidates\, and discuss important issues facing our community. \nNote: Location details will be e-mailed to those who sign up by the day before the event. Locale is convenient to N Raleigh\, and we encourage you to arrive at 6 to have more time to order and enjoy dinner if you’d like.
URL:https://www.wakedems.org/wcdp-event/glenwood-area-bi-monthly-social-2/
LOCATION:Will be shared with those who sign up
CATEGORIES:Area Meetings & Events,Social Event
ATTACH;FMTTYPE=image/jpeg:https://www.wakedems.org/wp-content/uploads/2023/08/SocialEvent3.jpg
ORGANIZER;CN="Glenwood Area Coordinators":MAILTO:glenwood.acs@wakedems.org
END:VEVENT
BEGIN:VEVENT
DTSTART;TZID=America/New_York:20260422T190000
DTEND;TZID=America/New_York:20260422T200000
DTSTAMP:20260422T015545
CREATED:20260325T210556Z
LAST-MODIFIED:20260325T215425Z
UID:10008161-1776884400-1776888000@www.wakedems.org
SUMMARY:VPB for DVC Leads - Hosting VPB Sessions
DESCRIPTION:This is the second of two one-hour training sessions that follow “Direct Voter Contact Lead 101\,” for DVC Leads and other precinct and area officers who organize Virtual Phone Banking (VPB) events.  \nPrerequisite: This session assumes that attendees have used the OpenVPB phone-banking platform and are familiar with its basic functions and navigation. DVC Leads and others who plan to host VPB training sessions for volunteers but are not yet familiar with OpenVPB’s functions should attend a VPB session as a volunteer first to receive training on OpenVPB. Check the Events Calendar for a “Virtual Phone Bank Training and Call Session” to register.  \nThis session covers how to host a virtual training session for volunteers in Google Meet\, including: \n\nThe basics of hosting training sessions in Google Meet\nAn outline and tips for training volunteers on OpenVPB\nAvailable training materials for DVC Leads and other local VPB organizers\nTips\, tricks\, and common technical support issues for assisting phone-banking volunteers\n\nOrganizers who will plan and organize VPB sessions for volunteers (in addition to conducting the actual training) also should register for and attend the preceding class to this one\, “VPB for DVC Leads – Planning VPB Sessions.”
URL:https://www.wakedems.org/wcdp-event/vpb-for-dvc-leads-hosting-vpb-sessions-2/
LOCATION:Zoom
CATEGORIES:Training Event,Training Event Virtual Phone Bank (VPB)
ATTACH;FMTTYPE=image/jpeg:https://www.wakedems.org/wp-content/uploads/2023/08/PhoneBank2.jpg
ORGANIZER;CN="vpb@wakedems.org":MAILTO:vpb@wakedems.org
END:VEVENT
END:VCALENDAR