BEGIN:VCALENDAR
VERSION:2.0
PRODID:-//Wake County Democratic Party - ECPv6.15.20//NONSGML v1.0//EN
CALSCALE:GREGORIAN
METHOD:PUBLISH
X-WR-CALNAME:Wake County Democratic Party
X-ORIGINAL-URL:https://www.wakedems.org
X-WR-CALDESC:Events for Wake County Democratic Party
REFRESH-INTERVAL;VALUE=DURATION:PT1H
X-Robots-Tag:noindex
X-PUBLISHED-TTL:PT1H
BEGIN:VTIMEZONE
TZID:America/New_York
BEGIN:DAYLIGHT
TZOFFSETFROM:-0500
TZOFFSETTO:-0400
TZNAME:EDT
DTSTART:20240310T070000
END:DAYLIGHT
BEGIN:STANDARD
TZOFFSETFROM:-0400
TZOFFSETTO:-0500
TZNAME:EST
DTSTART:20241103T060000
END:STANDARD
BEGIN:DAYLIGHT
TZOFFSETFROM:-0500
TZOFFSETTO:-0400
TZNAME:EDT
DTSTART:20250309T070000
END:DAYLIGHT
BEGIN:STANDARD
TZOFFSETFROM:-0400
TZOFFSETTO:-0500
TZNAME:EST
DTSTART:20251102T060000
END:STANDARD
BEGIN:DAYLIGHT
TZOFFSETFROM:-0500
TZOFFSETTO:-0400
TZNAME:EDT
DTSTART:20260308T070000
END:DAYLIGHT
BEGIN:STANDARD
TZOFFSETFROM:-0400
TZOFFSETTO:-0500
TZNAME:EST
DTSTART:20261101T060000
END:STANDARD
END:VTIMEZONE
BEGIN:VEVENT
DTSTART;TZID=America/New_York:20251025T100000
DTEND;TZID=America/New_York:20251025T110000
DTSTAMP:20260421T222817
CREATED:20250919T201118Z
LAST-MODIFIED:20250919T201118Z
UID:10007312-1761386400-1761390000@www.wakedems.org
SUMMARY:Knightdale GOTV Canvass
DESCRIPTION:Join us as we canvass to support Grady Bussey for Knightdale Town Council! We will meet to hand out literature\, help with the miniVAN app\, and head out in pairs to talk to our neighbors about the importance of getting Democrats elected to our municipal boards. Water\, snacks\, and support will be provided. \nCan’t make it at 10 AM but want to canvass? Email knightdaledems@gmail.com to get connected. \nAnyone who signs up to attended will be vetted and sent the exact location on the evening before the canvass.
URL:https://www.wakedems.org/wcdp-event/knightdale-gotv-canvass/2025-10-25/
LOCATION:Location will be provided to registered attendees
CATEGORIES:GOTV Canvass 2025
ATTACH;FMTTYPE=image/jpeg:https://www.wakedems.org/wp-content/uploads/2023/08/Canvass2.jpg
ORGANIZER;CN="Knightdale Area Coordinators":MAILTO:knightdale.acs@wakedems.org
END:VEVENT
BEGIN:VEVENT
DTSTART;TZID=America/New_York:20251025T093000
DTEND;TZID=America/New_York:20251025T120000
DTSTAMP:20260421T222817
CREATED:20250826T014047Z
LAST-MODIFIED:20250904T025335Z
UID:10007008-1761384600-1761393600@www.wakedems.org
SUMMARY:GOTV Canvass: Garner
DESCRIPTION:Come knock doors with us! \nWe’ll be talking to Democrats and left-leaning voters that don’t vote consistently in midterms and municipal elections. The conversations we’ll have won’t just help us win every municipal election this fall — we’ll also be laying the groundwork to send Roy Cooper to the US Senate and re-elect Anita Earls in 2026! \nWe’ll provide training\, literature\, drinks\, and snacks. All you have to do is sign up and show up.
URL:https://www.wakedems.org/wcdp-event/gotv-canvass-garner-10-25/
LOCATION:Location will be shared with those signed up to participate
CATEGORIES:Canvass,GOTV Canvass 2025
ATTACH;FMTTYPE=image/jpeg:https://www.wakedems.org/wp-content/uploads/2025/08/GOTV-Canvass-960x540-1.jpg
ORGANIZER;CN="Wake Dems":MAILTO:info@wakedems.org
END:VEVENT
BEGIN:VEVENT
DTSTART;TZID=America/New_York:20251024T110000
DTEND;TZID=America/New_York:20251024T130000
DTSTAMP:20260421T222817
CREATED:20251006T225921Z
LAST-MODIFIED:20251006T225921Z
UID:10007538-1761303600-1761310800@www.wakedems.org
SUMMARY:Team Haseeb Canvass in Wake Forest
DESCRIPTION:Come out with Board of Commissioners Candidate Haseeb Fatmi to canvass in Wake Forest. \nWe’ll be knocking on Dem-friendly doors to make sure they come out to vote in the November 4th municipal election! \nWe’ll provide training.  All you have to do is sign up and show up. \nLocation will be provided to those who register in advance of the canvass date.
URL:https://www.wakedems.org/wcdp-event/team-haseeb-canvass-in-wake-forest/2025-10-24/
LOCATION:TBD
CATEGORIES:GOTV Canvass 2025
ATTACH;FMTTYPE=image/jpeg:https://www.wakedems.org/wp-content/uploads/2023/08/Canvass3.jpg
ORGANIZER;CN="Haseeb Fatmi":MAILTO:haseeb.fatmi@gmail.com
END:VEVENT
BEGIN:VEVENT
DTSTART;TZID=America/New_York:20251019T140000
DTEND;TZID=America/New_York:20251019T163000
DTSTAMP:20260421T222817
CREATED:20250912T012835Z
LAST-MODIFIED:20250912T012835Z
UID:10007184-1760882400-1760891400@www.wakedems.org
SUMMARY:GOTV Canvass:  Wake Forest
DESCRIPTION:Come knock doors with us! \nWe’ll be talking to Democrats and left-leaning voters that don’t vote consistently in midterms and municipal elections. The conversations we’ll have won’t just help us win every municipal election this fall — we’ll also be laying the groundwork to send Roy Cooper to the US Senate and re-elect Anita Earls in 2026! \nWe’ll provide training.  All you have to do is sign up and show up.
URL:https://www.wakedems.org/wcdp-event/gotv-canvass-wake-forest-9/
LOCATION:TBD
CATEGORIES:GOTV Canvass 2025
ATTACH;FMTTYPE=image/jpeg:https://www.wakedems.org/wp-content/uploads/2023/08/Canvass3.jpg
ORGANIZER;CN="Northeast Wake AC's":MAILTO:northeastwake.acs@wakedems.org
END:VEVENT
BEGIN:VEVENT
DTSTART;TZID=America/New_York:20251019T130000
DTEND;TZID=America/New_York:20251019T153000
DTSTAMP:20260421T222817
CREATED:20251016T201452Z
LAST-MODIFIED:20251016T201452Z
UID:10007558-1760878800-1760887800@www.wakedems.org
SUMMARY:GOTV Canvass: Garner
DESCRIPTION:Come knock doors with us! \nWe’ll be talking to Democrats and left-leaning voters that don’t vote consistently in midterms and municipal elections. The conversations we’ll have won’t just help us win every municipal election this fall — we’ll also be laying the groundwork to send Roy Cooper to the US Senate and re-elect Anita Earls in 2026! \nWe’ll provide training\, literature\, drinks\, and snacks. All you have to do is sign up and show up.
URL:https://www.wakedems.org/wcdp-event/gotv-canvass-garner/
LOCATION:Location will be shared with those signed up to participate
CATEGORIES:Canvass,GOTV Canvass 2025
ATTACH;FMTTYPE=image/jpeg:https://www.wakedems.org/wp-content/uploads/2025/08/GOTV-Canvass-960x540-1.jpg
ORGANIZER;CN="Wake Dems":MAILTO:info@wakedems.org
END:VEVENT
BEGIN:VEVENT
DTSTART;TZID=America/New_York:20251018T100000
DTEND;TZID=America/New_York:20251018T110000
DTSTAMP:20260421T222817
CREATED:20250919T201118Z
LAST-MODIFIED:20250919T201118Z
UID:10007311-1760781600-1760785200@www.wakedems.org
SUMMARY:Knightdale GOTV Canvass
DESCRIPTION:Join us as we canvass to support Grady Bussey for Knightdale Town Council! We will meet to hand out literature\, help with the miniVAN app\, and head out in pairs to talk to our neighbors about the importance of getting Democrats elected to our municipal boards. Water\, snacks\, and support will be provided. \nCan’t make it at 10 AM but want to canvass? Email knightdaledems@gmail.com to get connected. \nAnyone who signs up to attended will be vetted and sent the exact location on the evening before the canvass.
URL:https://www.wakedems.org/wcdp-event/knightdale-gotv-canvass/2025-10-18/
LOCATION:Location will be provided to registered attendees
CATEGORIES:GOTV Canvass 2025
ATTACH;FMTTYPE=image/jpeg:https://www.wakedems.org/wp-content/uploads/2023/08/Canvass2.jpg
ORGANIZER;CN="Knightdale Area Coordinators":MAILTO:knightdale.acs@wakedems.org
END:VEVENT
BEGIN:VEVENT
DTSTART;TZID=America/New_York:20251018T093000
DTEND;TZID=America/New_York:20251018T120000
DTSTAMP:20260421T222817
CREATED:20250826T013139Z
LAST-MODIFIED:20250904T025309Z
UID:10007007-1760779800-1760788800@www.wakedems.org
SUMMARY:GOTV Canvass: Holly Springs
DESCRIPTION:Come knock doors with us! \nWe’ll be talking to Democrats and left-leaning voters that don’t vote consistently in midterms and municipal elections. The conversations we’ll have won’t just help us win every municipal election this fall — we’ll also be laying the groundwork to send Roy Cooper to the US Senate and re-elect Anita Earls in 2026! \nWe’ll provide training\, literature\, drinks\, and snacks. All you have to do is sign up and show up.
URL:https://www.wakedems.org/wcdp-event/gotv-canvass-holly-springs-10-18/
LOCATION:Location will be shared with those signed up to participate
CATEGORIES:Canvass,GOTV Canvass 2025
ATTACH;FMTTYPE=image/jpeg:https://www.wakedems.org/wp-content/uploads/2025/08/GOTV-Canvass-960x540-1.jpg
ORGANIZER;CN="Wake Dems":MAILTO:info@wakedems.org
END:VEVENT
BEGIN:VEVENT
DTSTART;TZID=America/New_York:20251017T180000
DTEND;TZID=America/New_York:20251017T193000
DTSTAMP:20260421T222817
CREATED:20251013T203249Z
LAST-MODIFIED:20251013T203249Z
UID:10007552-1760724000-1760729400@www.wakedems.org
SUMMARY:GOTV Canvass: Morrisville
DESCRIPTION:Come knock doors with us! \nWe’ll be talking to Democrats and left-leaning voters who don’t vote consistently in midterms and municipal elections. The conversations we’ll have won’t just help us win every municipal election this fall — we’ll also be laying the groundwork to send Roy Cooper to the US Senate and re-elect Anita Earls in 2026! \nWe’ll provide training\, literature\, drinks\, and snacks. All you have to do is sign up and show up. \n\nCheck out the signup options for first-time canvassers and silent partners\, so there’s an easy way to get involved no matter your experience level. And remember\, we always provide maps and hands-on training beforehand\, and partner experienced canvassers with new folks\, so that everyone feels comfortable and confident before we head out in pairs into the neighborhood\, to speak with friendly fellow Democratic voters.
URL:https://www.wakedems.org/wcdp-event/gotv-canvass-morrisville-7/
LOCATION:Location will be emailed a few days prior to the event
CATEGORIES:Canvass,GOTV Canvass 2025
ATTACH;FMTTYPE=image/jpeg:https://www.wakedems.org/wp-content/uploads/2023/08/Canvass3.jpg
ORGANIZER;CN="Umstead Raleigh Area Coordinators":MAILTO:UmsteadRaleigh.ACS@wakedems.org
END:VEVENT
BEGIN:VEVENT
DTSTART;TZID=America/New_York:20251011T100000
DTEND;TZID=America/New_York:20251011T110000
DTSTAMP:20260421T222817
CREATED:20250919T201118Z
LAST-MODIFIED:20250919T201118Z
UID:10007310-1760176800-1760180400@www.wakedems.org
SUMMARY:Knightdale GOTV Canvass
DESCRIPTION:Join us as we canvass to support Grady Bussey for Knightdale Town Council! We will meet to hand out literature\, help with the miniVAN app\, and head out in pairs to talk to our neighbors about the importance of getting Democrats elected to our municipal boards. Water\, snacks\, and support will be provided. \nCan’t make it at 10 AM but want to canvass? Email knightdaledems@gmail.com to get connected. \nAnyone who signs up to attended will be vetted and sent the exact location on the evening before the canvass.
URL:https://www.wakedems.org/wcdp-event/knightdale-gotv-canvass/2025-10-11/
LOCATION:Location will be provided to registered attendees
CATEGORIES:GOTV Canvass 2025
ATTACH;FMTTYPE=image/jpeg:https://www.wakedems.org/wp-content/uploads/2023/08/Canvass2.jpg
ORGANIZER;CN="Knightdale Area Coordinators":MAILTO:knightdale.acs@wakedems.org
END:VEVENT
BEGIN:VEVENT
DTSTART;TZID=America/New_York:20251011T093000
DTEND;TZID=America/New_York:20251011T120000
DTSTAMP:20260421T222817
CREATED:20250826T011328Z
LAST-MODIFIED:20250904T025252Z
UID:10007006-1760175000-1760184000@www.wakedems.org
SUMMARY:GOTV Canvass: Fuquay-Varina
DESCRIPTION:Come knock doors with us! \nWe’ll be talking to Democrats and left-leaning voters that don’t vote consistently in midterms and municipal elections. The conversations we’ll have won’t just help us win every municipal election this fall — we’ll also be laying the groundwork to send Roy Cooper to the US Senate and re-elect Anita Earls in 2026! \nWe’ll provide training\, literature\, drinks\, and snacks. All you have to do is sign up and show up.
URL:https://www.wakedems.org/wcdp-event/gotv-canvass-fuquay-varina-10-11/
LOCATION:Location will be shared with those signed up to participate
CATEGORIES:Canvass,GOTV Canvass 2025
ATTACH;FMTTYPE=image/jpeg:https://www.wakedems.org/wp-content/uploads/2025/08/GOTV-Canvass-960x540-1.jpg
ORGANIZER;CN="Wake Dems":MAILTO:info@wakedems.org
END:VEVENT
BEGIN:VEVENT
DTSTART;TZID=America/New_York:20251010T110000
DTEND;TZID=America/New_York:20251010T130000
DTSTAMP:20260421T222817
CREATED:20251006T225921Z
LAST-MODIFIED:20251006T225921Z
UID:10007537-1760094000-1760101200@www.wakedems.org
SUMMARY:Team Haseeb Canvass in Wake Forest
DESCRIPTION:Come out with Board of Commissioners Candidate Haseeb Fatmi to canvass in Wake Forest. \nWe’ll be knocking on Dem-friendly doors to make sure they come out to vote in the November 4th municipal election! \nWe’ll provide training.  All you have to do is sign up and show up. \nLocation will be provided to those who register in advance of the canvass date.
URL:https://www.wakedems.org/wcdp-event/team-haseeb-canvass-in-wake-forest/2025-10-10/
LOCATION:TBD
CATEGORIES:GOTV Canvass 2025
ATTACH;FMTTYPE=image/jpeg:https://www.wakedems.org/wp-content/uploads/2023/08/Canvass3.jpg
ORGANIZER;CN="Haseeb Fatmi":MAILTO:haseeb.fatmi@gmail.com
END:VEVENT
BEGIN:VEVENT
DTSTART;TZID=America/New_York:20251005T130000
DTEND;TZID=America/New_York:20251005T150000
DTSTAMP:20260421T222817
CREATED:20250917T012937Z
LAST-MODIFIED:20250917T012937Z
UID:10007229-1759669200-1759676400@www.wakedems.org
SUMMARY:Make Your Knock Count: Secrets to Successful Canvassing w/ Beth
DESCRIPTION:In these days of Door Dash dropping food on our porch and never answering a phone call we don’t recognize\, the idea of knocking on doors to talk about voting can be pretty scary. But having conversations with our neighbors is the most proven way to win.  \nHolly Springs resident Beth Bonar knows this better than anyone — since 2022\, she’s knocked more than 13\,000 doors! She’s a pro at telling voters why they’re needed at the ballot box\, and on October 5 at 1pm\, she’ll be joining Apex Democrats for a special canvass. Come hear Beth’s best tips for canvassing with confidence\, then partner up to spread the word about the Town Council race in Apex. See you there!
URL:https://www.wakedems.org/wcdp-event/make-your-knock-count-secrets-to-successful-canvassing-w-beth/
LOCATION:Apex Nature Park lot near the dog park\, 2600 Evans Rd\, Apex\, 27502
CATEGORIES:GOTV Canvass 2025
ATTACH;FMTTYPE=image/jpeg:https://www.wakedems.org/wp-content/uploads/2024/04/Community-Event-960x540-1.jpg
ORGANIZER;CN="Apex Area Coordinators":MAILTO:Apex.ACs@wakedems.org
END:VEVENT
BEGIN:VEVENT
DTSTART;TZID=America/New_York:20251004T100000
DTEND;TZID=America/New_York:20251004T110000
DTSTAMP:20260421T222817
CREATED:20250919T201118Z
LAST-MODIFIED:20250919T201118Z
UID:10007309-1759572000-1759575600@www.wakedems.org
SUMMARY:Knightdale GOTV Canvass
DESCRIPTION:Join us as we canvass to support Grady Bussey for Knightdale Town Council! We will meet to hand out literature\, help with the miniVAN app\, and head out in pairs to talk to our neighbors about the importance of getting Democrats elected to our municipal boards. Water\, snacks\, and support will be provided. \nCan’t make it at 10 AM but want to canvass? Email knightdaledems@gmail.com to get connected. \nAnyone who signs up to attended will be vetted and sent the exact location on the evening before the canvass.
URL:https://www.wakedems.org/wcdp-event/knightdale-gotv-canvass/2025-10-04/
LOCATION:Location will be provided to registered attendees
CATEGORIES:GOTV Canvass 2025
ATTACH;FMTTYPE=image/jpeg:https://www.wakedems.org/wp-content/uploads/2023/08/Canvass2.jpg
ORGANIZER;CN="Knightdale Area Coordinators":MAILTO:knightdale.acs@wakedems.org
END:VEVENT
BEGIN:VEVENT
DTSTART;TZID=America/New_York:20251004T093000
DTEND;TZID=America/New_York:20251004T120000
DTSTAMP:20260421T222817
CREATED:20250906T012646Z
LAST-MODIFIED:20250906T012646Z
UID:10007046-1759570200-1759579200@www.wakedems.org
SUMMARY:GOTV Canvass: Holly Springs
DESCRIPTION:Come knock doors with us! \nWe’ll be talking to Democrats and left-leaning voters that don’t vote consistently in midterms and municipal elections. The conversations we’ll have won’t just help us win every municipal election this fall — we’ll also be laying the groundwork to send Roy Cooper to the US Senate and re-elect Anita Earls in 2026! \nWe’ll provide training\, literature\, drinks\, and snacks. All you have to do is sign up and show up.
URL:https://www.wakedems.org/wcdp-event/gotv-canvass-holly-springs/
LOCATION:Location will be shared with those signed up to participate
CATEGORIES:Canvass,GOTV Canvass 2025
ATTACH;FMTTYPE=image/jpeg:https://www.wakedems.org/wp-content/uploads/2025/08/GOTV-Canvass-960x540-1.jpg
ORGANIZER;CN="Wake Dems":MAILTO:info@wakedems.org
END:VEVENT
BEGIN:VEVENT
DTSTART;TZID=America/New_York:20251004T093000
DTEND;TZID=America/New_York:20251004T120000
DTSTAMP:20260421T222817
CREATED:20250826T011142Z
LAST-MODIFIED:20250906T012632Z
UID:10007005-1759570200-1759579200@www.wakedems.org
SUMMARY:GOTV Canvass: Wake Forest
DESCRIPTION:Come knock doors with us! \nWe’ll be talking to Democrats and left-leaning voters that don’t vote consistently in midterms and municipal elections. The conversations we’ll have won’t just help us win every municipal election this fall — we’ll also be laying the groundwork to send Roy Cooper to the US Senate and re-elect Anita Earls in 2026! \nWe’ll provide training\, literature\, drinks\, and snacks. All you have to do is sign up and show up.
URL:https://www.wakedems.org/wcdp-event/gotv-canvass-wake-forest-holly-springs-10-04/
LOCATION:Location will be shared with those signed up to participate
CATEGORIES:Canvass,GOTV Canvass 2025
ATTACH;FMTTYPE=image/jpeg:https://www.wakedems.org/wp-content/uploads/2025/08/GOTV-Canvass-960x540-1.jpg
ORGANIZER;CN="Wake Dems":MAILTO:info@wakedems.org
END:VEVENT
BEGIN:VEVENT
DTSTART;TZID=America/New_York:20250927T100000
DTEND;TZID=America/New_York:20250927T110000
DTSTAMP:20260421T222817
CREATED:20250919T201118Z
LAST-MODIFIED:20250919T201118Z
UID:10007308-1758967200-1758970800@www.wakedems.org
SUMMARY:Knightdale GOTV Canvass
DESCRIPTION:Join us as we canvass to support Grady Bussey for Knightdale Town Council! We will meet to hand out literature\, help with the miniVAN app\, and head out in pairs to talk to our neighbors about the importance of getting Democrats elected to our municipal boards. Water\, snacks\, and support will be provided. \nCan’t make it at 10 AM but want to canvass? Email knightdaledems@gmail.com to get connected. \nAnyone who signs up to attended will be vetted and sent the exact location on the evening before the canvass.
URL:https://www.wakedems.org/wcdp-event/knightdale-gotv-canvass/2025-09-27/
LOCATION:Location will be provided to registered attendees
CATEGORIES:GOTV Canvass 2025
ATTACH;FMTTYPE=image/jpeg:https://www.wakedems.org/wp-content/uploads/2023/08/Canvass2.jpg
ORGANIZER;CN="Knightdale Area Coordinators":MAILTO:knightdale.acs@wakedems.org
END:VEVENT
BEGIN:VEVENT
DTSTART;TZID=America/New_York:20250927T093000
DTEND;TZID=America/New_York:20250927T120000
DTSTAMP:20260421T222817
CREATED:20250906T012441Z
LAST-MODIFIED:20250906T012441Z
UID:10007045-1758965400-1758974400@www.wakedems.org
SUMMARY:GOTV Canvass: Fuquay-Varina
DESCRIPTION:Come knock doors with us! \nWe’ll be talking to Democrats and left-leaning voters that don’t vote consistently in midterms and municipal elections. The conversations we’ll have won’t just help us win every municipal election this fall — we’ll also be laying the groundwork to send Roy Cooper to the US Senate and re-elect Anita Earls in 2026! \nWe’ll provide training\, literature\, drinks\, and snacks. All you have to do is sign up and show up.
URL:https://www.wakedems.org/wcdp-event/gotv-canvass-fuquay-varina-2/
LOCATION:Location will be shared with those signed up to participate
CATEGORIES:Canvass,GOTV Canvass 2025
ATTACH;FMTTYPE=image/jpeg:https://www.wakedems.org/wp-content/uploads/2025/08/GOTV-Canvass-960x540-1.jpg
ORGANIZER;CN="Wake Dems":MAILTO:info@wakedems.org
END:VEVENT
BEGIN:VEVENT
DTSTART;TZID=America/New_York:20250927T093000
DTEND;TZID=America/New_York:20250927T120000
DTSTAMP:20260421T222817
CREATED:20250826T010935Z
LAST-MODIFIED:20250906T012419Z
UID:10007004-1758965400-1758974400@www.wakedems.org
SUMMARY:GOTV Canvass: Wendell / Zebulon
DESCRIPTION:Come knock doors with us! \nWe’ll be talking to Democrats and left-leaning voters that don’t vote consistently in midterms and municipal elections. The conversations we’ll have won’t just help us win every municipal election this fall — we’ll also be laying the groundwork to send Roy Cooper to the US Senate and re-elect Anita Earls in 2026! \nWe’ll provide training\, literature\, drinks\, and snacks. All you have to do is sign up and show up.
URL:https://www.wakedems.org/wcdp-event/gotv-canvass-wendell-zebulon-fuquay-varina-09-27/
LOCATION:Location will be shared with those signed up to participate
CATEGORIES:Canvass,GOTV Canvass 2025
ATTACH;FMTTYPE=image/jpeg:https://www.wakedems.org/wp-content/uploads/2025/08/GOTV-Canvass-960x540-1.jpg
ORGANIZER;CN="Wake Dems":MAILTO:info@wakedems.org
END:VEVENT
BEGIN:VEVENT
DTSTART;TZID=America/New_York:20250920T093000
DTEND;TZID=America/New_York:20250920T120000
DTSTAMP:20260421T222817
CREATED:20250910T010935Z
LAST-MODIFIED:20250910T010935Z
UID:10007120-1758360600-1758369600@www.wakedems.org
SUMMARY:Apex 20-08 GOTV Canvass
DESCRIPTION:20-08 Vice Chair Kev Creech will host this canvass. Meet at 9:30am for the kick-off – hear from candidates\, training\, canvass lit\, and partnering. Launch by 10am and canvass until 12pm. Return between 11:45am-12:10pm for a debrief\, lit drop off\, and refreshments. (Rain date is 9/21\, 12:30 kick-off and canvassing from 1:00pm till 3:00pm.). \nNear Baucom Elementary School in Apex.
URL:https://www.wakedems.org/wcdp-event/apex-20-08-gotv-canvass/
LOCATION:Location will be emailed a few days prior to the event
CATEGORIES:GOTV Canvass 2025
ATTACH;FMTTYPE=image/jpeg:https://www.wakedems.org/wp-content/uploads/2023/08/Canvass3.jpg
ORGANIZER;CN="Precinct 20-08":MAILTO:Precinct20-08@wakedems.org
END:VEVENT
BEGIN:VEVENT
DTSTART;TZID=America/New_York:20250920T093000
DTEND;TZID=America/New_York:20250920T120000
DTSTAMP:20260421T222817
CREATED:20250825T235300Z
LAST-MODIFIED:20250904T024909Z
UID:10007003-1758360600-1758369600@www.wakedems.org
SUMMARY:GOTV Canvass: Fuquay-Varina
DESCRIPTION:Come knock doors with us! \nWe’ll be talking to Democrats and left-leaning voters that don’t vote consistently in midterms and municipal elections. The conversations we’ll have won’t just help us win every municipal election this fall — we’ll also be laying the groundwork to send Roy Cooper to the US Senate and re-elect Anita Earls in 2026! \nWe’ll provide training\, literature\, drinks\, and snacks. All you have to do is sign up and show up.
URL:https://www.wakedems.org/wcdp-event/gotv-canvass-fuquay-varina-09-20/
LOCATION:Location will be shared with those signed up to participate
CATEGORIES:Canvass,GOTV Canvass 2025
ATTACH;FMTTYPE=image/jpeg:https://www.wakedems.org/wp-content/uploads/2025/08/GOTV-Canvass-960x540-1.jpg
ORGANIZER;CN="Wake Dems":MAILTO:info@wakedems.org
END:VEVENT
BEGIN:VEVENT
DTSTART;TZID=America/New_York:20250918T173000
DTEND;TZID=America/New_York:20250918T190000
DTSTAMP:20260421T222817
CREATED:20250908T235400Z
LAST-MODIFIED:20250908T235400Z
UID:10007119-1758216600-1758222000@www.wakedems.org
SUMMARY:Apex Precinct 20-08 Quick Canvass
DESCRIPTION:Precinct 20-08 Vice Chair Kev Creech will host this evening canvass. Arrive by 5:30pm for training\, canvassing lit\, and a 5:50pm quick canvass launch. This is ideal for new canvassers or folks who are busy on the weekends. Hit some doors and talk to a few folks (all Dems and left-leaning unaffiliateds) about the upcoming election during this power-hour. \nNear Baucom Elementary School in Apex.
URL:https://www.wakedems.org/wcdp-event/apex-precinct-20-08-quick-canvass/
LOCATION:Location will be emailed a few days prior to the event
CATEGORIES:Canvass,GOTV Canvass 2025
ATTACH;FMTTYPE=image/jpeg:https://www.wakedems.org/wp-content/uploads/2023/08/Canvass2.jpg
ORGANIZER;CN="Precinct 20-08":MAILTO:Precinct20-08@wakedems.org
END:VEVENT
BEGIN:VEVENT
DTSTART;TZID=America/New_York:20250913T093000
DTEND;TZID=America/New_York:20250913T120000
DTSTAMP:20260421T222817
CREATED:20250825T234623Z
LAST-MODIFIED:20250904T024707Z
UID:10007002-1757755800-1757764800@www.wakedems.org
SUMMARY:GOTV Canvass: Holly Springs
DESCRIPTION:Come knock doors with us! \nWe’ll be talking to Democrats and left-leaning voters that don’t vote consistently in midterms and municipal elections. The conversations we’ll have won’t just help us win every municipal election this fall — we’ll also be laying the groundwork to send Roy Cooper to the US Senate and re-elect Anita Earls in 2026! \nWe’ll provide training\, literature\, drinks\, and snacks. All you have to do is sign up and show up.
URL:https://www.wakedems.org/wcdp-event/gotv-canvass-holly-springs-09-13/
LOCATION:Location will be shared with those signed up to participate
CATEGORIES:Canvass,GOTV Canvass 2025
ATTACH;FMTTYPE=image/jpeg:https://www.wakedems.org/wp-content/uploads/2025/08/GOTV-Canvass-960x540-1.jpg
ORGANIZER;CN="Wake Dems":MAILTO:info@wakedems.org
END:VEVENT
BEGIN:VEVENT
DTSTART;TZID=America/New_York:20250906T093000
DTEND;TZID=America/New_York:20250906T120000
DTSTAMP:20260421T222817
CREATED:20250823T024340Z
LAST-MODIFIED:20250830T200633Z
UID:10006997-1757151000-1757160000@www.wakedems.org
SUMMARY:GOTV Canvass: Wake Forest
DESCRIPTION:Come knock doors with us! \nWe’ll be talking to Democrats and left-leaning voters that don’t vote consistently in midterms and municipal elections. The conversations we’ll have won’t just help us win every municipal election this fall — we’ll also be laying the groundwork to send Roy Cooper to the US Senate and re-elect Anita Earls in 2026! \nWe’ll provide training\, literature\, drinks\, and snacks. All you have to do is sign up and show up.
URL:https://www.wakedems.org/wcdp-event/gotv-canvass-wake-forest-09-06/
LOCATION:Location will be shared with those signed up to participate
CATEGORIES:Canvass,GOTV Canvass 2025
ATTACH;FMTTYPE=image/jpeg:https://www.wakedems.org/wp-content/uploads/2025/08/GOTV-Canvass-960x540-1.jpg
ORGANIZER;CN="Wake Dems":MAILTO:info@wakedems.org
END:VEVENT
END:VCALENDAR