BEGIN:VCALENDAR
VERSION:2.0
PRODID:-//Wake County Democratic Party - ECPv6.15.20//NONSGML v1.0//EN
CALSCALE:GREGORIAN
METHOD:PUBLISH
X-ORIGINAL-URL:https://www.wakedems.org
X-WR-CALDESC:Events for Wake County Democratic Party
REFRESH-INTERVAL;VALUE=DURATION:PT1H
X-Robots-Tag:noindex
X-PUBLISHED-TTL:PT1H
BEGIN:VTIMEZONE
TZID:America/New_York
BEGIN:DAYLIGHT
TZOFFSETFROM:-0500
TZOFFSETTO:-0400
TZNAME:EDT
DTSTART:20240310T070000
END:DAYLIGHT
BEGIN:STANDARD
TZOFFSETFROM:-0400
TZOFFSETTO:-0500
TZNAME:EST
DTSTART:20241103T060000
END:STANDARD
BEGIN:DAYLIGHT
TZOFFSETFROM:-0500
TZOFFSETTO:-0400
TZNAME:EDT
DTSTART:20250309T070000
END:DAYLIGHT
BEGIN:STANDARD
TZOFFSETFROM:-0400
TZOFFSETTO:-0500
TZNAME:EST
DTSTART:20251102T060000
END:STANDARD
BEGIN:DAYLIGHT
TZOFFSETFROM:-0500
TZOFFSETTO:-0400
TZNAME:EDT
DTSTART:20260308T070000
END:DAYLIGHT
BEGIN:STANDARD
TZOFFSETFROM:-0400
TZOFFSETTO:-0500
TZNAME:EST
DTSTART:20261101T060000
END:STANDARD
END:VTIMEZONE
BEGIN:VEVENT
DTSTART;TZID=America/New_York:20251101T100000
DTEND;TZID=America/New_York:20251101T110000
DTSTAMP:20260422T190201
CREATED:20250919T201118Z
LAST-MODIFIED:20250919T201118Z
UID:10007313-1761991200-1761994800@www.wakedems.org
SUMMARY:Knightdale GOTV Canvass
DESCRIPTION:Join us as we canvass to support Grady Bussey for Knightdale Town Council! We will meet to hand out literature\, help with the miniVAN app\, and head out in pairs to talk to our neighbors about the importance of getting Democrats elected to our municipal boards. Water\, snacks\, and support will be provided. \nCan’t make it at 10 AM but want to canvass? Email knightdaledems@gmail.com to get connected. \nAnyone who signs up to attended will be vetted and sent the exact location on the evening before the canvass.
URL:https://www.wakedems.org/wcdp-event/knightdale-gotv-canvass/2025-11-01/
LOCATION:Location will be provided to registered attendees
CATEGORIES:GOTV Canvass 2025
ATTACH;FMTTYPE=image/jpeg:https://www.wakedems.org/wp-content/uploads/2023/08/Canvass2.jpg
ORGANIZER;CN="Knightdale Area Coordinators":MAILTO:knightdale.acs@wakedems.org
END:VEVENT
BEGIN:VEVENT
DTSTART;TZID=America/New_York:20251101T120000
DTEND;TZID=America/New_York:20251101T153000
DTSTAMP:20260422T190201
CREATED:20251022T042650Z
LAST-MODIFIED:20251024T194419Z
UID:10007576-1761998400-1762011000@www.wakedems.org
SUMMARY:GOTV Canvass: Fuquay-Varina
DESCRIPTION:Come knock doors with us! \nWe’ll be talking to Democrats and left-leaning voters that don’t vote consistently in midterms and municipal elections. The conversations we’ll have won’t just help us win every municipal election this fall — we’ll also be laying the groundwork to send Roy Cooper to the US Senate and re-elect Anita Earls in 2026! \nWe’ll provide training\, literature\, drinks\, and snacks. All you have to do is sign up and show up.
URL:https://www.wakedems.org/wcdp-event/gotv-canvass-fuquay-varina-3/
LOCATION:Location will be shared with those signed up to participate
CATEGORIES:Canvass,GOTV Canvass 2025
ATTACH;FMTTYPE=image/jpeg:https://www.wakedems.org/wp-content/uploads/2025/08/GOTV-Canvass-960x540-1.jpg
ORGANIZER;CN="Wake Dems":MAILTO:info@wakedems.org
END:VEVENT
BEGIN:VEVENT
DTSTART;TZID=America/New_York:20251101T153000
DTEND;TZID=America/New_York:20251101T170000
DTSTAMP:20260422T190201
CREATED:20251030T152637Z
LAST-MODIFIED:20251030T152637Z
UID:10007581-1762011000-1762016400@www.wakedems.org
SUMMARY:GOTV Canvass: Wendell / Zebulon
DESCRIPTION:Come knock doors with us! \nWe’ll be talking to Democrats and left-leaning voters that don’t vote consistently in midterms and municipal elections. The conversations we’ll have won’t just help us win every municipal election this fall — we’ll also be laying the groundwork to send Roy Cooper to the US Senate and re-elect Anita Earls in 2026! \nWe’ll provide training\, literature\, drinks\, and snacks. All you have to do is sign up and show up.
URL:https://www.wakedems.org/wcdp-event/gotv-canvass-wendell-zebulon/
LOCATION:Location will be shared with those signed up to participate
CATEGORIES:Canvass,GOTV Canvass 2025
ATTACH;FMTTYPE=image/jpeg:https://www.wakedems.org/wp-content/uploads/2025/08/GOTV-Canvass-960x540-1.jpg
ORGANIZER;CN="Wake Dems":MAILTO:info@wakedems.org
END:VEVENT
BEGIN:VEVENT
DTSTART;TZID=America/New_York:20251102T130000
DTEND;TZID=America/New_York:20251102T150000
DTSTAMP:20260422T190201
CREATED:20251006T225921Z
LAST-MODIFIED:20251006T225921Z
UID:10007541-1762088400-1762095600@www.wakedems.org
SUMMARY:Team Haseeb Canvass in Wake Forest
DESCRIPTION:Come out with Board of Commissioners Candidate Haseeb Fatmi to canvass in Wake Forest. \nWe’ll be knocking on Dem-friendly doors to make sure they come out to vote in the November 4th municipal election! \nWe’ll provide training.  All you have to do is sign up and show up. \nLocation will be provided to those who register in advance of the canvass date.
URL:https://www.wakedems.org/wcdp-event/team-haseeb-canvass-in-wake-forest/2025-11-02/
LOCATION:TBD
CATEGORIES:GOTV Canvass 2025
ATTACH;FMTTYPE=image/jpeg:https://www.wakedems.org/wp-content/uploads/2023/08/Canvass3.jpg
ORGANIZER;CN="Haseeb Fatmi":MAILTO:haseeb.fatmi@gmail.com
END:VEVENT
BEGIN:VEVENT
DTSTART;TZID=America/New_York:20251102T130000
DTEND;TZID=America/New_York:20251102T153000
DTSTAMP:20260422T190202
CREATED:20250826T014851Z
LAST-MODIFIED:20250906T012059Z
UID:10007011-1762088400-1762097400@www.wakedems.org
SUMMARY:GOTV Canvass: Wendell / Zebulon
DESCRIPTION:Come knock doors with us! \nWe’ll be talking to Democrats and left-leaning voters that don’t vote consistently in midterms and municipal elections. The conversations we’ll have won’t just help us win every municipal election this fall — we’ll also be laying the groundwork to send Roy Cooper to the US Senate and re-elect Anita Earls in 2026! \nWe’ll provide training\, literature\, drinks\, and snacks. All you have to do is sign up and show up.
URL:https://www.wakedems.org/wcdp-event/gotv-canvass-wendell-zebulon-fuquay-varina-11-02/
LOCATION:Location will be shared with those signed up to participate
CATEGORIES:Canvass,GOTV Canvass 2025
ATTACH;FMTTYPE=image/jpeg:https://www.wakedems.org/wp-content/uploads/2025/08/GOTV-Canvass-960x540-1.jpg
ORGANIZER;CN="Wake Dems":MAILTO:info@wakedems.org
END:VEVENT
BEGIN:VEVENT
DTSTART;TZID=America/New_York:20251102T130000
DTEND;TZID=America/New_York:20251102T153000
DTSTAMP:20260422T190202
CREATED:20250906T012112Z
LAST-MODIFIED:20251030T155351Z
UID:10007044-1762088400-1762097400@www.wakedems.org
SUMMARY:GOTV Canvass: Fuquay-Varina
DESCRIPTION:Come knock doors with us! \nWe’ll be talking to Democrats and left-leaning voters that don’t vote consistently in midterms and municipal elections. The conversations we’ll have won’t just help us win every municipal election this fall — we’ll also be laying the groundwork to send Roy Cooper to the US Senate and re-elect Anita Earls in 2026! \nWe’ll provide training\, literature\, drinks\, and snacks. All you have to do is sign up and show up.
URL:https://www.wakedems.org/wcdp-event/gotv-canvass-fuquay-varina/
LOCATION:Location will be shared with those signed up to participate
CATEGORIES:Canvass,GOTV Canvass 2025
ATTACH;FMTTYPE=image/jpeg:https://www.wakedems.org/wp-content/uploads/2025/08/GOTV-Canvass-960x540-1.jpg
ORGANIZER;CN="Wake Dems":MAILTO:info@wakedems.org
END:VEVENT
BEGIN:VEVENT
DTSTART;TZID=America/New_York:20251102T150000
DTEND;TZID=America/New_York:20251102T170000
DTSTAMP:20260422T190202
CREATED:20251023T164629Z
LAST-MODIFIED:20251102T202953Z
UID:10007575-1762095600-1762102800@www.wakedems.org
SUMMARY:[CANCELED] GOTV Wake Forest Finale Canvass!!!
DESCRIPTION:THIS EVENT HAS BEEN CANCELED \nCome join us for our last municipal canvass before the election.  We will be covering those last critical doors for the WIN!!!! \nWe’ll be talking to Democrats and left-leaning voters that don’t vote consistently in midterms and municipal elections. The conversations we’ll have won’t just help us win every municipal election this fall — we’ll also be laying the groundwork to send Roy Cooper to the US Senate and re-elect Anita Earls in 2026! \nWe’ll provide training.  All you have to do is sign up and show up.
URL:https://www.wakedems.org/wcdp-event/gotv-wake-forest-finale-canvass/
LOCATION:TBD
CATEGORIES:Canceled Events,GOTV Canvass 2025
ATTACH;FMTTYPE=image/jpeg:https://www.wakedems.org/wp-content/uploads/2023/08/Canvass3.jpg
ORGANIZER;CN="Northeast Wake AC's":MAILTO:northeastwake.acs@wakedems.org
END:VEVENT
BEGIN:VEVENT
DTSTART;TZID=America/New_York:20251102T153000
DTEND;TZID=America/New_York:20251102T170000
DTSTAMP:20260422T190202
CREATED:20251030T154547Z
LAST-MODIFIED:20251030T154547Z
UID:10007582-1762097400-1762102800@www.wakedems.org
SUMMARY:GOTV Canvass: Holly Springs
DESCRIPTION:Come knock doors with us! \nWe’ll be talking to Democrats and left-leaning voters that don’t vote consistently in midterms and municipal elections. The conversations we’ll have won’t just help us win every municipal election this fall — we’ll also be laying the groundwork to send Roy Cooper to the US Senate and re-elect Anita Earls in 2026! \nWe’ll provide training\, literature\, drinks\, and snacks. All you have to do is sign up and show up.
URL:https://www.wakedems.org/wcdp-event/gotv-canvass-holly-springs-3/
LOCATION:Location will be shared with those signed up to participate
CATEGORIES:Canvass,GOTV Canvass 2025
ATTACH;FMTTYPE=image/jpeg:https://www.wakedems.org/wp-content/uploads/2025/08/GOTV-Canvass-960x540-1.jpg
ORGANIZER;CN="Wake Dems":MAILTO:info@wakedems.org
END:VEVENT
END:VCALENDAR