BEGIN:VCALENDAR
VERSION:2.0
PRODID:-//Wake County Democratic Party - ECPv6.15.20//NONSGML v1.0//EN
CALSCALE:GREGORIAN
METHOD:PUBLISH
X-ORIGINAL-URL:https://www.wakedems.org
X-WR-CALDESC:Events for Wake County Democratic Party
REFRESH-INTERVAL;VALUE=DURATION:PT1H
X-Robots-Tag:noindex
X-PUBLISHED-TTL:PT1H
BEGIN:VTIMEZONE
TZID:America/New_York
BEGIN:DAYLIGHT
TZOFFSETFROM:-0500
TZOFFSETTO:-0400
TZNAME:EDT
DTSTART:20250309T070000
END:DAYLIGHT
BEGIN:STANDARD
TZOFFSETFROM:-0400
TZOFFSETTO:-0500
TZNAME:EST
DTSTART:20251102T060000
END:STANDARD
BEGIN:DAYLIGHT
TZOFFSETFROM:-0500
TZOFFSETTO:-0400
TZNAME:EDT
DTSTART:20260308T070000
END:DAYLIGHT
BEGIN:STANDARD
TZOFFSETFROM:-0400
TZOFFSETTO:-0500
TZNAME:EST
DTSTART:20261101T060000
END:STANDARD
BEGIN:DAYLIGHT
TZOFFSETFROM:-0500
TZOFFSETTO:-0400
TZNAME:EDT
DTSTART:20270314T070000
END:DAYLIGHT
BEGIN:STANDARD
TZOFFSETFROM:-0400
TZOFFSETTO:-0500
TZNAME:EST
DTSTART:20271107T060000
END:STANDARD
END:VTIMEZONE
BEGIN:VEVENT
DTSTART;TZID=America/New_York:20260323T183000
DTEND;TZID=America/New_York:20260323T194500
DTSTAMP:20260424T044859
CREATED:20260307T190234Z
LAST-MODIFIED:20260324T022402Z
UID:10008066-1774290600-1774295100@www.wakedems.org
SUMMARY:Precinct Officer 101 & Refresher Training
DESCRIPTION:Join us for “Precinct Officer 101 & Refresher Training” during which we will share information to support your success as a precinct leader. Topics and discussion will include: \n\nOur WCDP RoadMap\, including what’s new\, & priorities for 2026\nPrecinct Officer roles\, responsibilities\, resources\, & teamwork\nBuilding & using your precinct plan\nEngaging & motivating volunteers.\n\nPrecinct Officers\, Area Coordinators\, and Regional Vice Chairs are encouraged and welcome to attend. \nSign-ups for this event have been closed. \n 
URL:https://www.wakedems.org/wcdp-event/precinct-officer-101-refresher-training-2/
LOCATION:Virtual via Zoom
CATEGORIES:Training Event,Training Event Precinct Officer 101
ATTACH;FMTTYPE=image/jpeg:https://www.wakedems.org/wp-content/uploads/2023/08/TrainingEvent3.jpg
ORGANIZER;CN="Training Team":MAILTO:secondvc@wakedems.org
END:VEVENT
BEGIN:VEVENT
DTSTART;TZID=America/New_York:20260311T183000
DTEND;TZID=America/New_York:20260311T194500
DTSTAMP:20260424T044859
CREATED:20260307T174938Z
LAST-MODIFIED:20260318T171555Z
UID:10008064-1773253800-1773258300@www.wakedems.org
SUMMARY:Precinct Officer 101 & Refresher Training
DESCRIPTION:Join us for “Precinct Officer 101 & Refresher Training” during which we will share information to support your success as a precinct leader. Topics and discussion will include: \n\nOur WCDP RoadMap\, including what’s new\, & priorities for 2026\nPrecinct Officer roles\, responsibilities\, resources\, & teamwork\nBuilding & using your precinct plan\nEngaging & motivating volunteers.\n\nPrecinct Officers\, Area Coordinators\, and Regional Vice Chairs are encouraged and welcome to attend. \nSign-ups for this event have been closed.
URL:https://www.wakedems.org/wcdp-event/precinct-officer-101-refresher-training/
LOCATION:Virtual via Zoom
CATEGORIES:Training Event,Training Event Precinct Officer 101
ATTACH;FMTTYPE=image/jpeg:https://www.wakedems.org/wp-content/uploads/2023/08/TrainingEvent3.jpg
ORGANIZER;CN="Training Team":MAILTO:secondvc@wakedems.org
END:VEVENT
END:VCALENDAR