BEGIN:VCALENDAR
VERSION:2.0
PRODID:-//Wake County Democratic Party - ECPv6.15.20//NONSGML v1.0//EN
CALSCALE:GREGORIAN
METHOD:PUBLISH
X-WR-CALNAME:Wake County Democratic Party
X-ORIGINAL-URL:https://www.wakedems.org
X-WR-CALDESC:Events for Wake County Democratic Party
REFRESH-INTERVAL;VALUE=DURATION:PT1H
X-Robots-Tag:noindex
X-PUBLISHED-TTL:PT1H
BEGIN:VTIMEZONE
TZID:America/New_York
BEGIN:DAYLIGHT
TZOFFSETFROM:-0500
TZOFFSETTO:-0400
TZNAME:EDT
DTSTART:20250309T070000
END:DAYLIGHT
BEGIN:STANDARD
TZOFFSETFROM:-0400
TZOFFSETTO:-0500
TZNAME:EST
DTSTART:20251102T060000
END:STANDARD
BEGIN:DAYLIGHT
TZOFFSETFROM:-0500
TZOFFSETTO:-0400
TZNAME:EDT
DTSTART:20260308T070000
END:DAYLIGHT
BEGIN:STANDARD
TZOFFSETFROM:-0400
TZOFFSETTO:-0500
TZNAME:EST
DTSTART:20261101T060000
END:STANDARD
BEGIN:DAYLIGHT
TZOFFSETFROM:-0500
TZOFFSETTO:-0400
TZNAME:EDT
DTSTART:20270314T070000
END:DAYLIGHT
BEGIN:STANDARD
TZOFFSETFROM:-0400
TZOFFSETTO:-0500
TZNAME:EST
DTSTART:20271107T060000
END:STANDARD
END:VTIMEZONE
BEGIN:VEVENT
DTSTART;TZID=America/New_York:20260518T183000
DTEND;TZID=America/New_York:20260518T203000
DTSTAMP:20260421T074520
CREATED:20260113T015953Z
LAST-MODIFIED:20260113T020156Z
UID:10007906-1779129000-1779136200@www.wakedems.org
SUMMARY:Garner Dems on Tap
DESCRIPTION:
URL:https://www.wakedems.org/wcdp-event/garner-dems-on-tap/2026-05-18/
ATTACH;FMTTYPE=image/jpeg:https://www.wakedems.org/wp-content/uploads/2024/01/SocialEvent1.jpg
ORGANIZER;CN="South Wake VC":MAILTO:southwakevc@wakedems.org
END:VEVENT
BEGIN:VEVENT
DTSTART;TZID=America/New_York:20260615T183000
DTEND;TZID=America/New_York:20260615T203000
DTSTAMP:20260421T074520
CREATED:20260113T015953Z
LAST-MODIFIED:20260113T020156Z
UID:10007907-1781548200-1781555400@www.wakedems.org
SUMMARY:Garner Dems on Tap
DESCRIPTION:
URL:https://www.wakedems.org/wcdp-event/garner-dems-on-tap/2026-06-15/
ATTACH;FMTTYPE=image/jpeg:https://www.wakedems.org/wp-content/uploads/2024/01/SocialEvent1.jpg
ORGANIZER;CN="South Wake VC":MAILTO:southwakevc@wakedems.org
END:VEVENT
BEGIN:VEVENT
DTSTART;TZID=America/New_York:20260720T183000
DTEND;TZID=America/New_York:20260720T203000
DTSTAMP:20260421T074520
CREATED:20260113T015953Z
LAST-MODIFIED:20260113T020156Z
UID:10007908-1784572200-1784579400@www.wakedems.org
SUMMARY:Garner Dems on Tap
DESCRIPTION:
URL:https://www.wakedems.org/wcdp-event/garner-dems-on-tap/2026-07-20/
ATTACH;FMTTYPE=image/jpeg:https://www.wakedems.org/wp-content/uploads/2024/01/SocialEvent1.jpg
ORGANIZER;CN="South Wake VC":MAILTO:southwakevc@wakedems.org
END:VEVENT
BEGIN:VEVENT
DTSTART;TZID=America/New_York:20260817T183000
DTEND;TZID=America/New_York:20260817T203000
DTSTAMP:20260421T074520
CREATED:20260113T015953Z
LAST-MODIFIED:20260113T020156Z
UID:10007909-1786991400-1786998600@www.wakedems.org
SUMMARY:Garner Dems on Tap
DESCRIPTION:
URL:https://www.wakedems.org/wcdp-event/garner-dems-on-tap/2026-08-17/
ATTACH;FMTTYPE=image/jpeg:https://www.wakedems.org/wp-content/uploads/2024/01/SocialEvent1.jpg
ORGANIZER;CN="South Wake VC":MAILTO:southwakevc@wakedems.org
END:VEVENT
BEGIN:VEVENT
DTSTART;TZID=America/New_York:20260921T183000
DTEND;TZID=America/New_York:20260921T203000
DTSTAMP:20260421T074520
CREATED:20260113T015953Z
LAST-MODIFIED:20260113T020156Z
UID:10007910-1790015400-1790022600@www.wakedems.org
SUMMARY:Garner Dems on Tap
DESCRIPTION:
URL:https://www.wakedems.org/wcdp-event/garner-dems-on-tap/2026-09-21/
ATTACH;FMTTYPE=image/jpeg:https://www.wakedems.org/wp-content/uploads/2024/01/SocialEvent1.jpg
ORGANIZER;CN="South Wake VC":MAILTO:southwakevc@wakedems.org
END:VEVENT
END:VCALENDAR