BEGIN:VCALENDAR
VERSION:2.0
PRODID:-//Wake County Democratic Party - ECPv6.15.20//NONSGML v1.0//EN
CALSCALE:GREGORIAN
METHOD:PUBLISH
X-WR-CALNAME:Wake County Democratic Party
X-ORIGINAL-URL:https://www.wakedems.org
X-WR-CALDESC:Events for Wake County Democratic Party
REFRESH-INTERVAL;VALUE=DURATION:PT1H
X-Robots-Tag:noindex
X-PUBLISHED-TTL:PT1H
BEGIN:VTIMEZONE
TZID:America/New_York
BEGIN:DAYLIGHT
TZOFFSETFROM:-0500
TZOFFSETTO:-0400
TZNAME:EDT
DTSTART:20250309T070000
END:DAYLIGHT
BEGIN:STANDARD
TZOFFSETFROM:-0400
TZOFFSETTO:-0500
TZNAME:EST
DTSTART:20251102T060000
END:STANDARD
BEGIN:DAYLIGHT
TZOFFSETFROM:-0500
TZOFFSETTO:-0400
TZNAME:EDT
DTSTART:20260308T070000
END:DAYLIGHT
BEGIN:STANDARD
TZOFFSETFROM:-0400
TZOFFSETTO:-0500
TZNAME:EST
DTSTART:20261101T060000
END:STANDARD
BEGIN:DAYLIGHT
TZOFFSETFROM:-0500
TZOFFSETTO:-0400
TZNAME:EDT
DTSTART:20270314T070000
END:DAYLIGHT
BEGIN:STANDARD
TZOFFSETFROM:-0400
TZOFFSETTO:-0500
TZNAME:EST
DTSTART:20271107T060000
END:STANDARD
END:VTIMEZONE
BEGIN:VEVENT
DTSTART;TZID=America/New_York:20261006T183000
DTEND;TZID=America/New_York:20261006T200000
DTSTAMP:20260421T112021
CREATED:20260421T030621Z
LAST-MODIFIED:20260421T031030Z
UID:10008437-1791311400-1791316800@www.wakedems.org
SUMMARY:Precinct 15-03 Meeting
DESCRIPTION:This meeting is for voters registered in Precinct 15-03. The proposed agenda can include precinct information regarding upcoming precinct\, area and WCDP/NCDP events as well ad opportunities for candidate voter outreach events. We also will provide information on county and state happenings that affect our precinct.
URL:https://www.wakedems.org/wcdp-event/precinct-15-03-meeting-2/2026-10-06/
LOCATION:Panther Branch Community Center\, 10900 Ten-Ten Rd\, Garner\, NC\, 27529\, United States
CATEGORIES:Precinct Meetings & Events
ATTACH;FMTTYPE=image/jpeg:https://www.wakedems.org/wp-content/uploads/2023/08/PrecinctMeeting.jpg
ORGANIZER;CN="Precinct 15-03":MAILTO:ncwakecoprecinct1503@googlegroups.com
END:VEVENT
BEGIN:VEVENT
DTSTART;TZID=America/New_York:20261110T183000
DTEND;TZID=America/New_York:20261110T200000
DTSTAMP:20260421T112021
CREATED:20260421T030621Z
LAST-MODIFIED:20260421T031030Z
UID:10008438-1794335400-1794340800@www.wakedems.org
SUMMARY:Precinct 15-03 Meeting
DESCRIPTION:This meeting is for voters registered in Precinct 15-03. The proposed agenda can include precinct information regarding upcoming precinct\, area and WCDP/NCDP events as well ad opportunities for candidate voter outreach events. We also will provide information on county and state happenings that affect our precinct.
URL:https://www.wakedems.org/wcdp-event/precinct-15-03-meeting-2/2026-11-10/
LOCATION:Panther Branch Community Center\, 10900 Ten-Ten Rd\, Garner\, NC\, 27529\, United States
CATEGORIES:Precinct Meetings & Events
ATTACH;FMTTYPE=image/jpeg:https://www.wakedems.org/wp-content/uploads/2023/08/PrecinctMeeting.jpg
ORGANIZER;CN="Precinct 15-03":MAILTO:ncwakecoprecinct1503@googlegroups.com
END:VEVENT
BEGIN:VEVENT
DTSTART;TZID=America/New_York:20261201T183000
DTEND;TZID=America/New_York:20261201T200000
DTSTAMP:20260421T112021
CREATED:20260421T030621Z
LAST-MODIFIED:20260421T031030Z
UID:10008439-1796149800-1796155200@www.wakedems.org
SUMMARY:Precinct 15-03 Meeting
DESCRIPTION:This meeting is for voters registered in Precinct 15-03. The proposed agenda can include precinct information regarding upcoming precinct\, area and WCDP/NCDP events as well ad opportunities for candidate voter outreach events. We also will provide information on county and state happenings that affect our precinct.
URL:https://www.wakedems.org/wcdp-event/precinct-15-03-meeting-2/2026-12-01/
LOCATION:Panther Branch Community Center\, 10900 Ten-Ten Rd\, Garner\, NC\, 27529\, United States
CATEGORIES:Precinct Meetings & Events
ATTACH;FMTTYPE=image/jpeg:https://www.wakedems.org/wp-content/uploads/2023/08/PrecinctMeeting.jpg
ORGANIZER;CN="Precinct 15-03":MAILTO:ncwakecoprecinct1503@googlegroups.com
END:VEVENT
END:VCALENDAR